{"text_format":"1","workbook":"xlsx","n_sheets":3,"sheets":["cooperators-41","copie -liste sociétaireet donat","Donnateur"],"not_rendered":{"charts":0,"images":0,"macros":0,"external_links":0,"defined_names":1,"comments":0,"pivot_tables":0},"unopened":[],"bounds":{"document_bytes":16777216,"sheet_cells":100000,"rows_first":2000,"rows_last":500,"rows_between":2000,"halvings":0,"cell_chars":16384,"cell_head_chars":4096},"cells_cut":0,"cells_raw":0,"read":"whole","date_system":"1900"}

{"sheet":"cooperators-41","index":0,"n_rows":436,"n_cols":36,"rows_kept":436,"cut":false,"hidden":false,"merged":[]}
["cooperator number","gender","name","firstname","other name","birthday","birhtday place","type","company name","vat","language","street","postal code","city","country","fiscal country","nationality","mobile","phone","email","bank account name","iban","bic","Concatainer","Donateur",2019,"2019 brut","2019 net",2020,"2020 brut","2020 net",2022,"2022 brut","2022 net","total  net"]
["ICEA-346","woman","Albarede","Carine",null,"1978-07-11","Lavaur","person",null,null,"fr","11 rue des églantines",31320,"Castanet Tolosan","FR","FR","FR","06 63 24 02 19",null,"carine_al@yahoo.fr",null,null,null,{"$f":"CONCATENATE(C2,\" \",D2)","v":"Albarede Carine"},null,null,{"$f":"Z2*2%","v":0},{"$f":"AA2-AA2*30%","v":0},100,{"$f":"AC2*2%","v":2},{"$f":"AD2-AD2*30%","v":1.4},100,{"$f":"AF2*1.57%","v":1.5700000000000003},{"$f":"AG2-AG2*30%","v":1.0990000000000002}]
["ICEA-292","man","Alberola","Jean-Marc"," .","1961-12-26","Carcassonne","person",null,null,"fr","18   rue des Pyrénées",31670,"Labège","FR","FR","FR","+3313 97 30 03",null,"jmarc.alberola@gmail.com","M ALBEROLA JEAN MARC","FR7612280000030424950123701","SORMFR2NXXX",{"$f":"CONCATENATE(C3,\" \",D3)","v":"Alberola Jean-Marc"},null,null,{"$f":"Z3*2%","v":0},{"$f":"AA3-AA3*30%","v":0},500,{"$f":"AC3*2%","v":10},{"$f":"AD3-AD3*30%","v":7},500,{"$f":"AF3*1.57%","v":7.8500000000000014},{"$f":"AG3-AG3*30%","v":5.495000000000001},{"$f":"AB3+AE3+AH3","v":12.495000000000001},{"$f":"CONCATENATE(\"2019/\",'cooperators-41'!AB3,\"Euros-2020/\",'cooperators-41'!AE3,\"Euros-2022/\",'cooperators-41'!AH3,\"Euros\")","v":"2019/0Euros-2020/7Euros-2022/5,495Euros"}]
["ICEA-400","woman","Arnould","Rachel",null,"1975-01-23","Courbevoie","person",null,null,"fr","4 allée des tamaris",31520,"Ramonville St Agne","FR","FR","FR",664272484,null,"arnould.rachel@gmail.com",null,null,null,{"$f":"CONCATENATE(C4,\" \",D4)","v":"Arnould Rachel"},null,null,{"$f":"Z4*2%","v":0},{"$f":"AA4-AA4*30%","v":0},null,{"$f":"AC4*2%","v":0},{"$f":"AD4-AD4*30%","v":0},50,{"$f":"AF4*1.57%","v":0.78500000000000014},{"$f":"AG4-AG4*30%","v":0.5495000000000001}]
["ICEA-333","woman","Aubert","Marion","Houles","1982-03-21","Frejus","person",null,null,"fr","2 imp du Midi",31450,"Ayguesvives","FR","FR","FR","06  64 30 34 04",null,"aubert.m@laposte.net",null,null,null,{"$f":"CONCATENATE(C5,\" \",D5)","v":"Aubert Marion"},null,null,{"$f":"Z5*2%","v":0},{"$f":"AA5-AA5*30%","v":0},200,{"$f":"AC5*2%","v":4},{"$f":"AD5-AD5*30%","v":2.8},200,{"$f":"AF5*1.57%","v":3.1400000000000006},{"$f":"AG5-AG5*30%","v":2.1980000000000004}]
["ICEA-274","man","Aublanc","Jérémie",null,"1983-11-21","Nancy","person",null,null,"fr","8 avenue du Vallon",31750,"Escalquens","FR","FR","FR","06 37 16 82 47",null,"jeremie.aublanc@yahoo.fr",null,null,null,{"$f":"CONCATENATE(C6,\" \",D6)","v":"Aublanc Jérémie"},null,null,{"$f":"Z6*2%","v":0},{"$f":"AA6-AA6*30%","v":0},500,{"$f":"AC6*2%","v":10},{"$f":"AD6-AD6*30%","v":7},500,{"$f":"AF6*1.57%","v":7.8500000000000014},{"$f":"AG6-AG6*30%","v":5.495000000000001}]
["ICEA-198","woman","AVRAMIDES","Elodie"," .","1982-08-20","Edessa (Grèce -99)","person",null,null,"fr","15 rue des Remparts",31450,"Montgiscard","FR","FR","FR","06 64 10 96 90",null,"elodie32@yahoo.com",null,null,null,{"$f":"CONCATENATE(C7,\" \",D7)","v":"AVRAMIDES Elodie"},null,500,{"$f":"Z7*2%","v":10},{"$f":"AA7-AA7*30%","v":7},500,{"$f":"AC7*2%","v":10},{"$f":"AD7-AD7*30%","v":7},500,{"$f":"AF7*1.57%","v":7.8500000000000014},{"$f":"AG7-AG7*30%","v":5.495000000000001}]
["ICEA-108","woman","AYMARD","Laure","Laure","1976-09-27","Ales","person",null,null,"fr","53   Boulevard de la Villette",75010,"Paris","FR","FR","FR","+3320 13 76 95",333362013769,"laure_aymard@yahoo.fr",null,null,null,{"$f":"CONCATENATE(C8,\" \",D8)","v":"AYMARD Laure"},null,150,{"$f":"Z8*2%","v":3},{"$f":"AA8-AA8*30%","v":2.1},150,{"$f":"AC8*2%","v":3},{"$f":"AD8-AD8*30%","v":2.1},150,{"$f":"AF8*1.57%","v":2.3550000000000004},{"$f":"AG8-AG8*30%","v":1.6485000000000003}]
["ICEA-414","man","BAGNERIS ","Bernard",null,"1959-11-18","Rieumes","person",null,null,"fr","0 Impasse du Barry",31320,"Castanet ","FR","FR","FR",33673635731,33561278985,"bernard.bagneris@laposte.net",null,"NULL",null,{"$f":"CONCATENATE(C9,\" \",D9)","v":"BAGNERIS  Bernard"},null,null,{"$f":"Z9*2%","v":0},{"$f":"AA9-AA9*30%","v":0},null,{"$f":"AC9*2%","v":0},{"$f":"AD9-AD9*30%","v":0},50,{"$f":"AF9*1.57%","v":0.78500000000000014},{"$f":"AG9-AG9*30%","v":0.5495000000000001}]
["ICEA-129","man","BALOSSO","Olivier",null,"1986-06-04","Clermont Ferrand","person",null,null,"fr","33 TER RUE VESTREPAIN BAT B4",31100,"TOULOUSE","FR","FR","FR",33628010079,null,"balosso.olivier@gmail.com","Olivier BALOSSO","FR7642559100000401878365756","CCOPFRPPXXX",{"$f":"CONCATENATE(C10,\" \",D10)","v":"BALOSSO Olivier"},null,500,{"$f":"Z10*2%","v":10},{"$f":"AA10-AA10*30%","v":7},500,{"$f":"AC10*2%","v":10},{"$f":"AD10-AD10*30%","v":7},500,{"$f":"AF10*1.57%","v":7.8500000000000014},{"$f":"AG10-AG10*30%","v":5.495000000000001},{"$f":"AB10+AE10+AH10","v":19.495000000000001},{"$f":"CONCATENATE(\"2019/\",'cooperators-41'!AB10,\"Euros-2020/\",'cooperators-41'!AE10,\"Euros-2022/\",'cooperators-41'!AH10,\"Euros\")","v":"2019/7Euros-2020/7Euros-2022/5,495Euros"}]
["ICEA-280","woman","Bandel","Astride",null,"1962-05-15","Bitche (57)","person",null,null,"fr","295 ch du Moulin",31320,"Aureville","FR","FR","FR","06 67 39 46 12",null,"ababa@laposte.net",null,null,null,{"$f":"CONCATENATE(C11,\" \",D11)","v":"Bandel Astride"},null,null,{"$f":"Z11*2%","v":0},{"$f":"AA11-AA11*30%","v":0},200,{"$f":"AC11*2%","v":4},{"$f":"AD11-AD11*30%","v":2.8},200,{"$f":"AF11*1.57%","v":3.1400000000000006},{"$f":"AG11-AG11*30%","v":2.1980000000000004}]
["ICEA-210","woman","Baret","Céline",null,"1971-11-27","Talence","person",null,null,"fr","Bat l'autan- Apt 201- 15 av Georges Brassens",31670,"Labège","FR","FR","FR","06 59 45 51 74",null,"celinebaret71@gmail.com",null,null,null,{"$f":"CONCATENATE(C12,\" \",D12)","v":"Baret Céline"},null,50,{"$f":"Z12*2%","v":1},{"$f":"AA12-AA12*30%","v":0.7},50,{"$f":"AC12*2%","v":1},{"$f":"AD12-AD12*30%","v":0.7},50,{"$f":"AF12*1.57%","v":0.78500000000000014},{"$f":"AG12-AG12*30%","v":0.5495000000000001}]
["ICEA-266","man","Barousse","Adrien",null,"1988-05-08","Toulouse","person",null,null,"fr","1133 Route de Fourquevaux",31450,"MONTLAUR","FR","FR","FR","06 72 50 37 01",null,"adrien.barousse@orange.fr",null,null,null,{"$f":"CONCATENATE(C13,\" \",D13)","v":"Barousse Adrien"},null,50,{"$f":"Z13*2%","v":1},{"$f":"AA13-AA13*30%","v":0.7},50,{"$f":"AC13*2%","v":1},{"$f":"AD13-AD13*30%","v":0.7},50,{"$f":"AF13*1.57%","v":0.78500000000000014},{"$f":"AG13-AG13*30%","v":0.5495000000000001}]
["ICEA-144","woman","Barousse","Annie",null,"1957-02-12","Toulouse","person",null,null,"fr","1133 route de Fourquevaux",31450,"Montlaur","FR","FR","FR","06 04 18 04 54",null,"francis.barousse@wanadoo.fr",null,null,null,{"$f":"CONCATENATE(C14,\" \",D14)","v":"Barousse Annie"},null,50,{"$f":"Z14*2%","v":1},{"$f":"AA14-AA14*30%","v":0.7},50,{"$f":"AC14*2%","v":1},{"$f":"AD14-AD14*30%","v":0.7},50,{"$f":"AF14*1.57%","v":0.78500000000000014},{"$f":"AG14-AG14*30%","v":0.5495000000000001}]
["ICEA-267","man","Barousse","Aude",null,"1986-04-16","Toulouse","person",null,null,"fr","1133 Route de Fourquevaux",31451,"MONTLAUR","FR","FR","FR","06 77 47 48 60",null,"aude.barousse@gmail.com",null,null,null,{"$f":"CONCATENATE(C15,\" \",D15)","v":"Barousse Aude"},null,50,{"$f":"Z15*2%","v":1},{"$f":"AA15-AA15*30%","v":0.7},50,{"$f":"AC15*2%","v":1},{"$f":"AD15-AD15*30%","v":0.7},50,{"$f":"AF15*1.57%","v":0.78500000000000014},{"$f":"AG15-AG15*30%","v":0.5495000000000001}]
["ICEA-132","man","Barousse","Francis",null,"1957-01-20","St Gaudens","person",null,null,"fr","1133 route de Fourquevaux",31450,"Montlaur","FR","FR","FR","06 04 18 04 54",null,"francis.barousse@wanadoo.fr",null,null,null,{"$f":"CONCATENATE(C16,\" \",D16)","v":"Barousse Francis"},null,50,{"$f":"Z16*2%","v":1},{"$f":"AA16-AA16*30%","v":0.7},50,{"$f":"AC16*2%","v":1},{"$f":"AD16-AD16*30%","v":0.7},50,{"$f":"AF16*1.57%","v":0.78500000000000014},{"$f":"AG16-AG16*30%","v":0.5495000000000001}]
["ICEA-185","man","BAROUSSE","JULIEN"," .","1984-12-13","TOULOUSE","person",null,null,"fr","1133 rte de fourquevaux",31450,"MONTLAUR","FR","FR","FR","06 48 30 32 51",null,"julien.barousse@gmail.com",null,null,null,{"$f":"CONCATENATE(C17,\" \",D17)","v":"BAROUSSE JULIEN"},null,50,{"$f":"Z17*2%","v":1},{"$f":"AA17-AA17*30%","v":0.7},50,{"$f":"AC17*2%","v":1},{"$f":"AD17-AD17*30%","v":0.7},50,{"$f":"AF17*1.57%","v":0.78500000000000014},{"$f":"AG17-AG17*30%","v":0.5495000000000001}]
["ICEA-157","woman","Barrau","Marie-Régine",null,"1961-12-26","Valence(82)","person",null,null,"fr","Avenue S Allende- Les ormes2 BatF2 Apt 39",31320,"Castanet Tolosan","FR","FR","FR","06 84 82 39 85",null,"mrbarrau@sfr.fr",null,null,null,{"$f":"CONCATENATE(C18,\" \",D18)","v":"Barrau Marie-Régine"},null,100,{"$f":"Z18*2%","v":2},{"$f":"AA18-AA18*30%","v":1.4},100,{"$f":"AC18*2%","v":2},{"$f":"AD18-AD18*30%","v":1.4},100,{"$f":"AF18*1.57%","v":1.5700000000000003},{"$f":"AG18-AG18*30%","v":1.0990000000000002}]
["ICEA-317","man","BASCOUL","Guillaume"," .","1987-02-02","Limoges","person",null,null,"fr","56   Chemin d'en roques",31450,"Ayguesvives","FR","FR","FR","+336 82 46 11 47",null,"gbascoul@gmail.com","BASCOUL Guillaume","FR7614518292670193788774016","FTNOFRP1XXX",{"$f":"CONCATENATE(C19,\" \",D19)","v":"BASCOUL Guillaume"},null,null,{"$f":"Z19*2%","v":0},{"$f":"AA19-AA19*30%","v":0},500,{"$f":"AC19*2%","v":10},{"$f":"AD19-AD19*30%","v":7},500,{"$f":"AF19*1.57%","v":7.8500000000000014},{"$f":"AG19-AG19*30%","v":5.495000000000001},{"$f":"AB19+AE19+AH19","v":12.495000000000001},{"$f":"CONCATENATE(\"2019/\",'cooperators-41'!AB19,\"Euros-2020/\",'cooperators-41'!AE19,\"Euros-2022/\",'cooperators-41'!AH19,\"Euros\")","v":"2019/0Euros-2020/7Euros-2022/5,495Euros"}]
["ICEA-394","woman","BASCOUL","Noémie",null,"2018-09-08","Toulouse","gardian",null,null,"fr","56   Chemin d'en roques",31450,"Ayguesvives","FR","FR","FR",33682461147,null,"gbascoul@gmail.com","BASCOUL NOEMIE","FR7614518292670782694284041","FTNOFRP1XXX",{"$f":"CONCATENATE(C20,\" \",D20)","v":"BASCOUL Noémie"},null,null,{"$f":"Z20*2%","v":0},{"$f":"AA20-AA20*30%","v":0},null,{"$f":"AC20*2%","v":0},{"$f":"AD20-AD20*30%","v":0},500,{"$f":"AF20*1.57%","v":7.8500000000000014},{"$f":"AG20-AG20*30%","v":5.495000000000001},{"$f":"AB20+AE20+AH20","v":5.495000000000001},{"$f":"CONCATENATE(\"2019/\",'cooperators-41'!AB20,\"Euros-2020/\",'cooperators-41'!AE20,\"Euros-2022/\",'cooperators-41'!AH20,\"Euros\")","v":"2019/0Euros-2020/0Euros-2022/5,495Euros"}]
["ICEA-336","woman","BASCOUL","OLIVIA",".","2016-09-15","TOULOUSE","gardian",null,null,"fr","56   Chemin d'en roques",31450,"Ayguesvives","FR","FR","FR",null,null,"gbascoul@gmail.com","BASCOUL OLIVIA","FR7614518292670224166874049","FTNOFRP1XXX",{"$f":"CONCATENATE(C21,\" \",D21)","v":"BASCOUL OLIVIA"},null,null,{"$f":"Z21*2%","v":0},{"$f":"AA21-AA21*30%","v":0},500,{"$f":"AC21*2%","v":10},{"$f":"AD21-AD21*30%","v":7},500,{"$f":"AF21*1.57%","v":7.8500000000000014},{"$f":"AG21-AG21*30%","v":5.495000000000001},{"$f":"AB21+AE21+AH21","v":12.495000000000001},{"$f":"CONCATENATE(\"2019/\",'cooperators-41'!AB21,\"Euros-2020/\",'cooperators-41'!AE21,\"Euros-2022/\",'cooperators-41'!AH21,\"Euros\")","v":"2019/0Euros-2020/7Euros-2022/5,495Euros"}]
["ICEA-124","woman","BENTO","Aida","Boulanger","1951-06-01","Portugal","person",null,null,"fr","20   rue du vivier",31650,"St Orens de Gameville","FR","FR","FR","+336 41 47 43",null,"h.boulanger31@orange.fr","BOULANGER HERVE OU AIDA","FR7613106005001820821510135","AGRIFRPP831",{"$f":"CONCATENATE(C22,\" \",D22)","v":"BENTO Aida"},null,600,{"$f":"Z22*2%","v":12},{"$f":"AA22-AA22*30%","v":8.4},600,{"$f":"AC22*2%","v":12},{"$f":"AD22-AD22*30%","v":8.4},600,{"$f":"AF22*1.57%","v":9.4200000000000017},{"$f":"AG22-AG22*30%","v":6.5940000000000012},{"$f":"AB22+AE22+AH22","v":23.394000000000002},{"$f":"CONCATENATE(\"2019/\",'cooperators-41'!AB22,\"Euros-2020/\",'cooperators-41'!AE22,\"Euros-2022/\",'cooperators-41'!AH22,\"Euros\")","v":"2019/8,4Euros-2020/8,4Euros-2022/6,594Euros"}]
["ICEA-301","woman","BERNARD","NELLY"," .BLAES","1953-05-18","LYON","person",null,null,"fr","12 ALLÉE DE QUEYRATZ",31320,"Auzeville Tolosane","FR","FR","FR","06 72 52 31 25",null,"n.blaes@laposte.net",null,null,null,{"$f":"CONCATENATE(C23,\" \",D23)","v":"BERNARD NELLY"},null,null,{"$f":"Z23*2%","v":0},{"$f":"AA23-AA23*30%","v":0},500,{"$f":"AC23*2%","v":10},{"$f":"AD23-AD23*30%","v":7},500,{"$f":"AF23*1.57%","v":7.8500000000000014},{"$f":"AG23-AG23*30%","v":5.495000000000001}]
["ICEA-42","woman","Bernard","Pascale",null,"1964-09-02","Narbonne(11)","person",null,null,"fr","18   RUE DES PYRENEES",31670,"Labège","FR","FR","FR","+3361 39 85 02",33682232693,"pa.bernard31@gmail.com","BERNARD PASCALE","FR7610278022920002000730171","CMCCIFR2A",{"$f":"CONCATENATE(C24,\" \",D24)","v":"Bernard Pascale"},null,500,{"$f":"Z24*2%","v":10},{"$f":"AA24-AA24*30%","v":7},500,{"$f":"AC24*2%","v":10},{"$f":"AD24-AD24*30%","v":7},500,{"$f":"AF24*1.57%","v":7.8500000000000014},{"$f":"AG24-AG24*30%","v":5.495000000000001},{"$f":"AB24+AE24+AH24","v":19.495000000000001},{"$f":"CONCATENATE(\"2019/\",'cooperators-41'!AB24,\"Euros-2020/\",'cooperators-41'!AE24,\"Euros-2022/\",'cooperators-41'!AH24,\"Euros\")","v":"2019/7Euros-2020/7Euros-2022/5,495Euros"}]
["ICEA-407","woman","besse","nicole",null,"1957-10-02","Uzès","person",null,null,"fr","1200 chemin des cassagnous",31870,"Lagardelle sur Lèze","FR","FR","FR","+337 68 28 84 63","+335 62 23 40 84 ","besse.lauret@free.fr",null,"NULL",null,{"$f":"CONCATENATE(C25,\" \",D25)","v":"besse nicole"},null,null,{"$f":"Z25*2%","v":0},{"$f":"AA25-AA25*30%","v":0},null,{"$f":"AC25*2%","v":0},{"$f":"AD25-AD25*30%","v":0},3000,{"$f":"AF25*1.57%","v":47.100000000000009},{"$f":"AG25-AG25*30%","v":32.970000000000006}]
["ICEA-200","woman","Billard","Bernadette","Messent","1947-09-23","Chalon/saone","person",null,null,"fr","7 ch du paradis",31450,"Belberaud","FR","FR","FR","05 61 83 44 55",null,"bernadette.messent@orange.fr",null,null,null,{"$f":"CONCATENATE(C26,\" \",D26)","v":"Billard Bernadette"},null,50,{"$f":"Z26*2%","v":1},{"$f":"AA26-AA26*30%","v":0.7},50,{"$f":"AC26*2%","v":1},{"$f":"AD26-AD26*30%","v":0.7},50,{"$f":"AF26*1.57%","v":0.78500000000000014},{"$f":"AG26-AG26*30%","v":0.5495000000000001}]
["ICEA-344","man","Bioulez","Eugène",null,"1941-07-14","Toulouse","person",null,null,"fr","7 rue des ménéstrels",31670,"Labège","FR","FR","FR","05 62 24 44 85",null,"bioulez.p@gmail.com ",null,null,null,{"$f":"CONCATENATE(C27,\" \",D27)","v":"Bioulez Eugène"},null,null,{"$f":"Z27*2%","v":0},{"$f":"AA27-AA27*30%","v":0},50,{"$f":"AC27*2%","v":1},{"$f":"AD27-AD27*30%","v":0.7},50,{"$f":"AF27*1.57%","v":0.78500000000000014},{"$f":"AG27-AG27*30%","v":0.5495000000000001}]
["ICEA-393","man","Blanchot ","Dominique ","Claude  Michel ","1955-11-12","Saint Maur des Fossés ","person",null,null,"fr","540   Route de l'Aouach",31870,"Beaumont sur Leze","FR","FR","FR",33677769843,33561082820,"dblanchot@wanadoo.fr","M ou Mme Dominique Blanchot","FR7613106005002000068418519","AGRIFRPP831",{"$f":"CONCATENATE(C28,\" \",D28)","v":"Blanchot  Dominique "},null,null,{"$f":"Z28*2%","v":0},{"$f":"AA28-AA28*30%","v":0},null,{"$f":"AC28*2%","v":0},{"$f":"AD28-AD28*30%","v":0},100,{"$f":"AF28*1.57%","v":1.5700000000000003},{"$f":"AG28-AG28*30%","v":1.0990000000000002},{"$f":"AB28+AE28+AH28","v":1.0990000000000002},{"$f":"CONCATENATE(\"2019/\",'cooperators-41'!AB28,\"Euros-2020/\",'cooperators-41'!AE28,\"Euros-2022/\",'cooperators-41'!AH28,\"Euros\")","v":"2019/0Euros-2020/0Euros-2022/1,099Euros"}]
["ICEA-61","man","Bolet","Gérard",null,"1953-03-19","Paris 13eme","person",null,null,"fr","1051 Ch de la Ginestière",31450,"Montbrun-Lauragais","FR","FR","FR","06 08 26 42 83",null,"gerard.bolet@gmail.com",null,null,null,{"$f":"CONCATENATE(C29,\" \",D29)","v":"Bolet Gérard"},null,500,{"$f":"Z29*2%","v":10},{"$f":"AA29-AA29*30%","v":7},500,{"$f":"AC29*2%","v":10},{"$f":"AD29-AD29*30%","v":7},500,{"$f":"AF29*1.57%","v":7.8500000000000014},{"$f":"AG29-AG29*30%","v":5.495000000000001}]
["ICEA-405","man","bouillot","vincent",null,"1979-07-21","amiens","person",null,null,"fr","28 avenue des pyrénées",31810,"VENERQUE","FR","FR","FR",33645613607,null,"vbouillot@gmail.com",null,"NULL",null,{"$f":"CONCATENATE(C30,\" \",D30)","v":"bouillot vincent"},null,null,{"$f":"Z30*2%","v":0},{"$f":"AA30-AA30*30%","v":0},null,{"$f":"AC30*2%","v":0},{"$f":"AD30-AD30*30%","v":0},250,{"$f":"AF30*1.57%","v":3.9250000000000007},{"$f":"AG30-AG30*30%","v":2.7475000000000005}]
["ICEA-125","man","Boulanger","Hervé","Jean","1951-08-18","Laon","person",null,null,"fr","20   rue du vivier",31650,"St Orens de Gameville","FR","FR","FR","+336 41 47 43",null,"h.boulanger31@orange.fr","BOULANGER HERVE OU AIDA","FR7613106005001820821510135","AGRIFRPP831",{"$f":"CONCATENATE(C31,\" \",D31)","v":"Boulanger Hervé"},null,600,{"$f":"Z31*2%","v":12},{"$f":"AA31-AA31*30%","v":8.4},600,{"$f":"AC31*2%","v":12},{"$f":"AD31-AD31*30%","v":8.4},600,{"$f":"AF31*1.57%","v":9.4200000000000017},{"$f":"AG31-AG31*30%","v":6.5940000000000012},{"$f":"AB31+AE31+AH31","v":23.394000000000002},{"$f":"CONCATENATE(\"2019/\",'cooperators-41'!AB31,\"Euros-2020/\",'cooperators-41'!AE31,\"Euros-2022/\",'cooperators-41'!AH31,\"Euros\")","v":"2019/8,4Euros-2020/8,4Euros-2022/6,594Euros"}]
["ICEA-193","man","BOULDOIRES","JEREMY",". ","2015-06-21","PARIS","gardian",null,null,"fr","7 Route de Villeneuve ",91580,"AUVERS","FR","FR","FR",null,null,"bouldoires1@gmail.com",null,null,null,{"$f":"CONCATENATE(C32,\" \",D32)","v":"BOULDOIRES JEREMY"},null,200,{"$f":"Z32*2%","v":4},{"$f":"AA32-AA32*30%","v":2.8},200,{"$f":"AC32*2%","v":4},{"$f":"AD32-AD32*30%","v":2.8},500,{"$f":"AF32*1.57%","v":7.8500000000000014},{"$f":"AG32-AG32*30%","v":5.495000000000001}]
["ICEA-321","woman","Bouquet","Fabienne","Wautelet","1979-08-01","Ruffec (16)","person",null,null,"fr","39 J chemin de Lasserre",31450,"Corronsac","FR","FR","FR","+336 77 12 15 29",null,"fabienne.wautelet@fractalzone.fr","Fabienne Wautelet","FR7610278022120002064010194","CMCIFR2A",{"$f":"CONCATENATE(C33,\" \",D33)","v":"Bouquet Fabienne"},null,null,{"$f":"Z33*2%","v":0},{"$f":"AA33-AA33*30%","v":0},100,{"$f":"AC33*2%","v":2},{"$f":"AD33-AD33*30%","v":1.4},100,{"$f":"AF33*1.57%","v":1.5700000000000003},{"$f":"AG33-AG33*30%","v":1.0990000000000002},{"$f":"AB33+AE33+AH33","v":2.4990000000000001},{"$f":"CONCATENATE(\"2019/\",'cooperators-41'!AB33,\"Euros-2020/\",'cooperators-41'!AE33,\"Euros-2022/\",'cooperators-41'!AH33,\"Euros\")","v":"2019/0Euros-2020/1,4Euros-2022/1,099Euros"}]
["ICEA-178","man","BOUTONNET","Félix",null,"2009-05-16","PARIS 12","gardian",null,null,"fr","6 TER Allée Chantecaille",31670,"LABEGE","FR","FR","FR","06 29 15 65 75",null,"laurence.duguy@laposte.net",null,null,null,{"$f":"CONCATENATE(C34,\" \",D34)","v":"BOUTONNET Félix"},null,50,{"$f":"Z34*2%","v":1},{"$f":"AA34-AA34*30%","v":0.7},50,{"$f":"AC34*2%","v":1},{"$f":"AD34-AD34*30%","v":0.7},50,{"$f":"AF34*1.57%","v":0.78500000000000014},{"$f":"AG34-AG34*30%","v":0.5495000000000001}]
["ICEA-177","man","BOUTONNET","Justin",null,"2005-11-29","PARIS 12","gardian",null,null,"fr","6 TER Allée Chantecaille",31670,"LABEGE","FR","FR","FR","06 29 15 65 75",null,"laurence.duguy@laposte.net",null,null,null,{"$f":"CONCATENATE(C35,\" \",D35)","v":"BOUTONNET Justin"},null,50,{"$f":"Z35*2%","v":1},{"$f":"AA35-AA35*30%","v":0.7},50,{"$f":"AC35*2%","v":1},{"$f":"AD35-AD35*30%","v":0.7},50,{"$f":"AF35*1.57%","v":0.78500000000000014},{"$f":"AG35-AG35*30%","v":0.5495000000000001}]
["ICEA-51","woman","Boyer","Florence","Galinier","1960-08-22","Mazamet (81)","person",null,null,"fr","9 ch de la fontaine St Sernin",31670,"Labège","FR","FR","FR","06 07 41 31 47",null,"migali@club-internet.fr",null,null,null,{"$f":"CONCATENATE(C36,\" \",D36)","v":"Boyer Florence"},null,500,{"$f":"Z36*2%","v":10},{"$f":"AA36-AA36*30%","v":7},500,{"$f":"AC36*2%","v":10},{"$f":"AD36-AD36*30%","v":7},500,{"$f":"AF36*1.57%","v":7.8500000000000014},{"$f":"AG36-AG36*30%","v":5.495000000000001}]
["ICEA-140","man","BRAAK","le maire Laurent","Laurent","2018-06-01",null,"company","Commune de Montbrun",null,"fr","2 pl R Hebard",31450,"Montbrun-Lauragais","FR","FR","FR",null,null,"mairie@montbrun-lauragais.fr",null,null,null,{"$f":"CONCATENATE(C37,\" \",D37)","v":"BRAAK le maire Laurent"},null,250,{"$f":"Z37*2%","v":5},{"$f":"AA37-AA37*30%","v":3.5},250,{"$f":"AC37*2%","v":5},{"$f":"AD37-AD37*30%","v":3.5},250,{"$f":"AF37*1.57%","v":3.9250000000000007},{"$f":"AG37-AG37*30%","v":2.7475000000000005}]
["ICEA-402","woman","BRACKENIER","Marion",null,"1992-11-06","Paris","person",null,null,"fr","31 rue des Gironis -1ET Ap58 Parc Capitouls Bat C",31100,"Toulouse","FR","FR","FR",33780512616,null,"specialtune@hotmail.fr","Brackenier","FR4420041010161210368J03712","PSSTFRPPTOU",{"$f":"CONCATENATE(C38,\" \",D38)","v":"BRACKENIER Marion"},null,null,{"$f":"Z38*2%","v":0},{"$f":"AA38-AA38*30%","v":0},null,{"$f":"AC38*2%","v":0},{"$f":"AD38-AD38*30%","v":0},50,{"$f":"AF38*1.57%","v":0.78500000000000014},{"$f":"AG38-AG38*30%","v":0.5495000000000001},{"$f":"AB38+AE38+AH38","v":0.5495000000000001},{"$f":"CONCATENATE(\"2019/\",'cooperators-41'!AB38,\"Euros-2020/\",'cooperators-41'!AE38,\"Euros-2022/\",'cooperators-41'!AH38,\"Euros\")","v":"2019/0Euros-2020/0Euros-2022/0,5495Euros"}]
["ICEA-369","woman","Bras","Myriam","Bras-Grivart","1964-10-12","Toulouse","person",null,null,"fr","13 chemin de la bosse",31450,"Ayguesvives","FR","FR","FR","06 99 99 15 19",null,"myriam.bras.grivart@gmail.com",null,null,null,{"$f":"CONCATENATE(C39,\" \",D39)","v":"Bras Myriam"},null,null,{"$f":"Z39*2%","v":0},{"$f":"AA39-AA39*30%","v":0},500,{"$f":"AC39*2%","v":10},{"$f":"AD39-AD39*30%","v":7},500,{"$f":"AF39*1.57%","v":7.8500000000000014},{"$f":"AG39-AG39*30%","v":5.495000000000001}]
["ICEA-420","man","Bridonneau","Philippe",null,"1959-08-03","Paris 17 eme","person",null,null,"fr","5 chemin de Fournier bas",31320,"Rebigue","FR","FR","FR","06 32 35 92 27",null,"philippe.bridonneau@orange.fr",null,null,null,{"$f":"CONCATENATE(C40,\" \",D40)","v":"Bridonneau Philippe"},null,null,{"$f":"Z40*2%","v":0},{"$f":"AA40-AA40*30%","v":0},null,{"$f":"AC40*2%","v":0},{"$f":"AD40-AD40*30%","v":0},50,{"$f":"AF40*1.57%","v":0.78500000000000014},{"$f":"AG40-AG40*30%","v":0.5495000000000001}]
["ICEA-365","woman","Brioude","Sandrine"," Valette","1963-12-17","Aubenas","person",null,null,"fr","4 impasse soupetard",31670,"Labege","FR","FR","FR","06 58 57 53 48",null,"Jjvalette@gmail.com",null,null,null,{"$f":"CONCATENATE(C41,\" \",D41)","v":"Brioude Sandrine"},null,null,{"$f":"Z41*2%","v":0},{"$f":"AA41-AA41*30%","v":0},500,{"$f":"AC41*2%","v":10},{"$f":"AD41-AD41*30%","v":7},500,{"$f":"AF41*1.57%","v":7.8500000000000014},{"$f":"AG41-AG41*30%","v":5.495000000000001}]
["ICEA-282","man","Brun","François"," .","1979-05-25","Sarreguemines","person",null,null,"fr","24 allee des PLATANES",31320,"PECHABOU","FR","FR","FR","06 25 78 29 94",null,"francoisbrun31@gmail.com",null,null,null,{"$f":"CONCATENATE(C42,\" \",D42)","v":"Brun François"},null,null,{"$f":"Z42*2%","v":0},{"$f":"AA42-AA42*30%","v":0},250,{"$f":"AC42*2%","v":5},{"$f":"AD42-AD42*30%","v":3.5},250,{"$f":"AF42*1.57%","v":3.9250000000000007},{"$f":"AG42-AG42*30%","v":2.7475000000000005}]
["ICEA-345","man","Bruyant","Nicolas"," .","1982-05-29","Chambery","person",null,null,"fr","24   rue des géraniums",31400,"Toulouse","FR","FR","FR","+3362 28 42 47",null,"bruyant.nicolas@gmail.com","Bruyant","FR7642559100000412743153978","CCOPFRPPXXX",{"$f":"CONCATENATE(C43,\" \",D43)","v":"Bruyant Nicolas"},null,null,{"$f":"Z43*2%","v":0},{"$f":"AA43-AA43*30%","v":0},500,{"$f":"AC43*2%","v":10},{"$f":"AD43-AD43*30%","v":7},500,{"$f":"AF43*1.57%","v":7.8500000000000014},{"$f":"AG43-AG43*30%","v":5.495000000000001},{"$f":"AB43+AE43+AH43","v":12.495000000000001},{"$f":"CONCATENATE(\"2019/\",'cooperators-41'!AB43,\"Euros-2020/\",'cooperators-41'!AE43,\"Euros-2022/\",'cooperators-41'!AH43,\"Euros\")","v":"2019/0Euros-2020/7Euros-2022/5,495Euros"}]
["ICEA-278","man","BUISSON","Francois"," .","1957-09-27","Montereau (France)","person",null,null,"fr","16   Avenue de Gameville",31650,"SaintOrens","FR","FR","FR","+3370 03 45 44",null,"francois.buisson3@orange.fr","Buisson Francois","FR7630003020690005219043729","SOGEFRPP",{"$f":"CONCATENATE(C44,\" \",D44)","v":"BUISSON Francois"},null,null,{"$f":"Z44*2%","v":0},{"$f":"AA44-AA44*30%","v":0},500,{"$f":"AC44*2%","v":10},{"$f":"AD44-AD44*30%","v":7},500,{"$f":"AF44*1.57%","v":7.8500000000000014},{"$f":"AG44-AG44*30%","v":5.495000000000001},{"$f":"AB44+AE44+AH44","v":12.495000000000001},{"$f":"CONCATENATE(\"2019/\",'cooperators-41'!AB44,\"Euros-2020/\",'cooperators-41'!AE44,\"Euros-2022/\",'cooperators-41'!AH44,\"Euros\")","v":"2019/0Euros-2020/7Euros-2022/5,495Euros"}]
["ICEA-152","woman","CAILLE--DUMONT","ANGELE",null,"2011-09-23","TOULOUSE","gardian",null,null,"fr","2044 route du lac, Roquefoulet",31560,"MONTGEARD","FR","FR","FR","06 86 90 85 41",null,"caillejerome@yahoo.fr",null,null,null,{"$f":"CONCATENATE(C45,\" \",D45)","v":"CAILLE--DUMONT ANGELE"},null,50,{"$f":"Z45*2%","v":1},{"$f":"AA45-AA45*30%","v":0.7},50,{"$f":"AC45*2%","v":1},{"$f":"AD45-AD45*30%","v":0.7},50,{"$f":"AF45*1.57%","v":0.78500000000000014},{"$f":"AG45-AG45*30%","v":0.5495000000000001}]
["ICEA-153","man","CAILLE--DUMONT","LIAM",null,"2008-06-08","TOULOUSE","gardian",null,null,"fr","2044 route du lac, Roquefoulet",31560,"MONTGEARD","FR","FR","FR","06 86 90 85 41",null,"caillejerome@yahoo.fr",null,null,null,{"$f":"CONCATENATE(C46,\" \",D46)","v":"CAILLE--DUMONT LIAM"},null,50,{"$f":"Z46*2%","v":1},{"$f":"AA46-AA46*30%","v":0.7},50,{"$f":"AC46*2%","v":1},{"$f":"AD46-AD46*30%","v":0.7},50,{"$f":"AF46*1.57%","v":0.78500000000000014},{"$f":"AG46-AG46*30%","v":0.5495000000000001}]
["ICEA-33","man","Carbonne","Francis",null,"1963-07-07","Toulouse (31)","person",null,null,"fr","34, chemin du ruisseau de Fontbazy",31450,"Donneville","FR","FR","FR","05 61 81 22 72",null,"f.carbonne@orange.fr",null,null,null,{"$f":"CONCATENATE(C47,\" \",D47)","v":"Carbonne Francis"},null,100,{"$f":"Z47*2%","v":2},{"$f":"AA47-AA47*30%","v":1.4},100,{"$f":"AC47*2%","v":2},{"$f":"AD47-AD47*30%","v":1.4},100,{"$f":"AF47*1.57%","v":1.5700000000000003},{"$f":"AG47-AG47*30%","v":1.0990000000000002}]
["ICEA-167","woman","CARLIER","MARTINE","CHARPENTEAU","1950-04-10","DIJON (21)","person",null,null,"fr","20 rue des pinsons",31520,"RAMONVILLE","FR","FR","FR","07 67 33 72 93",null,"m.charpenteau@yahoo.fr",null,null,null,{"$f":"CONCATENATE(C48,\" \",D48)","v":"CARLIER MARTINE"},null,500,{"$f":"Z48*2%","v":10},{"$f":"AA48-AA48*30%","v":7},500,{"$f":"AC48*2%","v":10},{"$f":"AD48-AD48*30%","v":7},500,{"$f":"AF48*1.57%","v":7.8500000000000014},{"$f":"AG48-AG48*30%","v":5.495000000000001}]
["ICEA-107","man","Carrère","Benjamin",null,"1997-06-08","Toulouse","person",null,null,"fr","30 boulevard d'Arcole",31000,"Toulouse","FR","FR","FR",333942004,null,"be.carrere@gmail.com","CARRERE","FR7613106005002001147673111","AGRIFRPP831",{"$f":"CONCATENATE(C49,\" \",D49)","v":"Carrère Benjamin"},null,100,{"$f":"Z49*2%","v":2},{"$f":"AA49-AA49*30%","v":1.4},150,{"$f":"AC49*2%","v":3},{"$f":"AD49-AD49*30%","v":2.1},150,{"$f":"AF49*1.57%","v":2.3550000000000004},{"$f":"AG49-AG49*30%","v":1.6485000000000003},{"$f":"AB49+AE49+AH49","v":5.1485000000000003},{"$f":"CONCATENATE(\"2019/\",'cooperators-41'!AB49,\"Euros-2020/\",'cooperators-41'!AE49,\"Euros-2022/\",'cooperators-41'!AH49,\"Euros\")","v":"2019/1,4Euros-2020/2,1Euros-2022/1,6485Euros"}]
["ICEA-114","woman","Carrere","Pauline",null,"1992-07-06","Toulouse","person",null,null,"fr","710 route d'Espanes",31450,"Issus","FR","FR","FR","06 04 51 74 29",null,"pauline_carrere@hotmail.fr",null,null,null,{"$f":"CONCATENATE(C50,\" \",D50)","v":"Carrere Pauline"},null,100,{"$f":"Z50*2%","v":2},{"$f":"AA50-AA50*30%","v":1.4},150,{"$f":"AC50*2%","v":3},{"$f":"AD50-AD50*30%","v":2.1},150,{"$f":"AF50*1.57%","v":2.3550000000000004},{"$f":"AG50-AG50*30%","v":1.6485000000000003}]
["ICEA-173","man","Cassin","Michel",null,"1954-11-30","Agmé (47)","person",null,null,"fr","22 av de la Bourdette",31750,"Escalquens","FR","FR","FR","06 31 81 17 72",null,"michel.cassin@free.fr",null,null,null,{"$f":"CONCATENATE(C51,\" \",D51)","v":"Cassin Michel"},null,50,{"$f":"Z51*2%","v":1},{"$f":"AA51-AA51*30%","v":0.7},500,{"$f":"AC51*2%","v":10},{"$f":"AD51-AD51*30%","v":7},500,{"$f":"AF51*1.57%","v":7.8500000000000014},{"$f":"AG51-AG51*30%","v":5.495000000000001}]
["ICEA-163","man","Caujolle","Hervé",null,"1972-02-20","Argenteuil","person",null,null,"fr","37, rue d'Auriol",31400,"Toulouse","FR","FR","FR","06 09 24 87 40",null,"herve.caujolle@laposte.net",null,null,null,{"$f":"CONCATENATE(C52,\" \",D52)","v":"Caujolle Hervé"},null,50,{"$f":"Z52*2%","v":1},{"$f":"AA52-AA52*30%","v":0.7},50,{"$f":"AC52*2%","v":1},{"$f":"AD52-AD52*30%","v":0.7},50,{"$f":"AF52*1.57%","v":0.78500000000000014},{"$f":"AG52-AG52*30%","v":0.5495000000000001}]
["ICEA-254","woman","Cazales","Sylvie",null,"1977-09-24","Toulouse","person",null,null,"fr","8 allée de St Paul",31670,"Labège","FR","FR","FR","06 22 89 50 70",null,"sylvie.cazales@gmail.com",null,null,null,{"$f":"CONCATENATE(C53,\" \",D53)","v":"Cazales Sylvie"},null,100,{"$f":"Z53*2%","v":2},{"$f":"AA53-AA53*30%","v":1.4},100,{"$f":"AC53*2%","v":2},{"$f":"AD53-AD53*30%","v":1.4},100,{"$f":"AF53*1.57%","v":1.5700000000000003},{"$f":"AG53-AG53*30%","v":1.0990000000000002}]
["ICEA-341","woman","Chabot","Catherine"," Knödlseder","1973-03-19","Auxerre","person",null,null,"fr","7, allée des Jonquilles",31520,"Ramonville","FR","FR","FR","06 84 65 22 77",null,"kn.catherine@laposte.net",null,null,null,{"$f":"CONCATENATE(C54,\" \",D54)","v":"Chabot Catherine"},null,null,{"$f":"Z54*2%","v":0},{"$f":"AA54-AA54*30%","v":0},500,{"$f":"AC54*2%","v":10},{"$f":"AD54-AD54*30%","v":7},500,{"$f":"AF54*1.57%","v":7.8500000000000014},{"$f":"AG54-AG54*30%","v":5.495000000000001}]
["ICEA-242","woman","CHAPRON","AGNES"," HARTER","1962-04-16","CAEN","person",null,null,"fr","1 IMPASSE DE LA TUILERIE",31320,"CASTANET","FR","FR","FR","06 81 94 01 21",null,"agnes.harter@wanadoo.fr",null,null,null,{"$f":"CONCATENATE(C55,\" \",D55)","v":"CHAPRON AGNES"},null,100,{"$f":"Z55*2%","v":2},{"$f":"AA55-AA55*30%","v":1.4},200,{"$f":"AC55*2%","v":4},{"$f":"AD55-AD55*30%","v":2.8},200,{"$f":"AF55*1.57%","v":3.1400000000000006},{"$f":"AG55-AG55*30%","v":2.1980000000000004}]
["ICEA-43","man","Cherdo","Eric",null,"1965-10-03","Saint Brieuc","person",null,null,"fr","29 rue des Ménestrels ",31670,"Labège","FR","FR","FR","06 73 99 33 10",null,"cherdoe@gmail.com",null,null,null,{"$f":"CONCATENATE(C56,\" \",D56)","v":"Cherdo Eric"},null,500,{"$f":"Z56*2%","v":10},{"$f":"AA56-AA56*30%","v":7},500,{"$f":"AC56*2%","v":10},{"$f":"AD56-AD56*30%","v":7},500,{"$f":"AF56*1.57%","v":7.8500000000000014},{"$f":"AG56-AG56*30%","v":5.495000000000001}]
["ICEA-78","man","CHERUBIN"," le maire Laurent","Laurent","2020-05-12",null,"company","Commune de Labège",null,"fr","rue de la Croix Rose",31670,"Labège","FR","FR","FR",null,null,"cabinetmaire@ville-labege.fr",null,null,null,{"$f":"CONCATENATE(C57,\" \",D57)","v":"CHERUBIN  le maire Laurent"},null,500,{"$f":"Z57*2%","v":10},{"$f":"AA57-AA57*30%","v":7},500,{"$f":"AC57*2%","v":10},{"$f":"AD57-AD57*30%","v":7},500,{"$f":"AF57*1.57%","v":7.8500000000000014},{"$f":"AG57-AG57*30%","v":5.495000000000001}]
["ICEA-243","man","CHICOT","Le Vice-Président du SICOVAL Pascal","Pascal","2020-02-09",null,"company","SICOVAL",null,"fr","110 rue Marco Polo",31670,"Labège","FR","FR","FR","06 82 13 43 73",null,"p.chicot@castanet-tolosan.fr",null,null,null,{"$f":"CONCATENATE(C58,\" \",D58)","v":"CHICOT Le Vice-Président du SICOVAL Pascal"},null,null,{"$f":"Z58*2%","v":0},{"$f":"AA58-AA58*30%","v":0},10000,{"$f":"AC58*2%","v":200},{"$f":"AD58-AD58*30%","v":140},10000,{"$f":"AF58*1.57%","v":157.00000000000003},{"$f":"AG58-AG58*30%","v":109.90000000000002}]
["ICEA-174","woman","Combier","Jessica"," .","1991-02-13","St Cyr","person",null,null,"fr","2 chemin de la Plaine",31670,"Labège","FR","FR","FR","06 84 94 85 89",null,"jessica.combier@gmail.com",null,null,null,{"$f":"CONCATENATE(C59,\" \",D59)","v":"Combier Jessica"},null,50,{"$f":"Z59*2%","v":1},{"$f":"AA59-AA59*30%","v":0.7},50,{"$f":"AC59*2%","v":1},{"$f":"AD59-AD59*30%","v":0.7},50,{"$f":"AF59*1.57%","v":0.78500000000000014},{"$f":"AG59-AG59*30%","v":0.5495000000000001}]
["ICEA-12","woman","Comble","Christine",null,"1962-01-30","Seclin(59)","person",null,null,"fr","3,ch de Combe d'Oly",31320,"Castanet Tolosan","FR","FR","FR","06 34 55 27 92",null,"emeraude3156@gmail.com",null,null,null,{"$f":"CONCATENATE(C60,\" \",D60)","v":"Comble Christine"},null,300,{"$f":"Z60*2%","v":6},{"$f":"AA60-AA60*30%","v":4.2},300,{"$f":"AC60*2%","v":6},{"$f":"AD60-AD60*30%","v":4.2},300,{"$f":"AF60*1.57%","v":4.7100000000000009},{"$f":"AG60-AG60*30%","v":3.2970000000000006}]
["ICEA-314","woman","CONOR","ALIONA"," .","1996-09-06","LE CHESNAY","person",null,null,"fr","    Domaine de Montbrun",31450,"MONTBRUNLAURAGAIS","FR","FR","FR","+3343 76 44 47",null,"a.conor@outlook.fr","Mle Conor Aliona","FR9520041010161465015Z0356","PSSTFRPPTOU",{"$f":"CONCATENATE(C61,\" \",D61)","v":"CONOR ALIONA"},null,null,{"$f":"Z61*2%","v":0},{"$f":"AA61-AA61*30%","v":0},500,{"$f":"AC61*2%","v":10},{"$f":"AD61-AD61*30%","v":7},500,{"$f":"AF61*1.57%","v":7.8500000000000014},{"$f":"AG61-AG61*30%","v":5.495000000000001},{"$f":"AB61+AE61+AH61","v":12.495000000000001},{"$f":"CONCATENATE(\"2019/\",'cooperators-41'!AB61,\"Euros-2020/\",'cooperators-41'!AE61,\"Euros-2022/\",'cooperators-41'!AH61,\"Euros\")","v":"2019/0Euros-2020/7Euros-2022/5,495Euros"}]
["ICEA-312","man","CONOR","Bernard"," .","1955-06-18","Champs sur Tarentaine","person",null,null,"fr","13, domaine de Montbrun",31450,"MONTBRUNLAURAGAIS","FR","FR","FR","06 60 91 85 22",null,"conor.bernard@orange.fr",null,null,null,{"$f":"CONCATENATE(C62,\" \",D62)","v":"CONOR Bernard"},null,null,{"$f":"Z62*2%","v":0},{"$f":"AA62-AA62*30%","v":0},500,{"$f":"AC62*2%","v":10},{"$f":"AD62-AD62*30%","v":7},500,{"$f":"AF62*1.57%","v":7.8500000000000014},{"$f":"AG62-AG62*30%","v":5.495000000000001}]
["ICEA-315","man","CONOR","MAXIME"," .","2000-10-05","MURET","person",null,null,"fr","13, domaine de Montbrun",31450,"MONTBRUNLAURAGAIS","FR","FR","FR","06 42 95 00 90",null,"max.conor@hotmail.fr",null,null,null,{"$f":"CONCATENATE(C63,\" \",D63)","v":"CONOR MAXIME"},null,null,{"$f":"Z63*2%","v":0},{"$f":"AA63-AA63*30%","v":0},500,{"$f":"AC63*2%","v":10},{"$f":"AD63-AD63*30%","v":7},500,{"$f":"AF63*1.57%","v":7.8500000000000014},{"$f":"AG63-AG63*30%","v":5.495000000000001}]
["ICEA-316","man","CONOR","ZORIAN"," .","2001-11-15","MONTBRUNLAURAGAIS","person",null,null,"fr","13, domaine de Montbrun",31450,"MONTBRUNLAURAGAIS","FR","FR","FR","06 42 95 96 51",null,"oziran.conor@gmail.com",null,null,null,{"$f":"CONCATENATE(C64,\" \",D64)","v":"CONOR ZORIAN"},null,null,{"$f":"Z64*2%","v":0},{"$f":"AA64-AA64*30%","v":0},500,{"$f":"AC64*2%","v":10},{"$f":"AD64-AD64*30%","v":7},500,{"$f":"AF64*1.57%","v":7.8500000000000014},{"$f":"AG64-AG64*30%","v":5.495000000000001}]
["ICEA-238","man","Coppola","Anselma",null,"2009-10-08","Rouen","gardian",null,null,"fr","7 imp des Romains",31320,"Castanet Tolosan","FR","FR","FR","06 20 02 25 99",null,"karimacoppola@gmail.com",null,null,null,{"$f":"CONCATENATE(C65,\" \",D65)","v":"Coppola Anselma"},null,50,{"$f":"Z65*2%","v":1},{"$f":"AA65-AA65*30%","v":0.7},50,{"$f":"AC65*2%","v":1},{"$f":"AD65-AD65*30%","v":0.7},50,{"$f":"AF65*1.57%","v":0.78500000000000014},{"$f":"AG65-AG65*30%","v":0.5495000000000001}]
["ICEA-237","woman","Coppola","Marie-Amani",null,"2008-04-04","Rouen","gardian",null,null,"fr","7 imp des Romains",31320,"Castanet Tolosan","FR","FR","FR","06 20 02 25 99",null,"karimacoppola@gmail.com",null,null,null,{"$f":"CONCATENATE(C66,\" \",D66)","v":"Coppola Marie-Amani"},null,50,{"$f":"Z66*2%","v":1},{"$f":"AA66-AA66*30%","v":0.7},50,{"$f":"AC66*2%","v":1},{"$f":"AD66-AD66*30%","v":0.7},50,{"$f":"AF66*1.57%","v":0.78500000000000014},{"$f":"AG66-AG66*30%","v":0.5495000000000001}]
["ICEA-359","woman","Corberand","Coralie"," .","1999-04-08","Toulouse","person",null,null,"fr","8   rue ",31750,"Escalquens","FR","FR","FR","+3352 26 17 04",null,"coralie.corb@gmail.com","CORBERAND CORALIE","FR3630002040220000191621H93","CRLYFRPP",{"$f":"CONCATENATE(C67,\" \",D67)","v":"Corberand Coralie"},null,null,{"$f":"Z67*2%","v":0},{"$f":"AA67-AA67*30%","v":0},500,{"$f":"AC67*2%","v":10},{"$f":"AD67-AD67*30%","v":7},500,{"$f":"AF67*1.57%","v":7.8500000000000014},{"$f":"AG67-AG67*30%","v":5.495000000000001},{"$f":"AB67+AE67+AH67","v":12.495000000000001},{"$f":"CONCATENATE(\"2019/\",'cooperators-41'!AB67,\"Euros-2020/\",'cooperators-41'!AE67,\"Euros-2022/\",'cooperators-41'!AH67,\"Euros\")","v":"2019/0Euros-2020/7Euros-2022/5,495Euros"}]
["ICEA-370","woman","Corberand","Julie"," .","1998-07-20","Toulouse","person",null,null,"fr","10, rue Henry Russell",31320,"PECHABOU","FR","FR","FR","06 18 26 70 90",null,"corberand.julie@gmail.com",null,null,null,{"$f":"CONCATENATE(C68,\" \",D68)","v":"Corberand Julie"},null,null,{"$f":"Z68*2%","v":0},{"$f":"AA68-AA68*30%","v":0},500,{"$f":"AC68*2%","v":10},{"$f":"AD68-AD68*30%","v":7},500,{"$f":"AF68*1.57%","v":7.8500000000000014},{"$f":"AG68-AG68*30%","v":5.495000000000001}]
["ICEA-358","woman","Corberand","Léa"," .","2001-08-30","Toulouse","person",null,null,"fr","8 rue du Mont Vallier",31750,"Escalquens","FR","FR","FR","06 52 23 77 38",null,"leacorb.vallier@gmail.com",null,null,null,{"$f":"CONCATENATE(C69,\" \",D69)","v":"Corberand Léa"},null,null,{"$f":"Z69*2%","v":0},{"$f":"AA69-AA69*30%","v":0},500,{"$f":"AC69*2%","v":10},{"$f":"AD69-AD69*30%","v":7},500,{"$f":"AF69*1.57%","v":7.8500000000000014},{"$f":"AG69-AG69*30%","v":5.495000000000001}]
["ICEA-63","man","Corberand","Philippe",null,"1966-01-15","Toulouse (31)","person",null,null,"fr","8 rue du Mont Vallier",31750,"Escalquens","FR","FR","FR","06 86 52 58 13 ",null,"cathphil@free.fr",null,null,null,{"$f":"CONCATENATE(C70,\" \",D70)","v":"Corberand Philippe"},null,5000,{"$f":"Z70*2%","v":100},{"$f":"AA70-AA70*30%","v":70},5000,{"$f":"AC70*2%","v":100},{"$f":"AD70-AD70*30%","v":70},5000,{"$f":"AF70*1.57%","v":78.500000000000014},{"$f":"AG70-AG70*30%","v":54.95000000000001}]
["ICEA-357","man","Corberand","Romain"," .","1996-01-17","Toulouse","person",null,null,"fr","8 rue du Mont Vallier",31750,"Escalquens","FR","FR","FR","06 18 38 00 28",null,"romain.corberand@gmail.com",null,null,null,{"$f":"CONCATENATE(C71,\" \",D71)","v":"Corberand Romain"},null,null,{"$f":"Z71*2%","v":0},{"$f":"AA71-AA71*30%","v":0},500,{"$f":"AC71*2%","v":10},{"$f":"AD71-AD71*30%","v":7},500,{"$f":"AF71*1.57%","v":7.8500000000000014},{"$f":"AG71-AG71*30%","v":5.495000000000001}]
["ICEA-253","man","Corderet","David",null,"1973-07-19","St Vallier","person",null,null,"fr","8 allée de St Paul",31670,"Labège","FR","FR","FR","06 14 68 50 15",null,"david.corderet@gmail.com",null,null,null,{"$f":"CONCATENATE(C72,\" \",D72)","v":"Corderet David"},null,200,{"$f":"Z72*2%","v":4},{"$f":"AA72-AA72*30%","v":2.8},200,{"$f":"AC72*2%","v":4},{"$f":"AD72-AD72*30%","v":2.8},200,{"$f":"AF72*1.57%","v":3.1400000000000006},{"$f":"AG72-AG72*30%","v":2.1980000000000004}]
["ICEA-335","woman","COSTE","Sandra"," .","1987-06-23","LIMOGES","person",null,null,"fr","56   Chemin d'en roques",31450,"Ayguesvives","FR","FR","FR","+3340 11 44 13",null,"sandracoste87@gmail.com","COSTE Sandra","FR7630004007450000058344467","BNPAFRPPXXX",{"$f":"CONCATENATE(C73,\" \",D73)","v":"COSTE Sandra"},null,null,{"$f":"Z73*2%","v":0},{"$f":"AA73-AA73*30%","v":0},500,{"$f":"AC73*2%","v":10},{"$f":"AD73-AD73*30%","v":7},500,{"$f":"AF73*1.57%","v":7.8500000000000014},{"$f":"AG73-AG73*30%","v":5.495000000000001},{"$f":"AB73+AE73+AH73","v":12.495000000000001},{"$f":"CONCATENATE(\"2019/\",'cooperators-41'!AB73,\"Euros-2020/\",'cooperators-41'!AE73,\"Euros-2022/\",'cooperators-41'!AH73,\"Euros\")","v":"2019/0Euros-2020/7Euros-2022/5,495Euros"}]
["ICEA-275","man","COTTE","Blaise",null,"1963-06-28","PARIS ","person",null,null,"fr","10 ROUTE DE CORRONSAC, LE VILLAGE",31450,"MONTBRUNLAURAGAIS","FR","FR","FR","06 87 82 47 61",null,"blaise.cotte@gmail.com",null,null,null,{"$f":"CONCATENATE(C74,\" \",D74)","v":"COTTE Blaise"},null,null,{"$f":"Z74*2%","v":0},{"$f":"AA74-AA74*30%","v":0},500,{"$f":"AC74*2%","v":10},{"$f":"AD74-AD74*30%","v":7},500,{"$f":"AF74*1.57%","v":7.8500000000000014},{"$f":"AG74-AG74*30%","v":5.495000000000001}]
["ICEA-355","man","Couderc","Patrick",null,"1954-07-06","Toulouse","person",null,null,"fr","4   allée de Bufevent",31320,"AUZEVILLE TOLOSANE","FR","FR","FR","+3319 11 95 27",null,"patrick.couderc6@orange.fr","COUDERC PATRICK","FR7613135000800414454850442","CEPAFRPP313",{"$f":"CONCATENATE(C75,\" \",D75)","v":"Couderc Patrick"},null,null,{"$f":"Z75*2%","v":0},{"$f":"AA75-AA75*30%","v":0},1000,{"$f":"AC75*2%","v":20},{"$f":"AD75-AD75*30%","v":14},1000,{"$f":"AF75*1.57%","v":15.700000000000003},{"$f":"AG75-AG75*30%","v":10.990000000000002},{"$f":"AB75+AE75+AH75","v":24.990000000000002},{"$f":"CONCATENATE(\"2019/\",'cooperators-41'!AB75,\"Euros-2020/\",'cooperators-41'!AE75,\"Euros-2022/\",'cooperators-41'!AH75,\"Euros\")","v":"2019/0Euros-2020/14Euros-2022/10,99Euros"}]
["ICEA-168","man","Couderc","Romain",null,"1988-10-17","villefranche de rouergue","person",null,null,"fr","15 rue de Castanet",31400,"TOULOUSE","FR","FR","FR","06 48 06 62 20",null,"romcouderc@hotmail.fr",null,null,null,{"$f":"CONCATENATE(C76,\" \",D76)","v":"Couderc Romain"},null,50,{"$f":"Z76*2%","v":1},{"$f":"AA76-AA76*30%","v":0.7},50,{"$f":"AC76*2%","v":1},{"$f":"AD76-AD76*30%","v":0.7},50,{"$f":"AF76*1.57%","v":0.78500000000000014},{"$f":"AG76-AG76*30%","v":0.5495000000000001}]
["ICEA-367","man","COURLET","Stéphane"," .","1972-11-12","Villeneuve-sur-Lot","person",null,null,"fr","1 rue Valette, Appt E603",31450,"POMPERTUZAT","FR","FR","FR","06 07 77 74 31",null,"icedrain44@gmail.com",null,null,null,{"$f":"CONCATENATE(C77,\" \",D77)","v":"COURLET Stéphane"},null,null,{"$f":"Z77*2%","v":0},{"$f":"AA77-AA77*30%","v":0},500,{"$f":"AC77*2%","v":10},{"$f":"AD77-AD77*30%","v":7},500,{"$f":"AF77*1.57%","v":7.8500000000000014},{"$f":"AG77-AG77*30%","v":5.495000000000001}]
["ICEA-257","man","Crasnier","Fabrice",null,"1969-05-31","Angers","person",null,null,"fr","18 av Paul Riquet",31670,"Labège","FR","FR","FR","06 14 49 39 20",null,"fabrice.crasnier@wanadoo.fr",null,null,null,{"$f":"CONCATENATE(C78,\" \",D78)","v":"Crasnier Fabrice"},null,null,{"$f":"Z78*2%","v":0},{"$f":"AA78-AA78*30%","v":0},50,{"$f":"AC78*2%","v":1},{"$f":"AD78-AD78*30%","v":0.7},50,{"$f":"AF78*1.57%","v":0.78500000000000014},{"$f":"AG78-AG78*30%","v":0.5495000000000001}]
["ICEA-139","man","Crouzil"," le maire Bernard",null,"2018-04-19",null,"company","Commune de Donneville",null,"fr","Place du Languedoc",31450,"Donneville","FR","FR","FR",null,null,"mairie-donneville@wanadoo.fr",null,null,null,{"$f":"CONCATENATE(C79,\" \",D79)","v":"Crouzil  le maire Bernard"},null,250,{"$f":"Z79*2%","v":5},{"$f":"AA79-AA79*30%","v":3.5},250,{"$f":"AC79*2%","v":5},{"$f":"AD79-AD79*30%","v":3.5},250,{"$f":"AF79*1.57%","v":3.9250000000000007},{"$f":"AG79-AG79*30%","v":2.7475000000000005}]
["ICEA-48","man","Crouzil","Bernard",null,"1956-01-29","Doneville","person",null,null,"fr","17 route Départementale 813",31450,"Donneville","FR","FR","FR","06 87 52 05 99",null,"bernard.crouzil@wanadoo.fr",null,null,null,{"$f":"CONCATENATE(C80,\" \",D80)","v":"Crouzil Bernard"},null,200,{"$f":"Z80*2%","v":4},{"$f":"AA80-AA80*30%","v":2.8},200,{"$f":"AC80*2%","v":4},{"$f":"AD80-AD80*30%","v":2.8},200,{"$f":"AF80*1.57%","v":3.1400000000000006},{"$f":"AG80-AG80*30%","v":2.1980000000000004}]
["ICEA-382","man","Culerrier","Raphael",null,"1973-02-20","senlis","person",null,null,"fr","30   rue des moulins",31450,"MONTGISCARD","FR","FR","FR","+3382 56 04 40",null,"rafcucu@gmail.com","Culerrier","FR7617807000120531916773640","CCBPFRPPTLS",{"$f":"CONCATENATE(C81,\" \",D81)","v":"Culerrier Raphael"},null,null,{"$f":"Z81*2%","v":0},{"$f":"AA81-AA81*30%","v":0},null,{"$f":"AC81*2%","v":0},{"$f":"AD81-AD81*30%","v":0},100,{"$f":"AF81*1.57%","v":1.5700000000000003},{"$f":"AG81-AG81*30%","v":1.0990000000000002},{"$f":"AB81+AE81+AH81","v":1.0990000000000002},{"$f":"CONCATENATE(\"2019/\",'cooperators-41'!AB81,\"Euros-2020/\",'cooperators-41'!AE81,\"Euros-2022/\",'cooperators-41'!AH81,\"Euros\")","v":"2019/0Euros-2020/0Euros-2022/1,099Euros"}]
["ICEA-261","woman","Da Silva","Elodie","Lassartesse","1986-12-30","Cahors","person",null,null,"fr","32 Ch de Canteloup",31670,"Labège","FR","FR","FR","06 32 82 14 33",null,"elodie.dasilvab@gmail.com",null,null,null,{"$f":"CONCATENATE(C82,\" \",D82)","v":"Da Silva Elodie"},null,50,{"$f":"Z82*2%","v":1},{"$f":"AA82-AA82*30%","v":0.7},50,{"$f":"AC82*2%","v":1},{"$f":"AD82-AD82*30%","v":0.7},50,{"$f":"AF82*1.57%","v":0.78500000000000014},{"$f":"AG82-AG82*30%","v":0.5495000000000001}]
["ICEA-262","woman","Da Silva","Marion","Da Silva","1989-01-30","Cahors","person",null,null,"fr","appt 5 29 av Marcel Langer",31400,"Toulouse","FR","FR","FR","06 07 82 26 37",null,"marion.dasilva99@gmail.com",null,null,null,{"$f":"CONCATENATE(C83,\" \",D83)","v":"Da Silva Marion"},null,50,{"$f":"Z83*2%","v":1},{"$f":"AA83-AA83*30%","v":0.7},50,{"$f":"AC83*2%","v":1},{"$f":"AD83-AD83*30%","v":0.7},50,{"$f":"AF83*1.57%","v":0.78500000000000014},{"$f":"AG83-AG83*30%","v":0.5495000000000001}]
["ICEA-205","man","Dal Zovo","Bruno"," .","1957-01-14","Agen","person",null,null,"fr","30 chemin Font Saint Sernin",31670,"Labege","FR","FR","FR","06 80 14 98 26",null,"bdzed@orange.fr",null,null,null,{"$f":"CONCATENATE(C84,\" \",D84)","v":"Dal Zovo Bruno"},null,50,{"$f":"Z84*2%","v":1},{"$f":"AA84-AA84*30%","v":0.7},50,{"$f":"AC84*2%","v":1},{"$f":"AD84-AD84*30%","v":0.7},50,{"$f":"AF84*1.57%","v":0.78500000000000014},{"$f":"AG84-AG84*30%","v":0.5495000000000001}]
["ICEA-259","man","Dal Zovo","Rémi",null,"1990-12-26","Toulouse","person",null,null,"fr","12 rue des oliviers",31450,"Deyme","FR","FR","FR","06 21 40 66 59",null,"remidz10@gmail.com",null,null,null,{"$f":"CONCATENATE(C85,\" \",D85)","v":"Dal Zovo Rémi"},null,50,{"$f":"Z85*2%","v":1},{"$f":"AA85-AA85*30%","v":0.7},50,{"$f":"AC85*2%","v":1},{"$f":"AD85-AD85*30%","v":0.7},50,{"$f":"AF85*1.57%","v":0.78500000000000014},{"$f":"AG85-AG85*30%","v":0.5495000000000001}]
["ICEA-260","man","Dal Zovo","Thomas",null,"1987-05-22","Toulouse","person",null,null,"fr","30 ch de Bessyre",31240,"St Jean","FR","FR","FR","06 40 14 63 06",null,"tdalzovo@gmail.com",null,null,null,{"$f":"CONCATENATE(C86,\" \",D86)","v":"Dal Zovo Thomas"},null,50,{"$f":"Z86*2%","v":1},{"$f":"AA86-AA86*30%","v":0.7},50,{"$f":"AC86*2%","v":1},{"$f":"AD86-AD86*30%","v":0.7},50,{"$f":"AF86*1.57%","v":0.78500000000000014},{"$f":"AG86-AG86*30%","v":0.5495000000000001}]
["ICEA-154","woman","Darcourt","Karine","Tropis","1976-03-05","Rodez (12)","person",null,null,"fr","8 chemin des Campares",31450,"Ayguesvives","FR","FR","FR","06 51 45 76 12",null,"karine.tropis@gmail.com",null,null,null,{"$f":"CONCATENATE(C87,\" \",D87)","v":"Darcourt Karine"},null,100,{"$f":"Z87*2%","v":2},{"$f":"AA87-AA87*30%","v":1.4},100,{"$f":"AC87*2%","v":2},{"$f":"AD87-AD87*30%","v":1.4},100,{"$f":"AF87*1.57%","v":1.5700000000000003},{"$f":"AG87-AG87*30%","v":1.0990000000000002}]
["ICEA-77","man","Dardel","Renaud",null,"1955-09-20","Philippeville","person",null,null,"fr","17 bis Ch Fontaine St Sernin",31670,"Labège","FR","FR","FR","06 13 75 33 47",null,"renaud.dardel@free.fr",null,null,null,{"$f":"CONCATENATE(C88,\" \",D88)","v":"Dardel Renaud"},null,500,{"$f":"Z88*2%","v":10},{"$f":"AA88-AA88*30%","v":7},500,{"$f":"AC88*2%","v":10},{"$f":"AD88-AD88*30%","v":7},500,{"$f":"AF88*1.57%","v":7.8500000000000014},{"$f":"AG88-AG88*30%","v":5.495000000000001}]
["ICEA-143","man","David","Bruno",null,"1959-05-20","Dôle","person",null,null,"fr","1 impasse du Pech",31750,"Escalquens","FR","FR","FR","06 07 67 89 58",null,"brunoxdavid@gmail.com",null,null,null,{"$f":"CONCATENATE(C89,\" \",D89)","v":"David Bruno"},null,250,{"$f":"Z89*2%","v":5},{"$f":"AA89-AA89*30%","v":3.5},250,{"$f":"AC89*2%","v":5},{"$f":"AD89-AD89*30%","v":3.5},250,{"$f":"AF89*1.57%","v":3.9250000000000007},{"$f":"AG89-AG89*30%","v":2.7475000000000005}]
["ICEA-239","woman","De grenier","Muriel","De Grenier-Clemendot","1966-03-21","Toulouse","person",null,null,"fr","639 ch de St Papoul",31450,"Odars","FR","FR","FR","06 81 52 16 61",null,"muriel.dgc@orange.fr",null,null,null,{"$f":"CONCATENATE(C90,\" \",D90)","v":"De grenier Muriel"},null,50,{"$f":"Z90*2%","v":1},{"$f":"AA90-AA90*30%","v":0.7},50,{"$f":"AC90*2%","v":1},{"$f":"AD90-AD90*30%","v":0.7},100,{"$f":"AF90*1.57%","v":1.5700000000000003},{"$f":"AG90-AG90*30%","v":1.0990000000000002}]
["ICEA-296","woman","Debril","Amelie","Debril","1994-11-30","St Priest en Jarez","person",null,null,"fr","79 avenue de la Gloire -Apt 170 Bat D",31500,"Toulouse","FR","FR","FR","06 43 29 15 38",null,"amelie.debril@gmail.com",null,null,null,{"$f":"CONCATENATE(C91,\" \",D91)","v":"Debril Amelie"},null,null,{"$f":"Z91*2%","v":0},{"$f":"AA91-AA91*30%","v":0},50,{"$f":"AC91*2%","v":1},{"$f":"AD91-AD91*30%","v":0.7},50,{"$f":"AF91*1.57%","v":0.78500000000000014},{"$f":"AG91-AG91*30%","v":0.5495000000000001}]
["ICEA-202","man","DECONINCK","JEAN LUC"," .","1958-07-12","SAMEON (59)","person",null,null,"fr","904 ROUTE DE MONTGISCARD  LE PEYRONNET ",31450,"MONTBRUNLAURAGAIS","FR","FR","FR","05 61 81 86 77",null,"jl.deco@wanadoo.fr",null,null,null,{"$f":"CONCATENATE(C92,\" \",D92)","v":"DECONINCK JEAN LUC"},null,500,{"$f":"Z92*2%","v":10},{"$f":"AA92-AA92*30%","v":7},500,{"$f":"AC92*2%","v":10},{"$f":"AD92-AD92*30%","v":7},500,{"$f":"AF92*1.57%","v":7.8500000000000014},{"$f":"AG92-AG92*30%","v":5.495000000000001}]
["ICEA-28","man","Delmas","Pascal",null,"1964-06-03","Albi (81)","person",null,null,"fr","9   chemin des maynardes",31670,"Labège","FR","FR","FR","+336 76 30 31 42",null,"pascal.delmas31@orange.fr","M et Mme DELMAS Pascal","FR7613135000800424199894623","CEPAFRPP313",{"$f":"CONCATENATE(C93,\" \",D93)","v":"Delmas Pascal"},null,500,{"$f":"Z93*2%","v":10},{"$f":"AA93-AA93*30%","v":7},500,{"$f":"AC93*2%","v":10},{"$f":"AD93-AD93*30%","v":7},500,{"$f":"AF93*1.57%","v":7.8500000000000014},{"$f":"AG93-AG93*30%","v":5.495000000000001},{"$f":"AB93+AE93+AH93","v":19.495000000000001},{"$f":"CONCATENATE(\"2019/\",'cooperators-41'!AB93,\"Euros-2020/\",'cooperators-41'!AE93,\"Euros-2022/\",'cooperators-41'!AH93,\"Euros\")","v":"2019/7Euros-2020/7Euros-2022/5,495Euros"}]
["ICEA-126","woman","Depaix","Elisabeth",null,"1965-03-23","Lyon","person",null,null,"fr","4 rue des Troubadours",31670,"Labège","FR","FR","FR","06 88 27 47 16",null,"elisa.depaix@free.fr",null,null,null,{"$f":"CONCATENATE(C94,\" \",D94)","v":"Depaix Elisabeth"},null,50,{"$f":"Z94*2%","v":1},{"$f":"AA94-AA94*30%","v":0.7},50,{"$f":"AC94*2%","v":1},{"$f":"AD94-AD94*30%","v":0.7},50,{"$f":"AF94*1.57%","v":0.78500000000000014},{"$f":"AG94-AG94*30%","v":0.5495000000000001}]
["ICEA-05","man","Depaux","Jean Marie",null,"1952-08-11","Epernay (51)","person",null,null,"fr","5, chemin du Val",31670,"Labège","FR","FR","FR","+3347 90 16 91",null,"jmm.depaux@wanadoo.fr","DEPAUX J M OU MME","FR7610268025861058240040090","COURFR2T",{"$f":"CONCATENATE(C95,\" \",D95)","v":"Depaux Jean Marie"},null,100,{"$f":"Z95*2%","v":2},{"$f":"AA95-AA95*30%","v":1.4},200,{"$f":"AC95*2%","v":4},{"$f":"AD95-AD95*30%","v":2.8},200,{"$f":"AF95*1.57%","v":3.1400000000000006},{"$f":"AG95-AG95*30%","v":2.1980000000000004},{"$f":"AB95+AE95+AH95","v":6.3979999999999997},{"$f":"CONCATENATE(\"2019/\",'cooperators-41'!AB95,\"Euros-2020/\",'cooperators-41'!AE95,\"Euros-2022/\",'cooperators-41'!AH95,\"Euros\")","v":"2019/1,4Euros-2020/2,8Euros-2022/2,198Euros"}]
["ICEA-437","woman","Desq","Josiane",null,"1956-01-21","Boulogne-Billancourt","person",null,null,"fr","chemin de Ducède",31190,"GREPIAC","FR","FR","FR",33665120224,null,"jdesq@aimi.ovh",null,null,null,{"$f":"CONCATENATE(C96,\" \",D96)","v":"Desq Josiane"},null,null,{"$f":"Z96*2%","v":0},{"$f":"AA96-AA96*30%","v":0},null,{"$f":"AC96*2%","v":0},{"$f":"AD96-AD96*30%","v":0},50,{"$f":"AF96*1.57%","v":0.78500000000000014},{"$f":"AG96-AG96*30%","v":0.5495000000000001}]
["ICEA-141","woman","Doerler","Bérangère","Doeler-benoit","1971-06-06","Paris VI","person",null,null,"fr","6 bis rueFrançois Miquel",31320,"Castanet Tolosan","FR","FR","FR","06 11 28 76 08",null,"berengere.doerler@wanadoo.fr",null,null,null,{"$f":"CONCATENATE(C97,\" \",D97)","v":"Doerler Bérangère"},null,50,{"$f":"Z97*2%","v":1},{"$f":"AA97-AA97*30%","v":0.7},50,{"$f":"AC97*2%","v":1},{"$f":"AD97-AD97*30%","v":0.7},50,{"$f":"AF97*1.57%","v":0.78500000000000014},{"$f":"AG97-AG97*30%","v":0.5495000000000001}]
["ICEA-411","man","DOUMERC","Jacques",null,"1950-09-18","Saint Prpjet","person",null,null,"fr","6 avenue du moulin vieux ",31810,"VENERQUE","FR","FR","FR",33608914292,null,"jacques.doumerc@orange.fr",null,"NULL",null,{"$f":"CONCATENATE(C98,\" \",D98)","v":"DOUMERC Jacques"},null,null,{"$f":"Z98*2%","v":0},{"$f":"AA98-AA98*30%","v":0},null,{"$f":"AC98*2%","v":0},{"$f":"AD98-AD98*30%","v":0},500,{"$f":"AF98*1.57%","v":7.8500000000000014},{"$f":"AG98-AG98*30%","v":5.495000000000001}]
["ICEA-15","man","Ducert","Claude",null,"1934-07-25","Martigny le Comte (71)","person",null,null,"fr","Appartement 3 – 9 rue Coluche ",31130,"Balma","FR","FR","FR","06 82 34 18 66",null,"ducert.toulouse@wanadoo.fr",null,null,null,{"$f":"CONCATENATE(C99,\" \",D99)","v":"Ducert Claude"},null,500,{"$f":"Z99*2%","v":10},{"$f":"AA99-AA99*30%","v":7},500,{"$f":"AC99*2%","v":10},{"$f":"AD99-AD99*30%","v":7},500,{"$f":"AF99*1.57%","v":7.8500000000000014},{"$f":"AG99-AG99*30%","v":5.495000000000001}]
["ICEA-176","woman","DUGUY","LAURENCE",null,"1973-12-23","LABEGE","person",null,null,"fr","6 TER Allée Chantecaille",31670,"LABEGE","FR","FR","FR","06 29 15 65 75",null,"laurence.duguy@laposte.net",null,null,null,{"$f":"CONCATENATE(C100,\" \",D100)","v":"DUGUY LAURENCE"},null,50,{"$f":"Z100*2%","v":1},{"$f":"AA100-AA100*30%","v":0.7},50,{"$f":"AC100*2%","v":1},{"$f":"AD100-AD100*30%","v":0.7},50,{"$f":"AF100*1.57%","v":0.78500000000000014},{"$f":"AG100-AG100*30%","v":0.5495000000000001}]
["ICEA-83","man","Dutard","Remi",null,"1976-05-28","Toulouse","person",null,null,"fr","18 rue Chatlas",31200,"Toulouse","FR","FR","FR","05 61 57 34 27 ",null,"remi_dutard@yahoo.fr",null,null,null,{"$f":"CONCATENATE(C101,\" \",D101)","v":"Dutard Remi"},null,500,{"$f":"Z101*2%","v":10},{"$f":"AA101-AA101*30%","v":7},500,{"$f":"AC101*2%","v":10},{"$f":"AD101-AD101*30%","v":7},500,{"$f":"AF101*1.57%","v":7.8500000000000014},{"$f":"AG101-AG101*30%","v":5.495000000000001}]
["ICEA-209","woman","Enjalbert","Gaelle",null,"1979-05-05","Mende (48)","person",null,null,"fr","    Chemin du Tricou",31670,"Labège","FR","FR","FR","+3398 54 71 65",null,"enjalbertgaelle-31@yahoo.fr","Enjalbert Gaelle","FR4620041010160640974C03737","PSSTFRPPTOU",{"$f":"CONCATENATE(C102,\" \",D102)","v":"Enjalbert Gaelle"},null,300,{"$f":"Z102*2%","v":6},{"$f":"AA102-AA102*30%","v":4.2},300,{"$f":"AC102*2%","v":6},{"$f":"AD102-AD102*30%","v":4.2},300,{"$f":"AF102*1.57%","v":4.7100000000000009},{"$f":"AG102-AG102*30%","v":3.2970000000000006},{"$f":"AB102+AE102+AH102","v":11.697000000000001},{"$f":"CONCATENATE(\"2019/\",'cooperators-41'!AB102,\"Euros-2020/\",'cooperators-41'!AE102,\"Euros-2022/\",'cooperators-41'!AH102,\"Euros\")","v":"2019/4,2Euros-2020/4,2Euros-2022/3,297Euros"}]
["ICEA-290","man","Espigat","Serge",null,"1977-08-15",null,"person",null,null,"fr","1 chemin de Pichanelle",31320,"Vielle-Toulouse","FR","FR","FR","06 80 33 61 95",null,"s.espigat@i-projectinvest.fr",null,null,null,{"$f":"CONCATENATE(C103,\" \",D103)","v":"Espigat Serge"},null,null,{"$f":"Z103*2%","v":0},{"$f":"AA103-AA103*30%","v":0},500,{"$f":"AC103*2%","v":10},{"$f":"AD103-AD103*30%","v":7},500,{"$f":"AF103*1.57%","v":7.8500000000000014},{"$f":"AG103-AG103*30%","v":5.495000000000001}]
["ICEA-424","woman","Estang","Nadia","Srali Lami","1966-10-08","Fès- Maroc","person",null,null,"fr","19 résidence des coteaux",31810,"VENERQUE","FR","FR","FR",615129046,null,"nadia.estang@wanadoo.fr",null,null,null,{"$f":"CONCATENATE(C104,\" \",D104)","v":"Estang Nadia"},null,null,{"$f":"Z104*2%","v":0},{"$f":"AA104-AA104*30%","v":0},null,{"$f":"AC104*2%","v":0},{"$f":"AD104-AD104*30%","v":0},250,{"$f":"AF104*1.57%","v":3.9250000000000007},{"$f":"AG104-AG104*30%","v":2.7475000000000005}]
["ICEA-325","woman","Esteulle","Isabelle"," .","1978-07-14","Vannes","person",null,null,"fr","14 rue Delpy",31300,"Toulouse","FR","FR","FR","06 63 46 55 64",null,"iesteull@yahoo.fr",null,null,null,{"$f":"CONCATENATE(C105,\" \",D105)","v":"Esteulle Isabelle"},null,null,{"$f":"Z105*2%","v":0},{"$f":"AA105-AA105*30%","v":0},250,{"$f":"AC105*2%","v":5},{"$f":"AD105-AD105*30%","v":3.5},250,{"$f":"AF105*1.57%","v":3.9250000000000007},{"$f":"AG105-AG105*30%","v":2.7475000000000005}]
["ICEA-196","woman","FARINA","Anne","FARINA-COTTE","1961-02-05","31 TOULOUSE","person",null,null,"fr","Le village",31450,"MONTBRUNLAURAGAIS","FR","FR","FR","06 72 54 18 76",null,"annecotte@free.fr",null,null,null,{"$f":"CONCATENATE(C106,\" \",D106)","v":"FARINA Anne"},null,500,{"$f":"Z106*2%","v":10},{"$f":"AA106-AA106*30%","v":7},500,{"$f":"AC106*2%","v":10},{"$f":"AD106-AD106*30%","v":7},500,{"$f":"AF106*1.57%","v":7.8500000000000014},{"$f":"AG106-AG106*30%","v":5.495000000000001}]
["ICEA-95","woman","Faure","Noémie",null,"2016-06-13","Noumea","gardian",null,null,"fr","23 rue Aymard-Bat E, Apt 61,Res S Paru",98800,"Noumea- N calédomie","FR","FR","FR","00 687 79 73 68",null,"cedric.faure@gmail.com",null,null,null,{"$f":"CONCATENATE(C107,\" \",D107)","v":"Faure Noémie"},null,50,{"$f":"Z107*2%","v":1},{"$f":"AA107-AA107*30%","v":0.7},50,{"$f":"AC107*2%","v":1},{"$f":"AD107-AD107*30%","v":0.7},50,{"$f":"AF107*1.57%","v":0.78500000000000014},{"$f":"AG107-AG107*30%","v":0.5495000000000001}]
["ICEA-286","woman","Faure","Olivia",null,"2020-02-27","Nouméa","gardian",null,null,"fr","23 Rue Aymard-Résidence Serena Park Bat E appt 31",98800,"Nouméa","FR","FR","FR",null,null,"nanoudessables@hotmail.com",null,null,null,{"$f":"CONCATENATE(C108,\" \",D108)","v":"Faure Olivia"},null,null,{"$f":"Z108*2%","v":0},{"$f":"AA108-AA108*30%","v":0},50,{"$f":"AC108*2%","v":1},{"$f":"AD108-AD108*30%","v":0.7},50,{"$f":"AF108*1.57%","v":0.78500000000000014},{"$f":"AG108-AG108*30%","v":0.5495000000000001}]
["ICEA-127","man","Faures","Anne",null,"1968-05-04","Toulouse","person",null,null,"fr","23 ch des Terres Hautes",31670,"Labège","FR","FR","FR","06 67 70 74 18",null,"annefaures@free.fr",null,null,null,{"$f":"CONCATENATE(C109,\" \",D109)","v":"Faures Anne"},null,500,{"$f":"Z109*2%","v":10},{"$f":"AA109-AA109*30%","v":7},500,{"$f":"AC109*2%","v":10},{"$f":"AD109-AD109*30%","v":7},500,{"$f":"AF109*1.57%","v":7.8500000000000014},{"$f":"AG109-AG109*30%","v":5.495000000000001}]
["ICEA-195","woman","Feraud","Anne-Marie","Noeureuil","1956-03-03","Montesquieu V","person",null,null,"fr","8 chemin de Riompeyre",31320,"Castanet Tolosan","FR","FR","FR","05 61 27 78 57",null,"noeureuil.anne-marie@orange.fr",null,null,null,{"$f":"CONCATENATE(C110,\" \",D110)","v":"Feraud Anne-Marie"},null,500,{"$f":"Z110*2%","v":10},{"$f":"AA110-AA110*30%","v":7},500,{"$f":"AC110*2%","v":10},{"$f":"AD110-AD110*30%","v":7},500,{"$f":"AF110*1.57%","v":7.8500000000000014},{"$f":"AG110-AG110*30%","v":5.495000000000001}]
["ICEA-300","woman","Fine","Pascale",null,"1971-08-06","Marseille","person",null,null,"fr","2 Hameau de Mange Pommes",31520,"Ramonville","FR","FR","FR","05 67 06 23 03",null,"ppff05@yahoo.fr",null,null,null,{"$f":"CONCATENATE(C111,\" \",D111)","v":"Fine Pascale"},null,null,{"$f":"Z111*2%","v":0},{"$f":"AA111-AA111*30%","v":0},500,{"$f":"AC111*2%","v":10},{"$f":"AD111-AD111*30%","v":7},500,{"$f":"AF111*1.57%","v":7.8500000000000014},{"$f":"AG111-AG111*30%","v":5.495000000000001}]
["ICEA-183","woman","FLEURY","Anais",". ","2017-07-15","Toulouse","gardian",null,null,"fr","6 impasse des Garbiers Appt 50",31320,"Castanet Tolosan","FR","FR","FR","09 82 50 76 98",null,"amandinegimenezphotographie@gmail.com",null,null,null,{"$f":"CONCATENATE(C112,\" \",D112)","v":"FLEURY Anais"},null,50,{"$f":"Z112*2%","v":1},{"$f":"AA112-AA112*30%","v":0.7},50,{"$f":"AC112*2%","v":1},{"$f":"AD112-AD112*30%","v":0.7},50,{"$f":"AF112*1.57%","v":0.78500000000000014},{"$f":"AG112-AG112*30%","v":0.5495000000000001}]
["ICEA-184","man","FLEURY","Quentin ","FLEURY","2013-11-07","Toulouse","gardian",null,null,"fr","6 impasse des Garbiers Appt 50",31320,"Castanet Tolosan","FR","FR","FR","09 82 50 76 98",null,"amandinegimenezphotographie@gmail.com",null,null,null,{"$f":"CONCATENATE(C113,\" \",D113)","v":"FLEURY Quentin "},null,50,{"$f":"Z113*2%","v":1},{"$f":"AA113-AA113*30%","v":0.7},50,{"$f":"AC113*2%","v":1},{"$f":"AD113-AD113*30%","v":0.7},50,{"$f":"AF113*1.57%","v":0.78500000000000014},{"$f":"AG113-AG113*30%","v":0.5495000000000001}]
["ICEA-351","man","Fouchard","Alexandre",null,"1994-02-21","Arles","person",null,null,"fr","Les Fieux Nords",46300,"Fajoles","FR","FR","FR","06 70 95 18 21",null,"albatoralex@gmail.com",null,null,null,{"$f":"CONCATENATE(C114,\" \",D114)","v":"Fouchard Alexandre"},null,null,{"$f":"Z114*2%","v":0},{"$f":"AA114-AA114*30%","v":0},100,{"$f":"AC114*2%","v":2},{"$f":"AD114-AD114*30%","v":1.4},100,{"$f":"AF114*1.57%","v":1.5700000000000003},{"$f":"AG114-AG114*30%","v":1.0990000000000002}]
["ICEA-118","woman","Fouchard","Caroline",null,"1965-04-13","Paris 6eme","person",null,null,"fr","96 bld de l'embouchure",31200,"Toulouse","FR","FR","FR","+336 74 13 02 72",null,"caroline.fouchard@free.fr","Caroline Fouchard","FR7630004018720000059982770","BNPAFRPPXXX",{"$f":"CONCATENATE(C115,\" \",D115)","v":"Fouchard Caroline"},null,50,{"$f":"Z115*2%","v":1},{"$f":"AA115-AA115*30%","v":0.7},100,{"$f":"AC115*2%","v":2},{"$f":"AD115-AD115*30%","v":1.4},100,{"$f":"AF115*1.57%","v":1.5700000000000003},{"$f":"AG115-AG115*30%","v":1.0990000000000002},{"$f":"AB115+AE115+AH115","v":3.1989999999999998},{"$f":"CONCATENATE(\"2019/\",'cooperators-41'!AB115,\"Euros-2020/\",'cooperators-41'!AE115,\"Euros-2022/\",'cooperators-41'!AH115,\"Euros\")","v":"2019/0,7Euros-2020/1,4Euros-2022/1,099Euros"}]
["ICEA-353","woman","Fouchard","Ester",null,"1999-04-25","Toulouse","person",null,null,"fr","Les Fieux Nords",46300,"Fajoles","FR","FR","FR","07 85 60 40 01",null,"estherfouchard@outlook.fr",null,null,null,{"$f":"CONCATENATE(C116,\" \",D116)","v":"Fouchard Ester"},null,null,{"$f":"Z116*2%","v":0},{"$f":"AA116-AA116*30%","v":0},100,{"$f":"AC116*2%","v":2},{"$f":"AD116-AD116*30%","v":1.4},100,{"$f":"AF116*1.57%","v":1.5700000000000003},{"$f":"AG116-AG116*30%","v":1.0990000000000002}]
["ICEA-352","man","Fouchard","Samuel",null,"1996-03-09","Toulouse","person",null,null,"fr","Les Fieux Nords",46300,"Fajoles","FR","FR","FR","06 31 10 79 95",null,"to-a@hotmail.fr",null,null,null,{"$f":"CONCATENATE(C117,\" \",D117)","v":"Fouchard Samuel"},null,null,{"$f":"Z117*2%","v":0},{"$f":"AA117-AA117*30%","v":0},100,{"$f":"AC117*2%","v":2},{"$f":"AD117-AD117*30%","v":1.4},100,{"$f":"AF117*1.57%","v":1.5700000000000003},{"$f":"AG117-AG117*30%","v":1.0990000000000002}]
["ICEA-422","man","Galinier","Dominique",null,"1967-04-26","Lavelanet","person",null,null,"fr","Résidence les Ormes, BatF5, Appt N°66, Avenue Salvador Allende",31320,"Castanet Tolosan","FR","FR","FR",635070700,null,"dominique.galinier@airbus.com",null,null,null,{"$f":"CONCATENATE(C118,\" \",D118)","v":"Galinier Dominique"},null,null,{"$f":"Z118*2%","v":0},{"$f":"AA118-AA118*30%","v":0},null,{"$f":"AC118*2%","v":0},{"$f":"AD118-AD118*30%","v":0},500,{"$f":"AF118*1.57%","v":7.8500000000000014},{"$f":"AG118-AG118*30%","v":5.495000000000001}]
["ICEA-50","man","Galinier","Michel ",null,"1957-09-14","Mazamet (81)","person",null,null,"fr","9 ch de la fontaine St Sernin",31670,"Labège","FR","FR","FR","06 07 14  63 26",null,"galiniermichel31@gmail.com",null,null,null,{"$f":"CONCATENATE(C119,\" \",D119)","v":"Galinier Michel "},null,500,{"$f":"Z119*2%","v":10},{"$f":"AA119-AA119*30%","v":7},500,{"$f":"AC119*2%","v":10},{"$f":"AD119-AD119*30%","v":7},500,{"$f":"AF119*1.57%","v":7.8500000000000014},{"$f":"AG119-AG119*30%","v":5.495000000000001}]
["ICEA-172","woman","GAMBIER","Hélène"," ","1992-11-04","Toulouse","person",null,null,"fr","79   Rue du Taur",31000,"Toulouse","FR","FR","FR","+337 81 78 72 90",null,"hlne.gambier@gmail.com","GAMBIER HELENE","FR7642559100000401731461487","CCOPFRPPXXX",{"$f":"CONCATENATE(C120,\" \",D120)","v":"GAMBIER Hélène"},null,2000,{"$f":"Z120*2%","v":40},{"$f":"AA120-AA120*30%","v":28},2000,{"$f":"AC120*2%","v":40},{"$f":"AD120-AD120*30%","v":28},2000,{"$f":"AF120*1.57%","v":31.400000000000006},{"$f":"AG120-AG120*30%","v":21.980000000000004},{"$f":"AB120+AE120+AH120","v":77.98},{"$f":"CONCATENATE(\"2019/\",'cooperators-41'!AB120,\"Euros-2020/\",'cooperators-41'!AE120,\"Euros-2022/\",'cooperators-41'!AH120,\"Euros\")","v":"2019/28Euros-2020/28Euros-2022/21,98Euros"}]
["ICEA-169","man","GAMBIER","yves","GAMBIER","1961-08-26","Paris","person",null,null,"fr","11 chemin de picotalen",11400,"fendeille","FR","FR","FR","06 73 14 84 59",null,"gambier.yves@gmail.com",null,null,null,{"$f":"CONCATENATE(C121,\" \",D121)","v":"GAMBIER yves"},null,1000,{"$f":"Z121*2%","v":20},{"$f":"AA121-AA121*30%","v":14},1000,{"$f":"AC121*2%","v":20},{"$f":"AD121-AD121*30%","v":14},1000,{"$f":"AF121*1.57%","v":15.700000000000003},{"$f":"AG121-AG121*30%","v":10.990000000000002}]
["ICEA-377","man","Gardette","Elouan",null,"2021-07-31","Oslo( Norvège)","gardian",null,null,"fr","61d - Schweigaards gate",656,"Oslo ","NO","NO","FR","00 4746542012",null,"marion.gardette@gmail.com","Marion Gardette","NO9381601656833","DABANO22",{"$f":"CONCATENATE(C122,\" \",D122)","v":"Gardette Elouan"},null,null,{"$f":"Z122*2%","v":0},{"$f":"AA122-AA122*30%","v":0},null,{"$f":"AC122*2%","v":0},{"$f":"AD122-AD122*30%","v":0},200,{"$f":"AF122*1.57%","v":3.1400000000000006},{"$f":"AG122-AG122*30%","v":2.1980000000000004},{"$f":"AB122+AE122+AH122","v":2.1980000000000004},{"$f":"CONCATENATE(\"2019/\",'cooperators-41'!AB122,\"Euros-2020/\",'cooperators-41'!AE122,\"Euros-2022/\",'cooperators-41'!AH122,\"Euros\")","v":"2019/0Euros-2020/0Euros-2022/2,198Euros"}]
["ICEA-31","man","Gardette","Laurent",null,"1980-03-02","Ste Foy les Lyon (69)","person",null,null,"fr","21 Rue Bigot -  appt 201 batD",33000,"Bordeaux","FR","FR","FR","+3384 14 31 73",null,"laurent.gardette@gmail.com","Gardette","FR7610907000011201969390978","CCBPFRPPBDX",{"$f":"CONCATENATE(C123,\" \",D123)","v":"Gardette Laurent"},null,500,{"$f":"Z123*2%","v":10},{"$f":"AA123-AA123*30%","v":7},500,{"$f":"AC123*2%","v":10},{"$f":"AD123-AD123*30%","v":7},500,{"$f":"AF123*1.57%","v":7.8500000000000014},{"$f":"AG123-AG123*30%","v":5.495000000000001},{"$f":"AB123+AE123+AH123","v":19.495000000000001},{"$f":"CONCATENATE(\"2019/\",'cooperators-41'!AB123,\"Euros-2020/\",'cooperators-41'!AE123,\"Euros-2022/\",'cooperators-41'!AH123,\"Euros\")","v":"2019/7Euros-2020/7Euros-2022/5,495Euros"}]
["ICEA-30","woman","Gardette","Marion",null,"1982-11-30","Bron (69)","person",null,null,"fr","61 d - Schweigaards gate",656,"Oslo","NO","NO","FR",33746542012,null,"marion.gardette@gmail.com","Marion Gardette","NO9381601656833","DABANO22",{"$f":"CONCATENATE(C124,\" \",D124)","v":"Gardette Marion"},null,500,{"$f":"Z124*2%","v":10},{"$f":"AA124-AA124*30%","v":7},500,{"$f":"AC124*2%","v":10},{"$f":"AD124-AD124*30%","v":7},500,{"$f":"AF124*1.57%","v":7.8500000000000014},{"$f":"AG124-AG124*30%","v":5.495000000000001},{"$f":"AB124+AE124+AH124","v":19.495000000000001},{"$f":"CONCATENATE(\"2019/\",'cooperators-41'!AB124,\"Euros-2020/\",'cooperators-41'!AE124,\"Euros-2022/\",'cooperators-41'!AH124,\"Euros\")","v":"2019/7Euros-2020/7Euros-2022/5,495Euros"}]
["ICEA-208","woman","Gardies","Valérie",null,"1971-07-13","Revel","person",null,null,"fr","6 allée du Pas de l'escalette",31750,"Escalquens","FR","FR","FR","06 99 08 51 12",null,"valgardies@orange.fr",null,null,null,{"$f":"CONCATENATE(C125,\" \",D125)","v":"Gardies Valérie"},null,100,{"$f":"Z125*2%","v":2},{"$f":"AA125-AA125*30%","v":1.4},100,{"$f":"AC125*2%","v":2},{"$f":"AD125-AD125*30%","v":1.4},100,{"$f":"AF125*1.57%","v":1.5700000000000003},{"$f":"AG125-AG125*30%","v":1.0990000000000002}]
["ICEA-92","man","Gasc","Jean-Patrice",null,"1973-08-30","Montauban","person",null,null,"fr","20 chemin de Caille",31750,"Escalquens","FR","FR","FR","06 21 73 24 46",null,"ln.jp@iCloud.com",null,null,null,{"$f":"CONCATENATE(C126,\" \",D126)","v":"Gasc Jean-Patrice"},null,100,{"$f":"Z126*2%","v":2},{"$f":"AA126-AA126*30%","v":1.4},100,{"$f":"AC126*2%","v":2},{"$f":"AD126-AD126*30%","v":1.4},100,{"$f":"AF126*1.57%","v":1.5700000000000003},{"$f":"AG126-AG126*30%","v":1.0990000000000002}]
["ICEA-29","woman","Gaucher","Mireille","Delmas","1963-09-23","Chinon (37)","person",null,null,"fr","9   chemin des maynardes",31670,"Labège","FR","FR","FR","+337 85 55 65 45",null,"mireille.delmas31@orange.fr","M et Mme DELMAS Pascal","FR7613135000800424199894623","CEPAFRPP313",{"$f":"CONCATENATE(C127,\" \",D127)","v":"Gaucher Mireille"},null,500,{"$f":"Z127*2%","v":10},{"$f":"AA127-AA127*30%","v":7},500,{"$f":"AC127*2%","v":10},{"$f":"AD127-AD127*30%","v":7},500,{"$f":"AF127*1.57%","v":7.8500000000000014},{"$f":"AG127-AG127*30%","v":5.495000000000001},{"$f":"AB127+AE127+AH127","v":19.495000000000001},{"$f":"CONCATENATE(\"2019/\",'cooperators-41'!AB127,\"Euros-2020/\",'cooperators-41'!AE127,\"Euros-2022/\",'cooperators-41'!AH127,\"Euros\")","v":"2019/7Euros-2020/7Euros-2022/5,495Euros"}]
["ICEA-151","woman","GIBERT","Léna",null,"2012-07-17","TOULOUSE","gardian",null,null,"fr","2044 route du lac, Roquefoulet",31560,"MONTGEARD","FR","FR","FR","06 86 90 85 41",null,"caillejerome@yahoo.fr",null,null,null,{"$f":"CONCATENATE(C128,\" \",D128)","v":"GIBERT Léna"},null,50,{"$f":"Z128*2%","v":1},{"$f":"AA128-AA128*30%","v":0.7},50,{"$f":"AC128*2%","v":1},{"$f":"AD128-AD128*30%","v":0.7},50,{"$f":"AF128*1.57%","v":0.78500000000000014},{"$f":"AG128-AG128*30%","v":0.5495000000000001}]
["ICEA-438","man","Gidenne","Thierry",null,"1959-12-25","Blois","person",null,null,"fr","5 rue du colonel Gendreau",31320,"Castanet-Tolosan","FR","FR","FR",33606543511,null,"thierry.gidenne@neuf.fr",null,null,null,{"$f":"CONCATENATE(C129,\" \",D129)","v":"Gidenne Thierry"},null,null,{"$f":"Z129*2%","v":0},{"$f":"AA129-AA129*30%","v":0},null,{"$f":"AC129*2%","v":0},{"$f":"AD129-AD129*30%","v":0},200,{"$f":"AF129*1.57%","v":3.1400000000000006},{"$f":"AG129-AG129*30%","v":2.1980000000000004}]
["ICEA-197","woman","Gilard","Hélène",null,"1944-07-24","St Giron","person",null,null,"fr","4 Cheminement de Gabielle",31270,"Cugnaux","FR","FR","FR","05 61 92 31 14",null,"laurent.gilard@laposte.net",null,null,null,{"$f":"CONCATENATE(C130,\" \",D130)","v":"Gilard Hélène"},null,50,{"$f":"Z130*2%","v":1},{"$f":"AA130-AA130*30%","v":0.7},50,{"$f":"AC130*2%","v":1},{"$f":"AD130-AD130*30%","v":0.7},50,{"$f":"AF130*1.57%","v":0.78500000000000014},{"$f":"AG130-AG130*30%","v":0.5495000000000001}]
["ICEA-74","woman","Gimberede","Pierrette","Bioulez","1942-05-10","Toulouse (31)","person",null,null,"fr","7 rue des Ménéstrels",31670,"Labège","FR","FR","FR","05 62 24 44 83",null,"bioulez.p@gmail.com ",null,null,null,{"$f":"CONCATENATE(C131,\" \",D131)","v":"Gimberede Pierrette"},null,50,{"$f":"Z131*2%","v":1},{"$f":"AA131-AA131*30%","v":0.7},50,{"$f":"AC131*2%","v":1},{"$f":"AD131-AD131*30%","v":0.7},50,{"$f":"AF131*1.57%","v":0.78500000000000014},{"$f":"AG131-AG131*30%","v":0.5495000000000001}]
["ICEA-182","man","GIMENEZ","Jean-Louis"," .","1958-08-15","Oran","person",null,null,"fr","3 allée Moise Maimonide Maison n°7",31560,"NAILLOUX","FR","FR","FR","06 81 24 00 33",null,"jlgimenez@orange.fr",null,null,null,{"$f":"CONCATENATE(C132,\" \",D132)","v":"GIMENEZ Jean-Louis"},null,100,{"$f":"Z132*2%","v":2},{"$f":"AA132-AA132*30%","v":1.4},100,{"$f":"AC132*2%","v":2},{"$f":"AD132-AD132*30%","v":1.4},100,{"$f":"AF132*1.57%","v":1.5700000000000003},{"$f":"AG132-AG132*30%","v":1.0990000000000002}]
["ICEA-62","woman","Gimenez","Marie Thérese",null,"1959-07-12","Oran","person",null,null,"fr","95   avenue Tolosane",31520,"Ramonville St Agne","FR","FR","FR","+3381 36 30 48",null,"mgetoile@gmail.com","MT GIMENEZ","FR1020041010160292808L03755","PSSTFRPPTOU",{"$f":"CONCATENATE(C133,\" \",D133)","v":"Gimenez Marie Thérese"},null,1500,{"$f":"Z133*2%","v":30},{"$f":"AA133-AA133*30%","v":21},1500,{"$f":"AC133*2%","v":30},{"$f":"AD133-AD133*30%","v":21},1500,{"$f":"AF133*1.57%","v":23.550000000000004},{"$f":"AG133-AG133*30%","v":16.485000000000003},{"$f":"AB133+AE133+AH133","v":58.484999999999999},{"$f":"CONCATENATE(\"2019/\",'cooperators-41'!AB133,\"Euros-2020/\",'cooperators-41'!AE133,\"Euros-2022/\",'cooperators-41'!AH133,\"Euros\")","v":"2019/21Euros-2020/21Euros-2022/16,485Euros"}]
["ICEA-181","man","GIMENEZ","Philippe"," .","1965-08-04","Toulouse","person",null,null,"fr","646 Avenue des Plantiers",6700,"SaintLaurentduVar","FR","FR","FR","06 17 23 63 30",null,"gim_phil@yahoo.fr",null,null,null,{"$f":"CONCATENATE(C134,\" \",D134)","v":"GIMENEZ Philippe"},null,100,{"$f":"Z134*2%","v":2},{"$f":"AA134-AA134*30%","v":1.4},100,{"$f":"AC134*2%","v":2},{"$f":"AD134-AD134*30%","v":1.4},100,{"$f":"AF134*1.57%","v":1.5700000000000003},{"$f":"AG134-AG134*30%","v":1.0990000000000002}]
["ICEA-34","woman","Glain","Brigitte",null,"1958-10-14","Paris 15°","person",null,null,"fr","5, rue Moulin Guillaume",31450,"Donneville","FR","FR","FR","06 79 51 65 78",null,"glainbrigitte@gmail.com",null,null,null,{"$f":"CONCATENATE(C135,\" \",D135)","v":"Glain Brigitte"},null,500,{"$f":"Z135*2%","v":10},{"$f":"AA135-AA135*30%","v":7},500,{"$f":"AC135*2%","v":10},{"$f":"AD135-AD135*30%","v":7},500,{"$f":"AF135*1.57%","v":7.8500000000000014},{"$f":"AG135-AG135*30%","v":5.495000000000001}]
["ICEA-57","man","Gloriès","Bernard",null,"1960-03-24","Mazamet (81)","person",null,null,"fr","11 rue des Pyrténées",31670,"Labège","FR","FR","FR","06 73 28 20 99",null,"bernard.glories@gmail.com",null,null,null,{"$f":"CONCATENATE(C136,\" \",D136)","v":"Gloriès Bernard"},null,500,{"$f":"Z136*2%","v":10},{"$f":"AA136-AA136*30%","v":7},500,{"$f":"AC136*2%","v":10},{"$f":"AD136-AD136*30%","v":7},500,{"$f":"AF136*1.57%","v":7.8500000000000014},{"$f":"AG136-AG136*30%","v":5.495000000000001}]
["ICEA-67","woman","Gomart-Massip","Martine","Depaux","1954-07-29","Carbonne(31)","person",null,null,"fr","5 ch du Val",31670,"Labège","FR","FR","FR","+3376 76 60 63",null,"martine.depaux31@gmail.com","DEPAUX JM OU MME","FR7610268025861058240040090","COURFR2T",{"$f":"CONCATENATE(C137,\" \",D137)","v":"Gomart-Massip Martine"},null,100,{"$f":"Z137*2%","v":2},{"$f":"AA137-AA137*30%","v":1.4},100,{"$f":"AC137*2%","v":2},{"$f":"AD137-AD137*30%","v":1.4},100,{"$f":"AF137*1.57%","v":1.5700000000000003},{"$f":"AG137-AG137*30%","v":1.0990000000000002},{"$f":"AB137+AE137+AH137","v":3.899},{"$f":"CONCATENATE(\"2019/\",'cooperators-41'!AB137,\"Euros-2020/\",'cooperators-41'!AE137,\"Euros-2022/\",'cooperators-41'!AH137,\"Euros\")","v":"2019/1,4Euros-2020/1,4Euros-2022/1,099Euros"}]
["ICEA-360","man","Goussaud","Fabrice"," .","1971-05-15","Toulouse","person",null,null,"fr","14 ch des acacias",31190,"Auterive","FR","FR","FR","06 23 46 03 88",null,"fabricegoussaud@orange.fr",null,null,null,{"$f":"CONCATENATE(C138,\" \",D138)","v":"Goussaud Fabrice"},null,null,{"$f":"Z138*2%","v":0},{"$f":"AA138-AA138*30%","v":0},200,{"$f":"AC138*2%","v":4},{"$f":"AD138-AD138*30%","v":2.8},200,{"$f":"AF138*1.57%","v":3.1400000000000006},{"$f":"AG138-AG138*30%","v":2.1980000000000004}]
["ICEA-429","man","GREBILLE","BRUNO",null,"1960-01-30","Boulogne Billancourt","person",null,null,"fr","355 CHEMIN DE TULLE",31810,"CLERMONT LE FORT","FR","FR","FR",33674521613,33561084889,"f.grebille@gmail.com",null,"NULL",null,{"$f":"CONCATENATE(C139,\" \",D139)","v":"GREBILLE BRUNO"},null,null,{"$f":"Z139*2%","v":0},{"$f":"AA139-AA139*30%","v":0},null,{"$f":"AC139*2%","v":0},{"$f":"AD139-AD139*30%","v":0},500,{"$f":"AF139*1.57%","v":7.8500000000000014},{"$f":"AG139-AG139*30%","v":5.495000000000001}]
["ICEA-248","woman","Grivart","Anaïck",null,"1993-04-10","Toulouse","person",null,null,"fr","13 chemin de la bosse",31450,"Ayguesvives","FR","FR","FR","06 82 23 71 16",null,"anaick.grivart@gmail.com",null,null,null,{"$f":"CONCATENATE(C140,\" \",D140)","v":"Grivart Anaïck"},null,100,{"$f":"Z140*2%","v":2},{"$f":"AA140-AA140*30%","v":1.4},300,{"$f":"AC140*2%","v":6},{"$f":"AD140-AD140*30%","v":4.2},400,{"$f":"AF140*1.57%","v":6.2800000000000011},{"$f":"AG140-AG140*30%","v":4.3960000000000008}]
["ICEA-250","man","Grivart","Joan",null,"2002-03-23","Toulouse","person",null,null,"fr","13 chemin de la bosse",31450,"Ayguesvives","FR","FR","FR","07 83 70 15 17",null,"jo.grivart@gmail.com",null,null,null,{"$f":"CONCATENATE(C141,\" \",D141)","v":"Grivart Joan"},null,100,{"$f":"Z141*2%","v":2},{"$f":"AA141-AA141*30%","v":1.4},300,{"$f":"AC141*2%","v":6},{"$f":"AD141-AD141*30%","v":4.2},400,{"$f":"AF141*1.57%","v":6.2800000000000011},{"$f":"AG141-AG141*30%","v":4.3960000000000008}]
["ICEA-249","woman","Grivart","Maïlis",null,"1995-07-26","Toulouse","person",null,null,"fr","13 chemin de la bosse",31450,"Ayguesvives","FR","FR","FR","07 82 06 92 81",null,"philippe.grivart@gmail.com",null,null,null,{"$f":"CONCATENATE(C142,\" \",D142)","v":"Grivart Maïlis"},null,100,{"$f":"Z142*2%","v":2},{"$f":"AA142-AA142*30%","v":1.4},300,{"$f":"AC142*2%","v":6},{"$f":"AD142-AD142*30%","v":4.2},400,{"$f":"AF142*1.57%","v":6.2800000000000011},{"$f":"AG142-AG142*30%","v":4.3960000000000008}]
["ICEA-155","man","GRIVART","Philippe",null,"1962-06-26","MEKNES (MAROC)","person",null,null,"fr","13 chemin de la bosse",31450,"AYGUESVIVES","FR","FR","FR","07 82 06 92 81",null,"philippe.grivart@gmail.com",null,null,null,{"$f":"CONCATENATE(C143,\" \",D143)","v":"GRIVART Philippe"},null,500,{"$f":"Z143*2%","v":10},{"$f":"AA143-AA143*30%","v":7},500,{"$f":"AC143*2%","v":10},{"$f":"AD143-AD143*30%","v":7},500,{"$f":"AF143*1.57%","v":7.8500000000000014},{"$f":"AG143-AG143*30%","v":5.495000000000001}]
["ICEA-179","woman","Guillot","Christine"," Isnard","1947-11-21","Villeurbanne","person",null,null,"fr","232 Avenue Paul Santy",69008,"Lyon","FR","FR","FR","06 89 74 20 99",null,"christine.isnard.g@free.fr",null,null,null,{"$f":"CONCATENATE(C144,\" \",D144)","v":"Guillot Christine"},null,500,{"$f":"Z144*2%","v":10},{"$f":"AA144-AA144*30%","v":7},500,{"$f":"AC144*2%","v":10},{"$f":"AD144-AD144*30%","v":7},500,{"$f":"AF144*1.57%","v":7.8500000000000014},{"$f":"AG144-AG144*30%","v":5.495000000000001}]
["ICEA-214","man","Haydont","Célian","Célian Haydont","1999-08-15","Chatenay-Malabry (92)","person",null,null,"fr","12 allée de l'Europe",92110,"Clichy","FR","FR","FR","07 68 30 14 23",null,"celianhaydont@gmail.com",null,null,null,{"$f":"CONCATENATE(C145,\" \",D145)","v":"Haydont Célian"},null,500,{"$f":"Z145*2%","v":10},{"$f":"AA145-AA145*30%","v":7},500,{"$f":"AC145*2%","v":10},{"$f":"AD145-AD145*30%","v":7},500,{"$f":"AF145*1.57%","v":7.8500000000000014},{"$f":"AG145-AG145*30%","v":5.495000000000001}]
["ICEA-323","man","Haydont","Christophe",null,"1967-06-26","NANTERRE","person",null,null,"fr","4 place Clémence Isaure",31320,"CastanetTolosan","FR","FR","FR","06 87 12 61 13",null,"chaydont@orange.fr",null,null,null,{"$f":"CONCATENATE(C146,\" \",D146)","v":"Haydont Christophe"},null,null,{"$f":"Z146*2%","v":0},{"$f":"AA146-AA146*30%","v":0},500,{"$f":"AC146*2%","v":10},{"$f":"AD146-AD146*30%","v":7},500,{"$f":"AF146*1.57%","v":7.8500000000000014},{"$f":"AG146-AG146*30%","v":5.495000000000001}]
["ICEA-180","man","Haydont","Emmanuel",null,"1968-05-26","Nanterre","person",null,null,"fr","26 rue du petit prince",31320,"Castanet Tolosan","FR","FR","FR","+33651 65 32 34",null,"manu@haydont.net",null,null,null,{"$f":"CONCATENATE(C147,\" \",D147)","v":"Haydont Emmanuel"},null,8500,{"$f":"Z147*2%","v":170},{"$f":"AA147-AA147*30%","v":119},8500,{"$f":"AC147*2%","v":170},{"$f":"AD147-AD147*30%","v":119},8500,{"$f":"AF147*1.57%","v":133.45000000000002},{"$f":"AG147-AG147*30%","v":93.41500000000002}]
["ICEA-213","woman","Haydont","Flavie",null,"2001-09-03","Meulan (78)","person",null,null,"fr","26 RUE DU PETIT PRINCE",31320,"CASTANET TOLOSAN","FR","FR","FR","+3381 55 42 89",null,"claire@haydont.net",null,null,null,{"$f":"CONCATENATE(C148,\" \",D148)","v":"Haydont Flavie"},null,500,{"$f":"Z148*2%","v":10},{"$f":"AA148-AA148*30%","v":7},500,{"$f":"AC148*2%","v":10},{"$f":"AD148-AD148*30%","v":7},500,{"$f":"AF148*1.57%","v":7.8500000000000014},{"$f":"AG148-AG148*30%","v":5.495000000000001}]
["ICEA-230","man","Haydont","Mathias"," .","1971-06-25","Nanterre","person",null,null,"fr","14 route d'Odars",31570,"PRESERVILLE","FR","FR","FR","+3381 02 60 60",null,"mhaydont@orange.fr","HAYDONT MATHIAS","FR7630004021800000021093566","BNPAFR PPXXX",{"$f":"CONCATENATE(C149,\" \",D149)","v":"Haydont Mathias"},null,500,{"$f":"Z149*2%","v":10},{"$f":"AA149-AA149*30%","v":7},500,{"$f":"AC149*2%","v":10},{"$f":"AD149-AD149*30%","v":7},500,{"$f":"AF149*1.57%","v":7.8500000000000014},{"$f":"AG149-AG149*30%","v":5.495000000000001},{"$f":"AB149+AE149+AH149","v":19.495000000000001},{"$f":"CONCATENATE(\"2019/\",'cooperators-41'!AB149,\"Euros-2020/\",'cooperators-41'!AE149,\"Euros-2022/\",'cooperators-41'!AH149,\"Euros\")","v":"2019/7Euros-2020/7Euros-2022/5,495Euros"}]
["ICEA-236","woman","Hayzoun","Karima","Coppola","1969-06-19","Rabat-Maroc","person",null,null,"fr","7 imp des Romains",31320,"Castanet Tolosan","FR","FR","FR","06 20 02 25 99",null,"karimacoppola@gmail.com",null,null,null,{"$f":"CONCATENATE(C150,\" \",D150)","v":"Hayzoun Karima"},null,50,{"$f":"Z150*2%","v":1},{"$f":"AA150-AA150*30%","v":0.7},50,{"$f":"AC150*2%","v":1},{"$f":"AD150-AD150*30%","v":0.7},50,{"$f":"AF150*1.57%","v":0.78500000000000014},{"$f":"AG150-AG150*30%","v":0.5495000000000001}]
["ICEA-279","man","Hernandez","Pedro",null,"1974-08-25","Girone(Espagne)","person",null,null,"fr","135 ch Salade Ponson",31400,"Toulouse","FR","FR","FR","+336 17 03 42 90",null,"phernaca@yahoo.es"," HERNANDEZ PEDRO","FR7613135000800424982482669","C E P A F R P P 3 1 3",{"$f":"CONCATENATE(C151,\" \",D151)","v":"Hernandez Pedro"},null,null,{"$f":"Z151*2%","v":0},{"$f":"AA151-AA151*30%","v":0},100,{"$f":"AC151*2%","v":2},{"$f":"AD151-AD151*30%","v":1.4},100,{"$f":"AF151*1.57%","v":1.5700000000000003},{"$f":"AG151-AG151*30%","v":1.0990000000000002},{"$f":"AB151+AE151+AH151","v":2.4990000000000001},{"$f":"CONCATENATE(\"2019/\",'cooperators-41'!AB151,\"Euros-2020/\",'cooperators-41'!AE151,\"Euros-2022/\",'cooperators-41'!AH151,\"Euros\")","v":"2019/0Euros-2020/1,4Euros-2022/1,099Euros"}]
["ICEA-258","woman","HERRY","Nadine","ADAM","1963-10-31","LESNEVEN (29)","person",null,null,"fr","2   impasse du Restanc",31450,"AYGUESVIVES","FR","FR","FR","+336 82 68 74 87",null,"nadine.adam@orange.fr",null,null,null,{"$f":"CONCATENATE(C152,\" \",D152)","v":"HERRY Nadine"},null,500,{"$f":"Z152*2%","v":10},{"$f":"AA152-AA152*30%","v":7},500,{"$f":"AC152*2%","v":10},{"$f":"AD152-AD152*30%","v":7},500,{"$f":"AF152*1.57%","v":7.8500000000000014},{"$f":"AG152-AG152*30%","v":5.495000000000001}]
["ICEA-203","man","Hévin","Christophe"," .","1960-06-28","Pau (64)","person",null,null,"fr","22   Marensac",31450,"BELBERAUD","FR","FR","FR","+3370 46 02 21",null,"c.hevin@free.fr","Christophe Hevin","FR7613106005001192948610120","AGRIFRPP831",{"$f":"CONCATENATE(C153,\" \",D153)","v":"Hévin Christophe"},null,1000,{"$f":"Z153*2%","v":20},{"$f":"AA153-AA153*30%","v":14},1000,{"$f":"AC153*2%","v":20},{"$f":"AD153-AD153*30%","v":14},1000,{"$f":"AF153*1.57%","v":15.700000000000003},{"$f":"AG153-AG153*30%","v":10.990000000000002},{"$f":"AB153+AE153+AH153","v":38.99},{"$f":"CONCATENATE(\"2019/\",'cooperators-41'!AB153,\"Euros-2020/\",'cooperators-41'!AE153,\"Euros-2022/\",'cooperators-41'!AH153,\"Euros\")","v":"2019/14Euros-2020/14Euros-2022/10,99Euros"}]
["ICEA-225","man","Hilaire","Sebastien",null,"1975-09-26","nancy","person",null,null,"fr","26   rue de bourgogne",31130,"balma","FR","FR","FR","+33782 16 98 80",null,"sebastien.hilaire@gmail.com","Hilaire Sebastien","FR7630056003660366009078905","CCFRFRPP",{"$f":"CONCATENATE(C154,\" \",D154)","v":"Hilaire Sebastien"},null,50,{"$f":"Z154*2%","v":1},{"$f":"AA154-AA154*30%","v":0.7},50,{"$f":"AC154*2%","v":1},{"$f":"AD154-AD154*30%","v":0.7},50,{"$f":"AF154*1.57%","v":0.78500000000000014},{"$f":"AG154-AG154*30%","v":0.5495000000000001},{"$f":"AB154+AE154+AH154","v":1.9495},{"$f":"CONCATENATE(\"2019/\",'cooperators-41'!AB154,\"Euros-2020/\",'cooperators-41'!AE154,\"Euros-2022/\",'cooperators-41'!AH154,\"Euros\")","v":"2019/0,7Euros-2020/0,7Euros-2022/0,5495Euros"}]
["ICEA-331","man","HORION","Clément",". ","2007-04-14","Toulouse","gardian",null,null,"fr","10 rue des Muriers",31500,"TOULOUSE","FR","FR","FR",null,null,"crp.web@hh.de",null,null,null,{"$f":"CONCATENATE(C155,\" \",D155)","v":"HORION Clément"},null,null,{"$f":"Z155*2%","v":0},{"$f":"AA155-AA155*30%","v":0},100,{"$f":"AC155*2%","v":2},{"$f":"AD155-AD155*30%","v":1.4},100,{"$f":"AF155*1.57%","v":1.5700000000000003},{"$f":"AG155-AG155*30%","v":1.0990000000000002}]
["ICEA-76","man","Imbert-Pulgar","Pauline",null,"2003-12-28","Toulouse (31)","person",null,null,"fr","6 av de Cocagne",31570,"Lanta","FR","FR","FR","06 23 92 38 51",null,"sandrine.thilpulgar71@gmail.com",null,null,null,{"$f":"CONCATENATE(C156,\" \",D156)","v":"Imbert-Pulgar Pauline"},null,500,{"$f":"Z156*2%","v":10},{"$f":"AA156-AA156*30%","v":7},500,{"$f":"AC156*2%","v":10},{"$f":"AD156-AD156*30%","v":7},500,{"$f":"AF156*1.57%","v":7.8500000000000014},{"$f":"AG156-AG156*30%","v":5.495000000000001}]
["ICEA-135","woman","Isman","Monique","Dardel","1958-11-07","Meknes- Maroc","person",null,null,"fr","17 bis Ch Fontaine St Sernin",31670,"Labège","FR","FR","FR","05 61 39 87 93",null,"monique.dardel@free.fr",null,null,null,{"$f":"CONCATENATE(C157,\" \",D157)","v":"Isman Monique"},null,500,{"$f":"Z157*2%","v":10},{"$f":"AA157-AA157*30%","v":7},500,{"$f":"AC157*2%","v":10},{"$f":"AD157-AD157*30%","v":7},500,{"$f":"AF157*1.57%","v":7.8500000000000014},{"$f":"AG157-AG157*30%","v":5.495000000000001}]
["ICEA-99","man","Isnard","Basile",null,"2004-08-31","Toulouse","gardian",null,null,"fr","25 ch de l'écluse",31320,"Pechabou","FR","FR","FR",null,null,"ex.isnard@cegetel.net",null,null,null,{"$f":"CONCATENATE(C158,\" \",D158)","v":"Isnard Basile"},null,50,{"$f":"Z158*2%","v":1},{"$f":"AA158-AA158*30%","v":0.7},50,{"$f":"AC158*2%","v":1},{"$f":"AD158-AD158*30%","v":0.7},50,{"$f":"AF158*1.57%","v":0.78500000000000014},{"$f":"AG158-AG158*30%","v":0.5495000000000001}]
["ICEA-103","man","Isnard","Guillaume",null,"1978-06-21","Annecy","person",null,null,"fr","51 avenue de l'hers",31450,"Baziège","FR","FR","FR","06 29 52 58 39 ",null,"isnard.gui@gmail.com",null,null,null,{"$f":"CONCATENATE(C159,\" \",D159)","v":"Isnard Guillaume"},null,50,{"$f":"Z159*2%","v":1},{"$f":"AA159-AA159*30%","v":0.7},50,{"$f":"AC159*2%","v":1},{"$f":"AD159-AD159*30%","v":0.7},50,{"$f":"AF159*1.57%","v":0.78500000000000014},{"$f":"AG159-AG159*30%","v":0.5495000000000001}]
["ICEA-41","man","Isnard","Jean-Marc",null,"1947-10-07","Lyon 7 eme","person",null,null,"fr","232 Avenue Paul Santy",69008,"Lyon","FR","FR","FR","06.81.97.38.84",null,"jeanmarc.isnard@free.fr ",null,null,null,{"$f":"CONCATENATE(C160,\" \",D160)","v":"Isnard Jean-Marc"},null,500,{"$f":"Z160*2%","v":10},{"$f":"AA160-AA160*30%","v":7},500,{"$f":"AC160*2%","v":10},{"$f":"AD160-AD160*30%","v":7},500,{"$f":"AF160*1.57%","v":7.8500000000000014},{"$f":"AG160-AG160*30%","v":5.495000000000001}]
["ICEA-104","woman","Isnard Laure","Juliette",null,"2009-06-13","Baie-Mahault","gardian",null,null,"fr","51 avenue de l'hers",31450,"Baziège","FR","FR","FR",null,null,"isnard.gui@gmail.com",null,null,null,{"$f":"CONCATENATE(C161,\" \",D161)","v":"Isnard Laure Juliette"},null,50,{"$f":"Z161*2%","v":1},{"$f":"AA161-AA161*30%","v":0.7},50,{"$f":"AC161*2%","v":1},{"$f":"AD161-AD161*30%","v":0.7},50,{"$f":"AF161*1.57%","v":0.78500000000000014},{"$f":"AG161-AG161*30%","v":0.5495000000000001}]
["ICEA-106","woman","Isnard Laure","Sabrina",null,"1978-06-13","Beziers","person",null,null,"fr","51 avenue de l'hers",31450,"Baziège","FR","FR","FR","07 62 32 16 00",null,"isnard.gui@gmail.com",null,null,null,{"$f":"CONCATENATE(C162,\" \",D162)","v":"Isnard Laure Sabrina"},null,50,{"$f":"Z162*2%","v":1},{"$f":"AA162-AA162*30%","v":0.7},50,{"$f":"AC162*2%","v":1},{"$f":"AD162-AD162*30%","v":0.7},50,{"$f":"AF162*1.57%","v":0.78500000000000014},{"$f":"AG162-AG162*30%","v":0.5495000000000001}]
["ICEA-105","woman","Isnard Laure","Zoe",null,"2012-01-27","Baie-Mahault","gardian",null,null,"fr","51 avenue de l'hers",31450,"Baziège","FR","FR","FR",null,null,"isnard.gui@gmail.com",null,null,null,{"$f":"CONCATENATE(C163,\" \",D163)","v":"Isnard Laure Zoe"},null,50,{"$f":"Z163*2%","v":1},{"$f":"AA163-AA163*30%","v":0.7},50,{"$f":"AC163*2%","v":1},{"$f":"AD163-AD163*30%","v":0.7},50,{"$f":"AF163*1.57%","v":0.78500000000000014},{"$f":"AG163-AG163*30%","v":0.5495000000000001}]
["ICEA-101","man","Isnard","Merlin",null,"2007-08-18","Toulouse","gardian",null,null,"fr","25 ch de l'écluse",31320,"Pechabou","FR","FR","FR",null,null,"ex.isnard@cegetel.net",null,null,null,{"$f":"CONCATENATE(C164,\" \",D164)","v":"Isnard Merlin"},null,50,{"$f":"Z164*2%","v":1},{"$f":"AA164-AA164*30%","v":0.7},50,{"$f":"AC164*2%","v":1},{"$f":"AD164-AD164*30%","v":0.7},50,{"$f":"AF164*1.57%","v":0.78500000000000014},{"$f":"AG164-AG164*30%","v":0.5495000000000001}]
["ICEA-100","man","Isnard","Paul",null,"2001-12-26","Montreal CA","person",null,null,"fr","25 ch de l'écluse",31320,"Pechabou","FR","FR","FR",null,null,"ex.isnard@cegetel.net",null,null,null,{"$f":"CONCATENATE(C165,\" \",D165)","v":"Isnard Paul"},null,50,{"$f":"Z165*2%","v":1},{"$f":"AA165-AA165*30%","v":0.7},50,{"$f":"AC165*2%","v":1},{"$f":"AD165-AD165*30%","v":0.7},50,{"$f":"AF165*1.57%","v":0.78500000000000014},{"$f":"AG165-AG165*30%","v":0.5495000000000001}]
["ICEA-97","man","Isnard","Xavier ",null,"1973-05-17","Bron (69)","person",null,null,"fr","25 ch de l'écluse",31320,"Pechabou","FR","FR","FR","06 33 60 15 22",null,"ex.isnard@cegetel.net",null,null,null,{"$f":"CONCATENATE(C166,\" \",D166)","v":"Isnard Xavier "},null,50,{"$f":"Z166*2%","v":1},{"$f":"AA166-AA166*30%","v":0.7},50,{"$f":"AC166*2%","v":1},{"$f":"AD166-AD166*30%","v":0.7},50,{"$f":"AF166*1.57%","v":0.78500000000000014},{"$f":"AG166-AG166*30%","v":0.5495000000000001}]
["ICEA-435","woman","khalkhal","Mùalika",null,"1966-04-19","Pézenas","person",null,null,"fr","515 chemin de roqueville",31450,"Issus","FR","FR","FR",33626421351,null,"le-campestre@orange.fr",null,null,null,{"$f":"CONCATENATE(C167,\" \",D167)","v":"khalkhal Mùalika"},null,null,{"$f":"Z167*2%","v":0},{"$f":"AA167-AA167*30%","v":0},null,{"$f":"AC167*2%","v":0},{"$f":"AD167-AD167*30%","v":0},50,{"$f":"AF167*1.57%","v":0.78500000000000014},{"$f":"AG167-AG167*30%","v":0.5495000000000001}]
["ICEA-116","man","Klopp","Christophe",null,"1966-12-25","Sarreguemines(57)","person",null,null,"fr","1 rue simone de beauvoir",31320,"Castanet Tolosan","FR","FR","FR","05 61 75 18 37",null,"christophe.klopp@free.fr",null,null,null,{"$f":"CONCATENATE(C168,\" \",D168)","v":"Klopp Christophe"},null,500,{"$f":"Z168*2%","v":10},{"$f":"AA168-AA168*30%","v":7},500,{"$f":"AC168*2%","v":10},{"$f":"AD168-AD168*30%","v":7},500,{"$f":"AF168*1.57%","v":7.8500000000000014},{"$f":"AG168-AG168*30%","v":5.495000000000001}]
["ICEA-277","man","Knödlseder","Jürgen"," .","1967-02-26","Munich (Allemagne)","person",null,null,"fr","7   allée des Jonquilles",31520,"Ramonville","FR","FR","FR","+336 24 36 25 47",null,"jurgen.knodlseder@gmail.com","KNODLSEDER JURGEN","FR7617807000130131936093523","CCBPFRPPTLS",{"$f":"CONCATENATE(C169,\" \",D169)","v":"Knödlseder Jürgen"},null,null,{"$f":"Z169*2%","v":0},{"$f":"AA169-AA169*30%","v":0},1000,{"$f":"AC169*2%","v":20},{"$f":"AD169-AD169*30%","v":14},1000,{"$f":"AF169*1.57%","v":15.700000000000003},{"$f":"AG169-AG169*30%","v":10.990000000000002},{"$f":"AB169+AE169+AH169","v":24.990000000000002},{"$f":"CONCATENATE(\"2019/\",'cooperators-41'!AB169,\"Euros-2020/\",'cooperators-41'!AE169,\"Euros-2022/\",'cooperators-41'!AH169,\"Euros\")","v":"2019/0Euros-2020/14Euros-2022/10,99Euros"}]
["ICEA-342","man","Knödlseder","Simon",". ","2007-06-28","Toulouse","gardian",null,null,"fr","7   allée des Jonquilles",31520,"Ramonville","FR","FR","FR","+337 67 76 88 14",null,"simon.kn@icloud.com","KNODLSEDER SIMON","FR7613135000800442773454623","CEPAFRPP313",{"$f":"CONCATENATE(C170,\" \",D170)","v":"Knödlseder Simon"},null,null,{"$f":"Z170*2%","v":0},{"$f":"AA170-AA170*30%","v":0},500,{"$f":"AC170*2%","v":10},{"$f":"AD170-AD170*30%","v":7},500,{"$f":"AF170*1.57%","v":7.8500000000000014},{"$f":"AG170-AG170*30%","v":5.495000000000001},{"$f":"AB170+AE170+AH170","v":12.495000000000001},{"$f":"CONCATENATE(\"2019/\",'cooperators-41'!AB170,\"Euros-2020/\",'cooperators-41'!AE170,\"Euros-2022/\",'cooperators-41'!AH170,\"Euros\")","v":"2019/0Euros-2020/7Euros-2022/5,495Euros"}]
["ICEA-343","man","Knödlseder","Thomas",". ","2010-05-03","Toulouse","gardian",null,null,"fr","7   allée des Jonquilles",31520,"Ramonville","FR","FR","FR",null,null,"jurgen.knodlseder@gmail.com","KNODLSEDER JURGEN","FR7617807000130131936093523","CCBPFRPPTLS",{"$f":"CONCATENATE(C171,\" \",D171)","v":"Knödlseder Thomas"},null,null,{"$f":"Z171*2%","v":0},{"$f":"AA171-AA171*30%","v":0},500,{"$f":"AC171*2%","v":10},{"$f":"AD171-AD171*30%","v":7},500,{"$f":"AF171*1.57%","v":7.8500000000000014},{"$f":"AG171-AG171*30%","v":5.495000000000001},{"$f":"AB171+AE171+AH171","v":12.495000000000001},{"$f":"CONCATENATE(\"2019/\",'cooperators-41'!AB171,\"Euros-2020/\",'cooperators-41'!AE171,\"Euros-2022/\",'cooperators-41'!AH171,\"Euros\")","v":"2019/0Euros-2020/7Euros-2022/5,495Euros"}]
["ICEA-159","man","KOECHLIN","JULIEN",null,"1982-09-28","NICE","person",null,null,"fr","31 rue Lobineau",35000,"RENNES","FR","FR","FR","06 19 90 34 19",null,"julien.koechlin@free.fr",null,null,null,{"$f":"CONCATENATE(C172,\" \",D172)","v":"KOECHLIN JULIEN"},null,200,{"$f":"Z172*2%","v":4},{"$f":"AA172-AA172*30%","v":2.8},200,{"$f":"AC172*2%","v":4},{"$f":"AD172-AD172*30%","v":2.8},200,{"$f":"AF172*1.57%","v":3.1400000000000006},{"$f":"AG172-AG172*30%","v":2.1980000000000004}]
["ICEA-68","man","Koechlin","Laurent ",null,"1951-07-27","Paris","person",null,null,"fr","244 Caminot del Basquet",31320,"Aureville","FR","FR","FR","06 14 44 31 42 ",null,"laurent.koechlin@free.fr",null,null,null,{"$f":"CONCATENATE(C173,\" \",D173)","v":"Koechlin Laurent "},null,100,{"$f":"Z173*2%","v":2},{"$f":"AA173-AA173*30%","v":1.4},100,{"$f":"AC173*2%","v":2},{"$f":"AD173-AD173*30%","v":1.4},100,{"$f":"AF173*1.57%","v":1.5700000000000003},{"$f":"AG173-AG173*30%","v":1.0990000000000002}]
["ICEA-313","woman","Kosovskaia","Oxana"," CONOR","1971-08-06","Khmelnitski","person",null,null,"fr","13, domaine de Montbrun",31450,"MONTRBUNLAURAGAS","FR","FR","FR","07 84 15 40 68",null,"conor.bernard@orange.fr",null,null,null,{"$f":"CONCATENATE(C174,\" \",D174)","v":"Kosovskaia Oxana"},null,null,{"$f":"Z174*2%","v":0},{"$f":"AA174-AA174*30%","v":0},500,{"$f":"AC174*2%","v":10},{"$f":"AD174-AD174*30%","v":7},500,{"$f":"AF174*1.57%","v":7.8500000000000014},{"$f":"AG174-AG174*30%","v":5.495000000000001}]
["ICEA-347","woman","Laguens","Henriette","Surin","1952-01-18","Clermont Ferrand","person",null,null,"fr","1400 ch de St Maurice",31810,"Clermont Lefort","FR","FR","FR","06 15 37 14 00",null,"ea.surin@yahoo.fr",null,null,null,{"$f":"CONCATENATE(C175,\" \",D175)","v":"Laguens Henriette"},null,null,{"$f":"Z175*2%","v":0},{"$f":"AA175-AA175*30%","v":0},500,{"$f":"AC175*2%","v":10},{"$f":"AD175-AD175*30%","v":7},500,{"$f":"AF175*1.57%","v":7.8500000000000014},{"$f":"AG175-AG175*30%","v":5.495000000000001}]
["ICEA-03","woman","Lahaye","Béatrice","Brousseau","1941-06-05","Biarritz (64)","person",null,null,"fr","71, Avenue Louise Couderc",31670,"Labège","FR","FR","FR","06 81 14 49 09",null,"beatricebrousseau4@gmail.com","Brousseau","FR7613106005001803334010150","AGRIFRPP831",{"$f":"CONCATENATE(C176,\" \",D176)","v":"Lahaye Béatrice"},null,400,{"$f":"Z176*2%","v":8},{"$f":"AA176-AA176*30%","v":5.6},500,{"$f":"AC176*2%","v":10},{"$f":"AD176-AD176*30%","v":7},500,{"$f":"AF176*1.57%","v":7.8500000000000014},{"$f":"AG176-AG176*30%","v":5.495000000000001},{"$f":"AB176+AE176+AH176","v":18.094999999999999},{"$f":"CONCATENATE(\"2019/\",'cooperators-41'!AB176,\"Euros-2020/\",'cooperators-41'!AE176,\"Euros-2022/\",'cooperators-41'!AH176,\"Euros\")","v":"2019/5,6Euros-2020/7Euros-2022/5,495Euros"}]
["ICEA-190","woman","LAINE","Lucie",". ","2001-04-10","BOURG LA REINE","person",null,null,"fr","29 RUE DELMAS",31400,"TOULOUSE","FR","FR","FR","06 03 53 41 88",null,"laine.pierre@9online.fr",null,null,null,{"$f":"CONCATENATE(C177,\" \",D177)","v":"LAINE Lucie"},null,250,{"$f":"Z177*2%","v":5},{"$f":"AA177-AA177*30%","v":3.5},250,{"$f":"AC177*2%","v":5},{"$f":"AD177-AD177*30%","v":3.5},250,{"$f":"AF177*1.57%","v":3.9250000000000007},{"$f":"AG177-AG177*30%","v":2.7475000000000005}]
["ICEA-189","man","LAINE","Pierre"," .","1972-02-23","ROUEN","person",null,null,"fr","29 RUE DELMAS",31400,"TOULOUSE","FR","FR","FR","06 03 53 41 88",null,"laine.pierre@9online.fr",null,null,null,{"$f":"CONCATENATE(C178,\" \",D178)","v":"LAINE Pierre"},null,500,{"$f":"Z178*2%","v":10},{"$f":"AA178-AA178*30%","v":7},500,{"$f":"AC178*2%","v":10},{"$f":"AD178-AD178*30%","v":7},500,{"$f":"AF178*1.57%","v":7.8500000000000014},{"$f":"AG178-AG178*30%","v":5.495000000000001}]
["ICEA-191","man","LAINE","Xavier",null,"2003-09-06","TOULOUSE","person",null,null,"fr","29 RUE DELMAS",31400,"TOULOUSE","FR","FR","FR","06 03 53 41 88",null,"laine.pierre@9online.fr",null,null,null,{"$f":"CONCATENATE(C179,\" \",D179)","v":"LAINE Xavier"},null,250,{"$f":"Z179*2%","v":5},{"$f":"AA179-AA179*30%","v":3.5},250,{"$f":"AC179*2%","v":5},{"$f":"AD179-AD179*30%","v":3.5},250,{"$f":"AF179*1.57%","v":3.9250000000000007},{"$f":"AG179-AG179*30%","v":2.7475000000000005}]
["ICEA-403","man","Langry","Jean",null,"1983-06-02","Nantes","person",null,null,"fr","    Lieu-dit FACHET",31190,"MIREMONT","FR","FR","FR",33769255771,null,"jean.langry@posteo.net","Claire Carbonnel ou Jean Langry","FR7617807000779551973757871","CCBPFRPPTLS",{"$f":"CONCATENATE(C180,\" \",D180)","v":"Langry Jean"},null,null,{"$f":"Z180*2%","v":0},{"$f":"AA180-AA180*30%","v":0},null,{"$f":"AC180*2%","v":0},{"$f":"AD180-AD180*30%","v":0},100,{"$f":"AF180*1.57%","v":1.5700000000000003},{"$f":"AG180-AG180*30%","v":1.0990000000000002},{"$f":"AB180+AE180+AH180","v":1.0990000000000002},{"$f":"CONCATENATE(\"2019/\",'cooperators-41'!AB180,\"Euros-2020/\",'cooperators-41'!AE180,\"Euros-2022/\",'cooperators-41'!AH180,\"Euros\")","v":"2019/0Euros-2020/0Euros-2022/1,099Euros"}]
["ICEA-96","woman","Laurens","Anne",null,"1985-03-23","Puento Alto (Chili)","person",null,null,"fr","23 rue Aymard-Bat E, Apt 61,Res S Paru",98800,"Noumea- N calédomie","FR","FR","FR","00 687 93 68 55",null,"anne.laurens31@gmail.com",null,null,null,{"$f":"CONCATENATE(C181,\" \",D181)","v":"Laurens Anne"},null,50,{"$f":"Z181*2%","v":1},{"$f":"AA181-AA181*30%","v":0.7},50,{"$f":"AC181*2%","v":1},{"$f":"AD181-AD181*30%","v":0.7},50,{"$f":"AF181*1.57%","v":0.78500000000000014},{"$f":"AG181-AG181*30%","v":0.5495000000000001}]
["ICEA-04","man","Laurens","Christian",null,"1950-08-06","Albi (81)","person",null,null,"fr","6, chemin de l'olivier",31670,"Labège","FR","FR","FR","06 06 56 31 30",null,"christianlaurens81@gmail.com",null,null,null,{"$f":"CONCATENATE(C182,\" \",D182)","v":"Laurens Christian"},null,50,{"$f":"Z182*2%","v":1},{"$f":"AA182-AA182*30%","v":0.7},50,{"$f":"AC182*2%","v":1},{"$f":"AD182-AD182*30%","v":0.7},50,{"$f":"AF182*1.57%","v":0.78500000000000014},{"$f":"AG182-AG182*30%","v":0.5495000000000001}]
["ICEA-330","man","LE BART","Jacques",null,"1960-12-02","LAVAL","person",null,null,"fr","6 RUE LOUIS MARC DEMOUILLES ",31400,"TOULOUSE","FR","FR","FR",33614672854,null,"jlebart31@gmail.com","Le Bart","FR7610278022000001894154062","cmcifr2a",{"$f":"CONCATENATE(C183,\" \",D183)","v":"LE BART Jacques"},null,null,{"$f":"Z183*2%","v":0},{"$f":"AA183-AA183*30%","v":0},200,{"$f":"AC183*2%","v":4},{"$f":"AD183-AD183*30%","v":2.8},200,{"$f":"AF183*1.57%","v":3.1400000000000006},{"$f":"AG183-AG183*30%","v":2.1980000000000004},{"$f":"AB183+AE183+AH183","v":4.9980000000000002},{"$f":"CONCATENATE(\"2019/\",'cooperators-41'!AB183,\"Euros-2020/\",'cooperators-41'!AE183,\"Euros-2022/\",'cooperators-41'!AH183,\"Euros\")","v":"2019/0Euros-2020/2,8Euros-2022/2,198Euros"}]
["ICEA-32","woman","LECOCQ","Anne","Bouchet","1959-08-31","Douai (59)","person",null,null,"fr","15 allée des aubépines",31320,"Castanet Tolosan","FR","FR","FR","+336 27 66 97 62",null,"annebouchet5@yahoo.fr",null,null,null,{"$f":"CONCATENATE(C184,\" \",D184)","v":"LECOCQ Anne"},null,200,{"$f":"Z184*2%","v":4},{"$f":"AA184-AA184*30%","v":2.8},200,{"$f":"AC184*2%","v":4},{"$f":"AD184-AD184*30%","v":2.8},200,{"$f":"AF184*1.57%","v":3.1400000000000006},{"$f":"AG184-AG184*30%","v":2.1980000000000004}]
["ICEA-350","man","Leduque","Dominique",null,"1966-01-29","Alloue","person",null,null,"fr","25 chemin du coustou de Picard",31450,"Montbrun-Lauragais","FR","FR","FR","07 69 34 07 44",null,"Leduque.dominique@neuf.fr",null,null,null,{"$f":"CONCATENATE(C185,\" \",D185)","v":"Leduque Dominique"},null,null,{"$f":"Z185*2%","v":0},{"$f":"AA185-AA185*30%","v":0},100,{"$f":"AC185*2%","v":2},{"$f":"AD185-AD185*30%","v":1.4},100,{"$f":"AF185*1.57%","v":1.5700000000000003},{"$f":"AG185-AG185*30%","v":1.0990000000000002}]
["ICEA-348","man","Leduque","Mathis",null,"1999-02-01","Lons le Saunier","person",null,null,"fr","25 chemin du coustou de Picard",31450,"Montbrun-Lauragais","FR","FR","FR","06 51 79 74 96",null,"mathis.leduque@gmail.com",null,null,null,{"$f":"CONCATENATE(C186,\" \",D186)","v":"Leduque Mathis"},null,null,{"$f":"Z186*2%","v":0},{"$f":"AA186-AA186*30%","v":0},50,{"$f":"AC186*2%","v":1},{"$f":"AD186-AD186*30%","v":0.7},50,{"$f":"AF186*1.57%","v":0.78500000000000014},{"$f":"AG186-AG186*30%","v":0.5495000000000001}]
["ICEA-60","man","LEGAY","Frédéric","Fréderic","2017-10-10",null,"company","JMP Chauffage","FR11448438986","fr","ZA de Bogues - Av de Toulouse",31750,"Escalquens","FR","FR","FR","05 61 83 25 05",null,"contact@jmpchauffage.fr",null,null,null,{"$f":"CONCATENATE(C187,\" \",D187)","v":"LEGAY Frédéric"},null,200,{"$f":"Z187*2%","v":4},{"$f":"AA187-AA187*30%","v":2.8},200,{"$f":"AC187*2%","v":4},{"$f":"AD187-AD187*30%","v":2.8},200,{"$f":"AF187*1.57%","v":3.1400000000000006},{"$f":"AG187-AG187*30%","v":2.1980000000000004}]
["ICEA-338","woman","LEPINE","Marjorie"," .","1990-10-05","Béziers","person",null,null,"fr","17   rue bel horizon",31450,"Odars","FR","FR","FR","+3368 27 80 54",null,"marjorielepine@pm.me","LEPINE","FR7621570000010807942001333","STFEFR21XXX",{"$f":"CONCATENATE(C188,\" \",D188)","v":"LEPINE Marjorie"},null,null,{"$f":"Z188*2%","v":0},{"$f":"AA188-AA188*30%","v":0},50,{"$f":"AC188*2%","v":1},{"$f":"AD188-AD188*30%","v":0.7},50,{"$f":"AF188*1.57%","v":0.78500000000000014},{"$f":"AG188-AG188*30%","v":0.5495000000000001},{"$f":"AB188+AE188+AH188","v":1.2495000000000001},{"$f":"CONCATENATE(\"2019/\",'cooperators-41'!AB188,\"Euros-2020/\",'cooperators-41'!AE188,\"Euros-2022/\",'cooperators-41'!AH188,\"Euros\")","v":"2019/0Euros-2020/0,7Euros-2022/0,5495Euros"}]
["ICEA-364","man","Leroyer","Philippe"," .","1953-06-01","Paris","person",null,null,"fr","6 chemin de Safrana",31450,"Montgiscard","FR","FR","FR","06 12 55 41 52",null,"ph.leroyer@gmail.com",null,null,null,{"$f":"CONCATENATE(C189,\" \",D189)","v":"Leroyer Philippe"},null,null,{"$f":"Z189*2%","v":0},{"$f":"AA189-AA189*30%","v":0},50,{"$f":"AC189*2%","v":1},{"$f":"AD189-AD189*30%","v":0.7},50,{"$f":"AF189*1.57%","v":0.78500000000000014},{"$f":"AG189-AG189*30%","v":0.5495000000000001}]
["ICEA-170","woman","Lesage","ANNIE","Gambier","1962-07-19","St Amand-Montrond","person",null,null,"fr","11 chemin de picotalen",11400,"fendeille","FR","FR","FR","06 95 91 25 92",null,"yah.gambier@gmail.com",null,null,null,{"$f":"CONCATENATE(C190,\" \",D190)","v":"Lesage ANNIE"},null,1000,{"$f":"Z190*2%","v":20},{"$f":"AA190-AA190*30%","v":14},1000,{"$f":"AC190*2%","v":20},{"$f":"AD190-AD190*30%","v":14},1000,{"$f":"AF190*1.57%","v":15.700000000000003},{"$f":"AG190-AG190*30%","v":10.990000000000002}]
["ICEA-206","woman","LESECQ","Claire","Claire","1969-09-20","Ris Orangis","person",null,null,"fr","26 rue du Petit Prince",31320,"CASTANET TOLOSAN","FR","FR","FR","+3381 55 42 89",null,"claire@haydont.net",null,null,null,{"$f":"CONCATENATE(C191,\" \",D191)","v":"LESECQ Claire"},null,500,{"$f":"Z191*2%","v":10},{"$f":"AA191-AA191*30%","v":7},500,{"$f":"AC191*2%","v":10},{"$f":"AD191-AD191*30%","v":7},500,{"$f":"AF191*1.57%","v":7.8500000000000014},{"$f":"AG191-AG191*30%","v":5.495000000000001}]
["ICEA-295","man","Lestarquit","Laurent"," .","1971-01-09","Strasbourg","person",null,null,"fr","2 Hameau de Mange Pommes",31520,"Ramonville","FR","FR","FR","+336 76 46 10 05",33567062303,"laurent.lestarquit@m4x.org",null,null,null,{"$f":"CONCATENATE(C192,\" \",D192)","v":"Lestarquit Laurent"},null,null,{"$f":"Z192*2%","v":0},{"$f":"AA192-AA192*30%","v":0},500,{"$f":"AC192*2%","v":10},{"$f":"AD192-AD192*30%","v":7},500,{"$f":"AF192*1.57%","v":7.8500000000000014},{"$f":"AG192-AG192*30%","v":5.495000000000001}]
["ICEA-299","woman","Lestarquit","Marion",null,"2013-08-02","Toulouse","gardian",null,null,"fr","2 Hameau de Mange Pommes",31520,"Ramonville","FR","FR","FR",null,null,"laurent.lestarquit@m4x.org",null,null,null,{"$f":"CONCATENATE(C193,\" \",D193)","v":"Lestarquit Marion"},null,null,{"$f":"Z193*2%","v":0},{"$f":"AA193-AA193*30%","v":0},500,{"$f":"AC193*2%","v":10},{"$f":"AD193-AD193*30%","v":7},500,{"$f":"AF193*1.57%","v":7.8500000000000014},{"$f":"AG193-AG193*30%","v":5.495000000000001}]
["ICEA-297","woman","Lestarquit","Raphaëlle",". ","2011-05-01","Lyon","gardian",null,null,"fr","2 Hameau de Mange Pommes",31520,"Ramonville","FR","FR","FR","06 76 46 10 05",null,"ppff05@yahoo.fr",null,null,null,{"$f":"CONCATENATE(C194,\" \",D194)","v":"Lestarquit Raphaëlle"},null,null,{"$f":"Z194*2%","v":0},{"$f":"AA194-AA194*30%","v":0},500,{"$f":"AC194*2%","v":10},{"$f":"AD194-AD194*30%","v":7},500,{"$f":"AF194*1.57%","v":7.8500000000000014},{"$f":"AG194-AG194*30%","v":5.495000000000001}]
["ICEA-204","woman","LHERMITTE","ANNE-CLAUDE","Dal Zovo","1957-07-22","NANTES","person",null,null,"fr"," 30 Chemin Fontaine St Sernin",31670,"Labege","FR","FR","FR","06 88 01 55 27",null,"acodz@orange.fr",null,null,null,{"$f":"CONCATENATE(C195,\" \",D195)","v":"LHERMITTE ANNE-CLAUDE"},null,50,{"$f":"Z195*2%","v":1},{"$f":"AA195-AA195*30%","v":0.7},50,{"$f":"AC195*2%","v":1},{"$f":"AD195-AD195*30%","v":0.7},50,{"$f":"AF195*1.57%","v":0.78500000000000014},{"$f":"AG195-AG195*30%","v":0.5495000000000001}]
["ICEA-66","woman","Lomont","Elsa",null,"1985-06-22","Toulouse (31)","person",null,null,"fr","17 rue Gramat",31000,"Toulouse","FR","FR","FR","06 80 70 70 91",null,"elsa.lomont@gmail.com",null,null,null,{"$f":"CONCATENATE(C196,\" \",D196)","v":"Lomont Elsa"},null,100,{"$f":"Z196*2%","v":2},{"$f":"AA196-AA196*30%","v":1.4},100,{"$f":"AC196*2%","v":2},{"$f":"AD196-AD196*30%","v":1.4},100,{"$f":"AF196*1.57%","v":1.5700000000000003},{"$f":"AG196-AG196*30%","v":1.0990000000000002}]
["ICEA-291","woman","LOPEZ","Aurore"," .","1988-03-06","Montauban","person",null,null,"fr","8 impasse de Lascaux - Apt 71",31500,"Toulouse","FR","FR","FR","06 78 75 59 66",null,"aurorelopez@ymail.com",null,null,null,{"$f":"CONCATENATE(C197,\" \",D197)","v":"LOPEZ Aurore"},null,null,{"$f":"Z197*2%","v":0},{"$f":"AA197-AA197*30%","v":0},50,{"$f":"AC197*2%","v":1},{"$f":"AD197-AD197*30%","v":0.7},50,{"$f":"AF197*1.57%","v":0.78500000000000014},{"$f":"AG197-AG197*30%","v":0.5495000000000001}]
["ICEA-373","woman","Lorillloux","Sylvie"," Lorilloux","1959-08-03","Roanne","person",null,null,"fr","1 Ter Rue Georges Vallerey Appartement 306",31320,"CasranetTolosan","FR","FR","FR","06 71 96 20 22",null,"sylvielorilloux@orange.fr",null,null,null,{"$f":"CONCATENATE(C198,\" \",D198)","v":"Lorillloux Sylvie"},null,null,{"$f":"Z198*2%","v":0},{"$f":"AA198-AA198*30%","v":0},null,{"$f":"AC198*2%","v":0},{"$f":"AD198-AD198*30%","v":0},100,{"$f":"AF198*1.57%","v":1.5700000000000003},{"$f":"AG198-AG198*30%","v":1.0990000000000002}]
["ICEA-235","woman","Maffre","Myriam","Fieu-Maffre","1967-06-20",null,"person",null,null,"fr","59 Ch Al Cers",31450,"Montgiscard","FR","FR","FR","06 70 81 01 39",null,"myriam.fm@orange.fr",null,null,null,{"$f":"CONCATENATE(C199,\" \",D199)","v":"Maffre Myriam"},null,50,{"$f":"Z199*2%","v":1},{"$f":"AA199-AA199*30%","v":0.7},50,{"$f":"AC199*2%","v":1},{"$f":"AD199-AD199*30%","v":0.7},50,{"$f":"AF199*1.57%","v":0.78500000000000014},{"$f":"AG199-AG199*30%","v":0.5495000000000001}]
["ICEA-220","woman","Mallet","Véronique","Pourcher","1968-06-25","Saintes","person",null,null,"fr","27 rue des Ménéstrels",31670,"Labège","FR","FR","FR","06 75 80 26 14",null,"vero.mallet@hotmail.fr",null,null,null,{"$f":"CONCATENATE(C200,\" \",D200)","v":"Mallet Véronique"},null,50,{"$f":"Z200*2%","v":1},{"$f":"AA200-AA200*30%","v":0.7},50,{"$f":"AC200*2%","v":1},{"$f":"AD200-AD200*30%","v":0.7},50,{"$f":"AF200*1.57%","v":0.78500000000000014},{"$f":"AG200-AG200*30%","v":0.5495000000000001}]
["ICEA-53","man","MAMPEY","Roger",null,"1946-08-04","Thil(54)","person",null,null,"fr","5, rue du Bédel",31750,"Escalquens","FR","FR","FR","06 76 11 65 33",null,"roger.mampey@free.fr",null,null,null,{"$f":"CONCATENATE(C201,\" \",D201)","v":"MAMPEY Roger"},null,500,{"$f":"Z201*2%","v":10},{"$f":"AA201-AA201*30%","v":7},500,{"$f":"AC201*2%","v":10},{"$f":"AD201-AD201*30%","v":7},500,{"$f":"AF201*1.57%","v":7.8500000000000014},{"$f":"AG201-AG201*30%","v":5.495000000000001}]
["ICEA-289","man","MANTON","LUC"," .","1971-02-17","TOULOUSE","person",null,null,"fr","8 RUE DE LA GARANCE",31320,"PECHABOU","FR","FR","FR","06 79 40 58 05",null,"luc.manton@grdf.fr",null,null,null,{"$f":"CONCATENATE(C202,\" \",D202)","v":"MANTON LUC"},null,null,{"$f":"Z202*2%","v":0},{"$f":"AA202-AA202*30%","v":0},250,{"$f":"AC202*2%","v":5},{"$f":"AD202-AD202*30%","v":3.5},250,{"$f":"AF202*1.57%","v":3.9250000000000007},{"$f":"AG202-AG202*30%","v":2.7475000000000005}]
["ICEA-45","man","Manuguerra","Jean",null,"1950-01-08","Casablanca-Maroc","person",null,null,"fr","24 Ch du Ruisseau de Fontbazi",31450,"Donneville","FR","FR","FR","05 61 81 98 76",null,"jean.manuguerra1@gmail.com",null,null,null,{"$f":"CONCATENATE(C203,\" \",D203)","v":"Manuguerra Jean"},null,100,{"$f":"Z203*2%","v":2},{"$f":"AA203-AA203*30%","v":1.4},200,{"$f":"AC203*2%","v":4},{"$f":"AD203-AD203*30%","v":2.8},200,{"$f":"AF203*1.57%","v":3.1400000000000006},{"$f":"AG203-AG203*30%","v":2.1980000000000004}]
["ICEA-138","man","MARTIN","Madame Florence",null,"2017-05-30",null,"company","Energie Partagée Investissement","FR00509533527","fr","10 av des canuts",69120,"Vaulx en velin","FR","FR","FR",null,null,"florence.martin@energie-partagee.org",null,null,null,{"$f":"CONCATENATE(C204,\" \",D204)","v":"MARTIN Madame Florence"},null,2000,{"$f":"Z204*2%","v":40},{"$f":"AA204-AA204*30%","v":28},2000,{"$f":"AC204*2%","v":40},{"$f":"AD204-AD204*30%","v":28},2000,{"$f":"AF204*1.57%","v":31.400000000000006},{"$f":"AG204-AG204*30%","v":21.980000000000004}]
["ICEA-273","man","Martin","Olivier"," ","1978-06-08","Figeac","person",null,null,"fr","30 rue des fauvettes",31520,"Ramonville","FR","FR","FR","06 70 26 85 94",null,"oli.martin@laposte.net",null,null,null,{"$f":"CONCATENATE(C205,\" \",D205)","v":"Martin Olivier"},null,null,{"$f":"Z205*2%","v":0},{"$f":"AA205-AA205*30%","v":0},500,{"$f":"AC205*2%","v":10},{"$f":"AD205-AD205*30%","v":7},500,{"$f":"AF205*1.57%","v":7.8500000000000014},{"$f":"AG205-AG205*30%","v":5.495000000000001}]
["ICEA-276","man","MARY","Jean-Pierre"," .","1957-03-29","CHAUMONT (52000)","person",null,null,"fr","83 route de la gleyzette",31120,"LACROIXFALGARDE","FR","FR","FR","+33681 14 69 57",33561769011,"jean-pierre.mary12@wanadoo.fr","MARY","FR7640618803210004023777005","BOUSFRPPXXX",{"$f":"CONCATENATE(C206,\" \",D206)","v":"MARY Jean-Pierre"},null,null,{"$f":"Z206*2%","v":0},{"$f":"AA206-AA206*30%","v":0},500,{"$f":"AC206*2%","v":10},{"$f":"AD206-AD206*30%","v":7},100,{"$f":"AF206*1.57%","v":1.5700000000000003},{"$f":"AG206-AG206*30%","v":1.0990000000000002},{"$f":"AB206+AE206+AH206","v":8.0990000000000002},{"$f":"CONCATENATE(\"2019/\",'cooperators-41'!AB206,\"Euros-2020/\",'cooperators-41'!AE206,\"Euros-2022/\",'cooperators-41'!AH206,\"Euros\")","v":"2019/0Euros-2020/7Euros-2022/1,099Euros"}]
["ICEA-332","man","MARY","JUNE","PROVOOST-MARY","2018-08-19","NEUILLY","gardian",null,null,"fr","103 rue du capitaine GUYNEMER",92400,"COURBEVOIE","FR","FR","FR",null,null,"arnaud-mary@live.fr",null,null,null,{"$f":"CONCATENATE(C207,\" \",D207)","v":"MARY JUNE"},null,null,{"$f":"Z207*2%","v":0},{"$f":"AA207-AA207*30%","v":0},50,{"$f":"AC207*2%","v":1},{"$f":"AD207-AD207*30%","v":0.7},50,{"$f":"AF207*1.57%","v":0.78500000000000014},{"$f":"AG207-AG207*30%","v":0.5495000000000001}]
["ICEA-434","man","MARY","Liam ",null,"2021-05-11","Neuilly sur Seine ","gardian",null,null,"fr","Rue du capitaine Guynemer ",92400,"Courbevoie ","FR","FR","FR",null,null,"arnaud-mary@live.fr",null,null,null,{"$f":"CONCATENATE(C208,\" \",D208)","v":"MARY Liam "},null,null,{"$f":"Z208*2%","v":0},{"$f":"AA208-AA208*30%","v":0},null,{"$f":"AC208*2%","v":0},{"$f":"AD208-AD208*30%","v":0},50,{"$f":"AF208*1.57%","v":0.78500000000000014},{"$f":"AG208-AG208*30%","v":0.5495000000000001}]
["ICEA-375","woman","Mas","Audrey",null,"1986-11-23","St Germain en Lay","person",null,null,"fr","3 rue Albert Camus-Villa 4",31520,"Ramonville Saint Agne","FR","FR","FR","06 50 40 38 03",null,"mas.audrey@live.fr",null,null,null,{"$f":"CONCATENATE(C209,\" \",D209)","v":"Mas Audrey"},null,null,{"$f":"Z209*2%","v":0},{"$f":"AA209-AA209*30%","v":0},null,{"$f":"AC209*2%","v":0},{"$f":"AD209-AD209*30%","v":0},50,{"$f":"AF209*1.57%","v":0.78500000000000014},{"$f":"AG209-AG209*30%","v":0.5495000000000001}]
["ICEA-164","woman","Masse","Christine","Lanselle","1953-06-06","Chalon/saone","person",null,null,"fr","5 rue du Pic du gar",31750,"Escalquens","FR","FR","FR","06 61 12 14 62",null,"toutouri@orange.fr",null,null,null,{"$f":"CONCATENATE(C210,\" \",D210)","v":"Masse Christine"},null,250,{"$f":"Z210*2%","v":5},{"$f":"AA210-AA210*30%","v":3.5},250,{"$f":"AC210*2%","v":5},{"$f":"AD210-AD210*30%","v":3.5},250,{"$f":"AF210*1.57%","v":3.9250000000000007},{"$f":"AG210-AG210*30%","v":2.7475000000000005}]
["ICEA-245","woman","Maurel","Clara",null,"1994-12-05","Toulouse","person",null,null,"fr","16 rue des Ondines",31300,"Toulouse","FR","FR","FR","06 66 98 16 85",null,"maurel.cs@gmail.com",null,null,null,{"$f":"CONCATENATE(C211,\" \",D211)","v":"Maurel Clara"},null,100,{"$f":"Z211*2%","v":2},{"$f":"AA211-AA211*30%","v":1.4},300,{"$f":"AC211*2%","v":6},{"$f":"AD211-AD211*30%","v":4.2},400,{"$f":"AF211*1.57%","v":6.2800000000000011},{"$f":"AG211-AG211*30%","v":4.3960000000000008}]
["ICEA-246","man","Maurel","Luc",null,"2000-01-07","Toulouse","person",null,null,"fr","16 rue des Ondines",31300,"Toulouse","FR","FR","FR","07 82 37 32 20",null,"lucmaurel2000@gmail.com",null,null,null,{"$f":"CONCATENATE(C212,\" \",D212)","v":"Maurel Luc"},null,100,{"$f":"Z212*2%","v":2},{"$f":"AA212-AA212*30%","v":1.4},300,{"$f":"AC212*2%","v":6},{"$f":"AD212-AD212*30%","v":4.2},400,{"$f":"AF212*1.57%","v":6.2800000000000011},{"$f":"AG212-AG212*30%","v":4.3960000000000008}]
["ICEA-387","man","MAUREL MANUGUERRA","Clément",null,"2021-12-11","Toulouse","gardian",null,null,"fr","45, CHEMIN DU THIL",31450,"CORRONSAC","FR","FR","FR",null,"05 61 81 98 76","jean.manuguerra1@gmail.com",null,null,null,{"$f":"CONCATENATE(C213,\" \",D213)","v":"MAUREL MANUGUERRA Clément"},null,null,{"$f":"Z213*2%","v":0},{"$f":"AA213-AA213*30%","v":0},null,{"$f":"AC213*2%","v":0},{"$f":"AD213-AD213*30%","v":0},200,{"$f":"AF213*1.57%","v":3.1400000000000006},{"$f":"AG213-AG213*30%","v":2.1980000000000004}]
["ICEA-306","man","MAUREL MANUGUERRA","LUCAS",". ","2018-01-27","TOULOUSE","gardian",null,null,"fr","45, CHEMIN DU THIL",31450,"CORRONSAC","FR","FR","FR",null,null,"manuguerra.audrey@orange.fr",null,null,null,{"$f":"CONCATENATE(C214,\" \",D214)","v":"MAUREL MANUGUERRA LUCAS"},null,null,{"$f":"Z214*2%","v":0},{"$f":"AA214-AA214*30%","v":0},200,{"$f":"AC214*2%","v":4},{"$f":"AD214-AD214*30%","v":2.8},200,{"$f":"AF214*1.57%","v":3.1400000000000006},{"$f":"AG214-AG214*30%","v":2.1980000000000004}]
["ICEA-156","man","Maurel","Marcel",null,"1958-02-01","Labège","person",null,null,"fr","39 rue des bruyères",31650,"Saint Orens","FR","FR","FR","06 98 17 70 26",null,"marcel.maurel@31gmail.com",null,null,null,{"$f":"CONCATENATE(C215,\" \",D215)","v":"Maurel Marcel"},null,50,{"$f":"Z215*2%","v":1},{"$f":"AA215-AA215*30%","v":0.7},50,{"$f":"AC215*2%","v":1},{"$f":"AD215-AD215*30%","v":0.7},50,{"$f":"AF215*1.57%","v":0.78500000000000014},{"$f":"AG215-AG215*30%","v":0.5495000000000001}]
["ICEA-247","man","Maurel","Paul",null,"2001-07-08","Toulouse","person",null,null,"fr","16 rue des Ondines",31300,"Toulouse","FR","FR","FR","07 83 20 02 58",null,"pjm.maurel@gmail.com",null,null,null,{"$f":"CONCATENATE(C216,\" \",D216)","v":"Maurel Paul"},null,100,{"$f":"Z216*2%","v":2},{"$f":"AA216-AA216*30%","v":1.4},300,{"$f":"AC216*2%","v":6},{"$f":"AD216-AD216*30%","v":4.2},400,{"$f":"AF216*1.57%","v":6.2800000000000011},{"$f":"AG216-AG216*30%","v":4.3960000000000008}]
["ICEA-244","woman","Maurel","Sarah",null,"1992-04-30","Grenoble","person",null,null,"fr","16 rue des Ondines",31300,"Toulouse","FR","FR","FR","06 59 08 97 35",null,"sarahmaurel@live.fr",null,null,null,{"$f":"CONCATENATE(C217,\" \",D217)","v":"Maurel Sarah"},null,100,{"$f":"Z217*2%","v":2},{"$f":"AA217-AA217*30%","v":1.4},300,{"$f":"AC217*2%","v":6},{"$f":"AD217-AD217*30%","v":4.2},400,{"$f":"AF217*1.57%","v":6.2800000000000011},{"$f":"AG217-AG217*30%","v":4.3960000000000008}]
["ICEA-49","man","Ménoni","Emmanuel",null,"1957-12-22","Thonon les bains","person",null,null,"fr","Le village",31440,"Bachos","FR","FR","FR","06 13 93 67 69",null,"emmanuel.menoni@wanadoo.fr",null,null,null,{"$f":"CONCATENATE(C218,\" \",D218)","v":"Ménoni Emmanuel"},null,500,{"$f":"Z218*2%","v":10},{"$f":"AA218-AA218*30%","v":7},500,{"$f":"AC218*2%","v":10},{"$f":"AD218-AD218*30%","v":7},500,{"$f":"AF218*1.57%","v":7.8500000000000014},{"$f":"AG218-AG218*30%","v":5.495000000000001}]
["ICEA-356","man","Messent","Eric",null,"1972-09-04","Paris 11eme","person",null,null,"fr","Streingardsvegens 5",5363,"Agotnes","NO","NO","FR","47 53 23 73 95",null,"eric.mess@icloud.com",null,null,null,{"$f":"CONCATENATE(C219,\" \",D219)","v":"Messent Eric"},null,null,{"$f":"Z219*2%","v":0},{"$f":"AA219-AA219*30%","v":0},150,{"$f":"AC219*2%","v":3},{"$f":"AD219-AD219*30%","v":2.1},250,{"$f":"AF219*1.57%","v":3.9250000000000007},{"$f":"AG219-AG219*30%","v":2.7475000000000005}]
["ICEA-227","woman","Messent","Florence","Florence Messent","1971-01-10","Paris","person",null,null,"fr","Le village , 8 route de Lanta",31570,"Tarabel","FR","FR","FR","06 14 75 69 80",null,"flo4131@gmail.com",null,null,null,{"$f":"CONCATENATE(C220,\" \",D220)","v":"Messent Florence"},null,50,{"$f":"Z220*2%","v":1},{"$f":"AA220-AA220*30%","v":0.7},150,{"$f":"AC220*2%","v":3},{"$f":"AD220-AD220*30%","v":2.1},150,{"$f":"AF220*1.57%","v":2.3550000000000004},{"$f":"AG220-AG220*30%","v":1.6485000000000003}]
["ICEA-416","woman","Miezan","Valérie ",null,"1966-07-22","Bordeaux ","person",null,null,"fr","11 allée de plaisance",31410,"Lavernose-Lacasse","FR","FR","FR",33620424215,33620424215,"couduriervalerie@gmail.com",null,"NULL",null,{"$f":"CONCATENATE(C221,\" \",D221)","v":"Miezan Valérie "},null,null,{"$f":"Z221*2%","v":0},{"$f":"AA221-AA221*30%","v":0},null,{"$f":"AC221*2%","v":0},{"$f":"AD221-AD221*30%","v":0},100,{"$f":"AF221*1.57%","v":1.5700000000000003},{"$f":"AG221-AG221*30%","v":1.0990000000000002}]
["ICEA-27","man","Milhet","Serge",null,"1952-09-29","Coustances(50)","person",null,null,"fr","2 rue des Pyrénées",31670,"Labège","FR","FR","FR","06 78 73 64 68",null,"serge.milhet@orange.fr",null,null,null,{"$f":"CONCATENATE(C222,\" \",D222)","v":"Milhet Serge"},null,100,{"$f":"Z222*2%","v":2},{"$f":"AA222-AA222*30%","v":1.4},100,{"$f":"AC222*2%","v":2},{"$f":"AD222-AD222*30%","v":1.4},100,{"$f":"AF222*1.57%","v":1.5700000000000003},{"$f":"AG222-AG222*30%","v":1.0990000000000002}]
["ICEA-161","woman","Mollereau","Catherine","Manauté","1964-03-04","Apt","person",null,null,"fr","51   Allée Campferran",31320,"Auzeville-Tolosane","FR","FR","FR","+3337 52 74 61",null,"catherine.mollereau@orange.fr","Mollereau Catherine","FR7617807000336541978439271","CCBPFRPPTLS",{"$f":"CONCATENATE(C223,\" \",D223)","v":"Mollereau Catherine"},null,100,{"$f":"Z223*2%","v":2},{"$f":"AA223-AA223*30%","v":1.4},300,{"$f":"AC223*2%","v":6},{"$f":"AD223-AD223*30%","v":4.2},300,{"$f":"AF223*1.57%","v":4.7100000000000009},{"$f":"AG223-AG223*30%","v":3.2970000000000006},{"$f":"AB223+AE223+AH223","v":8.8970000000000002},{"$f":"CONCATENATE(\"2019/\",'cooperators-41'!AB223,\"Euros-2020/\",'cooperators-41'!AE223,\"Euros-2022/\",'cooperators-41'!AH223,\"Euros\")","v":"2019/1,4Euros-2020/4,2Euros-2022/3,297Euros"}]
["ICEA-298","man","Monzali","Nicolas"," .","1979-01-08","Cagnes sur mer","person",null,null,"fr","7, Rue des Hautes Vignes",32600,"LISLEJOURDAIN","FR","FR","FR","06 63 79 61 66",null,"monzali.nicolas@gmail.com",null,null,null,{"$f":"CONCATENATE(C224,\" \",D224)","v":"Monzali Nicolas"},null,null,{"$f":"Z224*2%","v":0},{"$f":"AA224-AA224*30%","v":0},150,{"$f":"AC224*2%","v":3},{"$f":"AD224-AD224*30%","v":2.1},150,{"$f":"AF224*1.57%","v":2.3550000000000004},{"$f":"AG224-AG224*30%","v":1.6485000000000003}]
["ICEA-413","man","Moutarlier","Philippe","Philippe","1961-05-12","Paris","person",null,null,"fr","22 rue des Vinaigriers",75010,"Paris","FR","US","FR",33618408308,33618408308,"pmoutarlier@yahoo.com",null,"NULL",null,{"$f":"CONCATENATE(C225,\" \",D225)","v":"Moutarlier Philippe"},null,null,{"$f":"Z225*2%","v":0},{"$f":"AA225-AA225*30%","v":0},null,{"$f":"AC225*2%","v":0},{"$f":"AD225-AD225*30%","v":0},1000,{"$f":"AF225*1.57%","v":15.700000000000003},{"$f":"AG225-AG225*30%","v":10.990000000000002}]
["ICEA-354","woman","Navarra","Babette"," .","1958-03-28","Schenefled (D)","person",null,null,"fr","    16 avenue de Gameville",31650,"St Orens de Gameville","FR","FR","DE","+3356 73 22 75",null,"babette.navarra@ovh.fr","Credit Agricole Toulouse 31","FR7613106005001230846610127","AGRIFRPP831",{"$f":"CONCATENATE(C226,\" \",D226)","v":"Navarra Babette"},null,null,{"$f":"Z226*2%","v":0},{"$f":"AA226-AA226*30%","v":0},500,{"$f":"AC226*2%","v":10},{"$f":"AD226-AD226*30%","v":7},500,{"$f":"AF226*1.57%","v":7.8500000000000014},{"$f":"AG226-AG226*30%","v":5.495000000000001},{"$f":"AB226+AE226+AH226","v":12.495000000000001},{"$f":"CONCATENATE(\"2019/\",'cooperators-41'!AB226,\"Euros-2020/\",'cooperators-41'!AE226,\"Euros-2022/\",'cooperators-41'!AH226,\"Euros\")","v":"2019/0Euros-2020/7Euros-2022/5,495Euros"}]
["ICEA-386","man","NEYROLLES","Eric",null,"1961-08-29","THIERS","person",null,null,"fr","15 AVENUE PIERRE GUERIN ",63300,"THIERS","FR","FR","FR",33656885799,3373804607,"ericneyrolles@orange.fr","NEYROLLES ERIC","FR7630004033750000133682553","BNPAFRPPXXX",{"$f":"CONCATENATE(C227,\" \",D227)","v":"NEYROLLES Eric"},null,null,{"$f":"Z227*2%","v":0},{"$f":"AA227-AA227*30%","v":0},null,{"$f":"AC227*2%","v":0},{"$f":"AD227-AD227*30%","v":0},100,{"$f":"AF227*1.57%","v":1.5700000000000003},{"$f":"AG227-AG227*30%","v":1.0990000000000002},{"$f":"AB227+AE227+AH227","v":1.0990000000000002},{"$f":"CONCATENATE(\"2019/\",'cooperators-41'!AB227,\"Euros-2020/\",'cooperators-41'!AE227,\"Euros-2022/\",'cooperators-41'!AH227,\"Euros\")","v":"2019/0Euros-2020/0Euros-2022/1,099Euros"}]
["ICEA-376","man","Nicolas","Jean Christophe",null,"1964-10-14","saumur","person",null,null,"fr","24 lotissement le samadal",31450,"Deyme","FR","FR","FR","06 17 45 50 61",null,"jch.nicolas@gmail.com",null,null,null,{"$f":"CONCATENATE(C228,\" \",D228)","v":"Nicolas Jean Christophe"},null,null,{"$f":"Z228*2%","v":0},{"$f":"AA228-AA228*30%","v":0},null,{"$f":"AC228*2%","v":0},{"$f":"AD228-AD228*30%","v":0},100,{"$f":"AF228*1.57%","v":1.5700000000000003},{"$f":"AG228-AG228*30%","v":1.0990000000000002}]
["ICEA-162","woman","Noeureuil","Anne-Laure",null,"1986-03-27","Toulouse","person",null,null,"fr","2 rue Toulouse Lautrec",31870,"Lagardelle/Leze","FR","FR","FR","06 84 49 61 30",null,"al-noeureuil@hotmail.fr",null,null,null,{"$f":"CONCATENATE(C229,\" \",D229)","v":"Noeureuil Anne-Laure"},null,500,{"$f":"Z229*2%","v":10},{"$f":"AA229-AA229*30%","v":7},500,{"$f":"AC229*2%","v":10},{"$f":"AD229-AD229*30%","v":7},500,{"$f":"AF229*1.57%","v":7.8500000000000014},{"$f":"AG229-AG229*30%","v":5.495000000000001}]
["ICEA-211","man","NOEUREUIL","Bertrand",null,"1990-06-08","TOULOUSE","person",null,null,"fr","8 chemin de Rioupeyre",31320,"CASTANET TOLOSAN","FR","FR","FR","06 02 09 78 49",null,"bertrand.noeureuil@gmail.com",null,null,null,{"$f":"CONCATENATE(C230,\" \",D230)","v":"NOEUREUIL Bertrand"},null,500,{"$f":"Z230*2%","v":10},{"$f":"AA230-AA230*30%","v":7},500,{"$f":"AC230*2%","v":10},{"$f":"AD230-AD230*30%","v":7},500,{"$f":"AF230*1.57%","v":7.8500000000000014},{"$f":"AG230-AG230*30%","v":5.495000000000001}]
["ICEA-55","man","Noeureuil","Eric","Jacques André","1956-12-12","Auchel","person",null,null,"fr","1bis rue Georges Vallerey, Appt.105 Bat.1 Villa Montebello",31320,"Castanet Tolosan","FR","FR","FR","06 40 83 94 43",null,"eric.noeureuil@wanadoo.fr","NOEUREUIL ERIC","FR7612280000030490965164702","SORMFR2NXXX",{"$f":"CONCATENATE(C231,\" \",D231)","v":"Noeureuil Eric"},null,1000,{"$f":"Z231*2%","v":20},{"$f":"AA231-AA231*30%","v":14},2000,{"$f":"AC231*2%","v":40},{"$f":"AD231-AD231*30%","v":28},2000,{"$f":"AF231*1.57%","v":31.400000000000006},{"$f":"AG231-AG231*30%","v":21.980000000000004},{"$f":"AB231+AE231+AH231","v":63.980000000000004},{"$f":"CONCATENATE(\"2019/\",'cooperators-41'!AB231,\"Euros-2020/\",'cooperators-41'!AE231,\"Euros-2022/\",'cooperators-41'!AH231,\"Euros\")","v":"2019/14Euros-2020/28Euros-2022/21,98Euros"}]
["ICEA-131","man","Noeureuil","Pierre",null,"1983-11-06","Toulouse","person",null,null,"fr","18 chemin de la Gravette - C63",31170,"Tournefeuille","FR","FR","FR","06 83 54 16 32",null,"pierre.noeureuil@gmail.com",null,null,null,{"$f":"CONCATENATE(C232,\" \",D232)","v":"Noeureuil Pierre"},null,500,{"$f":"Z232*2%","v":10},{"$f":"AA232-AA232*30%","v":7},500,{"$f":"AC232*2%","v":10},{"$f":"AD232-AD232*30%","v":7},500,{"$f":"AF232*1.57%","v":7.8500000000000014},{"$f":"AG232-AG232*30%","v":5.495000000000001}]
["ICEA-93","man","OBERTI"," le maire Jacques","Jacques","2017-12-16",null,"company","Commune d' Ayguesvives",null,"fr","7 place du fort",31450,"Ayguesvives","FR","FR","FR","05 61 81 92 57",null,"mairie.ayguesvives31@wanadoo.fr","Ayguesvives","FR753000100833D310000000075","BDFEFRPPCCT",{"$f":"CONCATENATE(C233,\" \",D233)","v":"OBERTI  le maire Jacques"},null,1100,{"$f":"Z233*2%","v":22},{"$f":"AA233-AA233*30%","v":15.4},1100,{"$f":"AC233*2%","v":22},{"$f":"AD233-AD233*30%","v":15.4},1500,{"$f":"AF233*1.57%","v":23.550000000000004},{"$f":"AG233-AG233*30%","v":16.485000000000003},{"$f":"AB233+AE233+AH233","v":47.285000000000004},{"$f":"CONCATENATE(\"2019/\",'cooperators-41'!AB233,\"Euros-2020/\",'cooperators-41'!AE233,\"Euros-2022/\",'cooperators-41'!AH233,\"Euros\")","v":"2019/15,4Euros-2020/15,4Euros-2022/16,485Euros"}]
["ICEA-80","man","Olivier","Joel",null,"1946-07-14","Juillé(79)","person",null,null,"fr","26 rue des Pyrénéees",31670,"Labège","FR","FR","FR","06 52 44 98 12",null,"olivier.labege@free.fr",null,null,null,{"$f":"CONCATENATE(C234,\" \",D234)","v":"Olivier Joel"},null,200,{"$f":"Z234*2%","v":4},{"$f":"AA234-AA234*30%","v":2.8},600,{"$f":"AC234*2%","v":12},{"$f":"AD234-AD234*30%","v":8.4},600,{"$f":"AF234*1.57%","v":9.4200000000000017},{"$f":"AG234-AG234*30%","v":6.5940000000000012}]
["ICEA-130","woman","ORTIZ","Monique","Manuguerra","1958-05-09","Casablanca-Maroc","person",null,null,"fr","24 chemin du Ruisseau de Fontbazi",31450,"Donneville","FR","FR","FR","05 61 81 98 76",null,"manuguerra.monique@gmail.com",null,null,null,{"$f":"CONCATENATE(C235,\" \",D235)","v":"ORTIZ Monique"},null,100,{"$f":"Z235*2%","v":2},{"$f":"AA235-AA235*30%","v":1.4},200,{"$f":"AC235*2%","v":4},{"$f":"AD235-AD235*30%","v":2.8},200,{"$f":"AF235*1.57%","v":3.1400000000000006},{"$f":"AG235-AG235*30%","v":2.1980000000000004}]
["ICEA-21","man","Oulibaut","Eric",null,"1964-02-16","Toulouse (31)","person",null,null,"fr","24, rue du colonel Gendreau",31320,"Castanet Tolosan","FR","FR","FR","06 21 14 71 53",null,"eric.oulibaut@gmail.com",null,null,null,{"$f":"CONCATENATE(C236,\" \",D236)","v":"Oulibaut Eric"},null,500,{"$f":"Z236*2%","v":10},{"$f":"AA236-AA236*30%","v":7},500,{"$f":"AC236*2%","v":10},{"$f":"AD236-AD236*30%","v":7},500,{"$f":"AF236*1.57%","v":7.8500000000000014},{"$f":"AG236-AG236*30%","v":5.495000000000001}]
["ICEA-326","man","Paillé","Dominique",null,"1974-07-25","Toulouse","person",null,null,"fr","6 chemin des romains",31670,"Labège","FR","FR","FR","06 88 90 71 56",null,"domipaille@gmail.com",null,null,null,{"$f":"CONCATENATE(C237,\" \",D237)","v":"Paillé Dominique"},null,null,{"$f":"Z237*2%","v":0},{"$f":"AA237-AA237*30%","v":0},200,{"$f":"AC237*2%","v":4},{"$f":"AD237-AD237*30%","v":2.8},200,{"$f":"AF237*1.57%","v":3.1400000000000006},{"$f":"AG237-AG237*30%","v":2.1980000000000004}]
["ICEA-58","woman","Palies","Andree","Marty-Palies","1950-08-21","Bedarieux","person",null,null,"fr","55 rue de la Bigorre",31470,"St Lys","FR","FR","FR","06 46 27 76 15",null,"andree.palies@gmail.com",null,null,null,{"$f":"CONCATENATE(C238,\" \",D238)","v":"Palies Andree"},null,100,{"$f":"Z238*2%","v":2},{"$f":"AA238-AA238*30%","v":1.4},100,{"$f":"AC238*2%","v":2},{"$f":"AD238-AD238*30%","v":1.4},100,{"$f":"AF238*1.57%","v":1.5700000000000003},{"$f":"AG238-AG238*30%","v":1.0990000000000002}]
["ICEA-234","man","Paris","Stephane",null,"1971-11-20","Auxerre","person",null,null,"fr","7 rue Jacques Tati",31320,"Castanet Tolosan","FR","FR","FR","06 80 07 33 34",null,"step.paris@gmail.com",null,null,null,{"$f":"CONCATENATE(C239,\" \",D239)","v":"Paris Stephane"},null,50,{"$f":"Z239*2%","v":1},{"$f":"AA239-AA239*30%","v":0.7},50,{"$f":"AC239*2%","v":1},{"$f":"AD239-AD239*30%","v":0.7},50,{"$f":"AF239*1.57%","v":0.78500000000000014},{"$f":"AG239-AG239*30%","v":0.5495000000000001}]
["ICEA-73","man","Parmentier","Michel",null,"1955-03-12","Philippeville","person",null,null,"fr","34 rue du Pastel",31750,"Escalquens","FR","FR","FR","06 00 00 00 00 ",null,"parmentiermichel@free.fr",null,null,null,{"$f":"CONCATENATE(C240,\" \",D240)","v":"Parmentier Michel"},null,100,{"$f":"Z240*2%","v":2},{"$f":"AA240-AA240*30%","v":1.4},100,{"$f":"AC240*2%","v":2},{"$f":"AD240-AD240*30%","v":1.4},100,{"$f":"AF240*1.57%","v":1.5700000000000003},{"$f":"AG240-AG240*30%","v":1.0990000000000002}]
["ICEA-149","man","Pascal","Xavier ",null,"1955-04-16","Moussens","person",null,null,"fr","23 ch de Toulouse",31450,"Ayguesvives","FR","FR","FR","05 61 81 95 18",null,"xavier.pascal0197@orange.fr",null,null,null,{"$f":"CONCATENATE(C241,\" \",D241)","v":"Pascal Xavier "},null,250,{"$f":"Z241*2%","v":5},{"$f":"AA241-AA241*30%","v":3.5},250,{"$f":"AC241*2%","v":5},{"$f":"AD241-AD241*30%","v":3.5},250,{"$f":"AF241*1.57%","v":3.9250000000000007},{"$f":"AG241-AG241*30%","v":2.7475000000000005}]
["ICEA-318","man","Paulo","J -christophe",null,"1965-11-17","Figeac","person",null,null,"fr","4 Bd Jean Brunhes",31300,"Toulouse","FR","FR","FR","06 84 13 28 57",null,"jcpaulo@hjd.asso.fr",null,null,null,{"$f":"CONCATENATE(C242,\" \",D242)","v":"Paulo J -christophe"},null,null,{"$f":"Z242*2%","v":0},{"$f":"AA242-AA242*30%","v":0},300,{"$f":"AC242*2%","v":6},{"$f":"AD242-AD242*30%","v":4.2},300,{"$f":"AF242*1.57%","v":4.7100000000000009},{"$f":"AG242-AG242*30%","v":3.2970000000000006}]
["ICEA-410","woman","Pecceu","Christelle","Lacoste","1986-09-02","Toulouse","person",null,null,"fr","752 b route de revel",31450,"Odars","FR","FR","FR",33651710659,33651710659,"christelle.pecceu@yahoo.com",null,"NULL",null,{"$f":"CONCATENATE(C243,\" \",D243)","v":"Pecceu Christelle"},null,null,{"$f":"Z243*2%","v":0},{"$f":"AA243-AA243*30%","v":0},null,{"$f":"AC243*2%","v":0},{"$f":"AD243-AD243*30%","v":0},50,{"$f":"AF243*1.57%","v":0.78500000000000014},{"$f":"AG243-AG243*30%","v":0.5495000000000001}]
["ICEA-328","man","Pegorarotto","David"," .","1976-08-24","Toulouse","person",null,null,"fr","134 Route d'Issus",31450,"MontbrunLauragais","FR","FR","FR","06 82 22 60 88",null,"davpgow@gmail.com",null,null,null,{"$f":"CONCATENATE(C244,\" \",D244)","v":"Pegorarotto David"},null,null,{"$f":"Z244*2%","v":0},{"$f":"AA244-AA244*30%","v":0},500,{"$f":"AC244*2%","v":10},{"$f":"AD244-AD244*30%","v":7},500,{"$f":"AF244*1.57%","v":7.8500000000000014},{"$f":"AG244-AG244*30%","v":5.495000000000001}]
["ICEA-288","woman","PERES","MARIE-FRANÇOISE"," VALENTIN","1970-05-16","TOULOUSE","person",null,null,"fr","12 rue de la Comtesse Jeanne",31450,"MONTLAUR","FR","FR","FR","05 34 66 55 18",null,"vmf4007@orange.fr",null,null,null,{"$f":"CONCATENATE(C245,\" \",D245)","v":"PERES MARIE-FRANÇOISE"},null,null,{"$f":"Z245*2%","v":0},{"$f":"AA245-AA245*30%","v":0},250,{"$f":"AC245*2%","v":5},{"$f":"AD245-AD245*30%","v":3.5},250,{"$f":"AF245*1.57%","v":3.9250000000000007},{"$f":"AG245-AG245*30%","v":2.7475000000000005}]
["ICEA-268","man","Person","Roméo",null,"2018-08-03","Nantes","gardian",null,null,"fr"," 8 Rue Roine",44400,"Reze","FR","FR","FR",null,null,"yann@ep.fr",null,null,null,{"$f":"CONCATENATE(C246,\" \",D246)","v":"Person Roméo"},null,50,{"$f":"Z246*2%","v":1},{"$f":"AA246-AA246*30%","v":0.7},50,{"$f":"AC246*2%","v":1},{"$f":"AD246-AD246*30%","v":0.7},50,{"$f":"AF246*1.57%","v":0.78500000000000014},{"$f":"AG246-AG246*30%","v":0.5495000000000001}]
["ICEA-52","woman","Petit","Hélène ",null,"1943-12-16","St Dizier(52)","person",null,null,"fr","5, rue du Bedel",31750,"Escalquens","FR","FR","FR","06 85 90 52 51",null,"helene.petit@gmx.fr",null,null,null,{"$f":"CONCATENATE(C247,\" \",D247)","v":"Petit Hélène "},null,500,{"$f":"Z247*2%","v":10},{"$f":"AA247-AA247*30%","v":7},500,{"$f":"AC247*2%","v":10},{"$f":"AD247-AD247*30%","v":7},500,{"$f":"AF247*1.57%","v":7.8500000000000014},{"$f":"AG247-AG247*30%","v":5.495000000000001}]
["ICEA-379","woman","PHAM NGOC","QUYNH-ANH"," .","1972-01-21","BAO LOC (VIET NAM)","person",null,null,"fr","31 CHEMIN DE LA COLOMIERE",31120,"LACROIXFALGARDE","FR","FR","FR","06 25 61 58 12",null,"quynhanh_phamngoc@yahoo.fr",null,null,null,{"$f":"CONCATENATE(C248,\" \",D248)","v":"PHAM NGOC QUYNH-ANH"},null,null,{"$f":"Z248*2%","v":0},{"$f":"AA248-AA248*30%","v":0},null,{"$f":"AC248*2%","v":0},{"$f":"AD248-AD248*30%","v":0},50,{"$f":"AF248*1.57%","v":0.78500000000000014},{"$f":"AG248-AG248*30%","v":0.5495000000000001}]
["ICEA-418","man","PICARD","OLIVIER",null,"1960-03-01","PARIS","person",null,null,"fr","27 Route de la Trinité",31810,"VENERQUE","FR","FR","FR",33626149800,33626149800,"opicard@wanadoo.fr",null,"NULL",null,{"$f":"CONCATENATE(C249,\" \",D249)","v":"PICARD OLIVIER"},null,null,{"$f":"Z249*2%","v":0},{"$f":"AA249-AA249*30%","v":0},null,{"$f":"AC249*2%","v":0},{"$f":"AD249-AD249*30%","v":0},500,{"$f":"AF249*1.57%","v":7.8500000000000014},{"$f":"AG249-AG249*30%","v":5.495000000000001}]
["ICEA-146","man","Picard","Sébastien",null,"1980-10-01","Paris 14eme","person",null,null,"fr","5 rue de la chaîne",31000,"Toulouse","FR","FR","FR","06 62 11 81 81",null,"sebastien.picard@gmail.com",null,null,null,{"$f":"CONCATENATE(C250,\" \",D250)","v":"Picard Sébastien"},null,500,{"$f":"Z250*2%","v":10},{"$f":"AA250-AA250*30%","v":7},500,{"$f":"AC250*2%","v":10},{"$f":"AD250-AD250*30%","v":7},500,{"$f":"AF250*1.57%","v":7.8500000000000014},{"$f":"AG250-AG250*30%","v":5.495000000000001}]
["ICEA-442","woman","PARACHE","Sabine",null,"1970-10-11","PAMIERS","person",null,null,"fr","3   ROUTE DES CIMES",31810,"VENERQUE","FR","FR","FR",33631697266,null,"sparache@free.fr","MLE PARACHE SABINE OU MR TESSEYRE JEROME","FR5020041010161027501R03780","PSSTFRPPTOU",{"$f":"CONCATENATE(C251,\" \",D251)","v":"PARACHE Sabine"},null,null,null,null,null,null,null,null,null,null,{"$f":"AB251+AE251+AH251","v":0},{"$f":"CONCATENATE(\"2019/\",'cooperators-41'!AB251,\"Euros-2020/\",'cooperators-41'!AE251,\"Euros-2022/\",'cooperators-41'!AH251,\"Euros\")","v":"2019/Euros-2020/Euros-2022/Euros"}]
["ICEA-287","woman","PLOURDEAU","Nathalie"," JOVER","1977-03-18","Conflans-Sainte-Honorine","person",null,null,"fr","1 rue Floreal",31670,"Labege","FR","FR","FR","06 24 41 69 19",null,"nathalie.jover@gmail.com",null,null,null,{"$f":"CONCATENATE(C252,\" \",D252)","v":"PLOURDEAU Nathalie"},null,null,{"$f":"Z252*2%","v":0},{"$f":"AA252-AA252*30%","v":0},100,{"$f":"AC252*2%","v":2},{"$f":"AD252-AD252*30%","v":1.4},100,{"$f":"AF252*1.57%","v":1.5700000000000003},{"$f":"AG252-AG252*30%","v":1.0990000000000002}]
["ICEA-148","man","Pollet","Jacques",null,"1952-04-01","Tourcoing","person",null,null,"fr","460 route de Donneville",31450,"Ayguesvives","FR","FR","FR","06 80 61 20 69",null,"jpolletjacques@gmail.com",null,null,null,{"$f":"CONCATENATE(C253,\" \",D253)","v":"Pollet Jacques"},null,50,{"$f":"Z253*2%","v":1},{"$f":"AA253-AA253*30%","v":0.7},50,{"$f":"AC253*2%","v":1},{"$f":"AD253-AD253*30%","v":0.7},50,{"$f":"AF253*1.57%","v":0.78500000000000014},{"$f":"AG253-AG253*30%","v":0.5495000000000001}]
["ICEA-265","woman","PLAGNARD","Gaëlle"," SFEIR","1976-09-06","Bron","person",null,null,"fr","1   allée de la Grande Ourse",31320,"Auzeville TolosaneTolosane","FR","FR","FR","+3376 04 14 61",null,"arnault.sfeir@free.fr","Gaëlle ou Arnault Sfeir","FR7613106005001082016010173","AGRIFRPP831",{"$f":"CONCATENATE(C254,\" \",D254)","v":"PLAGNARD Gaëlle"},null,500,{"$f":"Z254*2%","v":10},{"$f":"AA254-AA254*30%","v":7},500,{"$f":"AC254*2%","v":10},{"$f":"AD254-AD254*30%","v":7},500,{"$f":"AF254*1.57%","v":7.8500000000000014},{"$f":"AG254-AG254*30%","v":5.495000000000001},{"$f":"AB254+AE254+AH254","v":19.495000000000001},{"$f":"CONCATENATE(\"2019/\",'cooperators-41'!AB254,\"Euros-2020/\",'cooperators-41'!AE254,\"Euros-2022/\",'cooperators-41'!AH254,\"Euros\")","v":"2019/7Euros-2020/7Euros-2022/5,495Euros"}]
["ICEA-207","man","Pradines","Didier",null,"1965-07-08","Montauban","person",null,null,"fr","6 rue du pic du Carlit",31750,"ESCALQUENS","FR","FR","FR","05 34 66 36 27",null,"sd.pradines@free.fr",null,null,null,{"$f":"CONCATENATE(C255,\" \",D255)","v":"Pradines Didier"},null,50,{"$f":"Z255*2%","v":1},{"$f":"AA255-AA255*30%","v":0.7},50,{"$f":"AC255*2%","v":1},{"$f":"AD255-AD255*30%","v":0.7},50,{"$f":"AF255*1.57%","v":0.78500000000000014},{"$f":"AG255-AG255*30%","v":0.5495000000000001}]
["ICEA-194","man","PREMARTIN","ELIOTT",". ","2018-09-02","NANTES","gardian",null,null,"fr","18 RUE WILLIAM TURNER ",44470,"MAUVES","FR","FR","FR",null,null,"agathebouldoires@hotmail.com",null,null,null,{"$f":"CONCATENATE(C256,\" \",D256)","v":"PREMARTIN ELIOTT"},null,200,{"$f":"Z256*2%","v":4},{"$f":"AA256-AA256*30%","v":2.8},200,{"$f":"AC256*2%","v":4},{"$f":"AD256-AD256*30%","v":2.8},500,{"$f":"AF256*1.57%","v":7.8500000000000014},{"$f":"AG256-AG256*30%","v":5.495000000000001}]
["ICEA-192","woman","PREMARTIN","JUSTINE",". ","2015-02-10","LILLE","gardian",null,null,"fr","18 RUE WILLIAM TURNER",44470,"MAUVES","FR","FR","FR",null,null,"agathebouldoires@hotmail.com",null,null,null,{"$f":"CONCATENATE(C257,\" \",D257)","v":"PREMARTIN JUSTINE"},null,200,{"$f":"Z257*2%","v":4},{"$f":"AA257-AA257*30%","v":2.8},200,{"$f":"AC257*2%","v":4},{"$f":"AD257-AD257*30%","v":2.8},500,{"$f":"AF257*1.57%","v":7.8500000000000014},{"$f":"AG257-AG257*30%","v":5.495000000000001}]
["ICEA-39","man","Prido","Marc",null,"1960-08-27","Paris 13eme","person",null,null,"fr","15, Domaine du Tricou ",31670,"Labège","FR","FR","FR","06 07 89 80 60",null,"prido.marc@wanadoo.fr",null,null,null,{"$f":"CONCATENATE(C258,\" \",D258)","v":"Prido Marc"},null,500,{"$f":"Z258*2%","v":10},{"$f":"AA258-AA258*30%","v":7},500,{"$f":"AC258*2%","v":10},{"$f":"AD258-AD258*30%","v":7},500,{"$f":"AF258*1.57%","v":7.8500000000000014},{"$f":"AG258-AG258*30%","v":5.495000000000001}]
["ICEA-40","woman","Prido-Bernadberoy","Anais",null,"1991-07-05","à Toulouse(31)","person",null,null,"fr","1 rue Emile Heybrard- Appt B4S",31300,"Toulouse","FR","FR","FR","06 71 95 22 72",null,"anaispridob@yahoo.fr",null,null,null,{"$f":"CONCATENATE(C259,\" \",D259)","v":"Prido-Bernadberoy Anais"},null,500,{"$f":"Z259*2%","v":10},{"$f":"AA259-AA259*30%","v":7},500,{"$f":"AC259*2%","v":10},{"$f":"AD259-AD259*30%","v":7},500,{"$f":"AF259*1.57%","v":7.8500000000000014},{"$f":"AG259-AG259*30%","v":5.495000000000001}]
["ICEA-46","woman","Pulgar","Sandrine","Thil","1971-06-05","L'Union (31)","person",null,null,"fr","6 av de Cocagne",31570,"Lanta","FR","FR","FR","06 23 92 38 51",null,"sandrine.thilpulgar@sfr.fr",null,null,null,{"$f":"CONCATENATE(C260,\" \",D260)","v":"Pulgar Sandrine"},null,500,{"$f":"Z260*2%","v":10},{"$f":"AA260-AA260*30%","v":7},500,{"$f":"AC260*2%","v":10},{"$f":"AD260-AD260*30%","v":7},500,{"$f":"AF260*1.57%","v":7.8500000000000014},{"$f":"AG260-AG260*30%","v":5.495000000000001}]
["ICEA-133","man","Quaglio","Bruno",null,"1964-07-01","Saumur","person",null,null,"fr","Quai Riquet",31290,"Gardouch","FR","FR","FR","06 23 26 57 55   ",null,"kuadlio@yahoo.fr",null,null,null,{"$f":"CONCATENATE(C261,\" \",D261)","v":"Quaglio Bruno"},null,100,{"$f":"Z261*2%","v":2},{"$f":"AA261-AA261*30%","v":1.4},100,{"$f":"AC261*2%","v":2},{"$f":"AD261-AD261*30%","v":1.4},100,{"$f":"AF261*1.57%","v":1.5700000000000003},{"$f":"AG261-AG261*30%","v":1.0990000000000002}]
["ICEA-430","man","Poutier","Laurent",null,"1968-09-25","Angers","person",null,null,"fr","5, avenue du Loup Saut",31810,"Venerque","FR","FR","FR",33651297222,null,"il.poutier@free.fr","M OU MME LAURENT POUTIER","FR7614690000015400012601620","CMCIFRP1MON",{"$f":"CONCATENATE(C262,\" \",D262)","v":"Poutier Laurent"},null,null,{"$f":"Z262*2%","v":0},{"$f":"AA262-AA262*30%","v":0},null,{"$f":"AC262*2%","v":0},{"$f":"AD262-AD262*30%","v":0},1500,{"$f":"AF262*1.57%","v":23.550000000000004},{"$f":"AG262-AG262*30%","v":16.485000000000003},{"$f":"AB262+AE262+AH262","v":16.485000000000003},{"$f":"CONCATENATE(\"2019/\",'cooperators-41'!AB262,\"Euros-2020/\",'cooperators-41'!AE262,\"Euros-2022/\",'cooperators-41'!AH262,\"Euros\")","v":"2019/0Euros-2020/0Euros-2022/16,485Euros"}]
["ICEA-415","woman","Raspaud","Pascale","Pascale","1961-06-03","Villefranche de Lauragais ","person",null,null,"fr","10 route de la Trinité",31810,"Venerque","FR","FR","FR",33617134455,33617134455,"pascale.raspaud@gmail.com",null,"NULL",null,{"$f":"CONCATENATE(C263,\" \",D263)","v":"Raspaud Pascale"},null,null,{"$f":"Z263*2%","v":0},{"$f":"AA263-AA263*30%","v":0},null,{"$f":"AC263*2%","v":0},{"$f":"AD263-AD263*30%","v":0},100,{"$f":"AF263*1.57%","v":1.5700000000000003},{"$f":"AG263-AG263*30%","v":1.0990000000000002}]
["ICEA-44","woman","RAAD","Mona","Cherdo","1966-11-20","Remhala -Liban","person",null,null,"fr","    Rue des ménestrels ",31670,"Labège","FR","FR","FR","+3317 07 34 04",null,"cherdo31@orange.fr","Mona RAAD","LT803250078741053182","REVOLT21",{"$f":"CONCATENATE(C264,\" \",D264)","v":"RAAD Mona"},null,500,{"$f":"Z264*2%","v":10},{"$f":"AA264-AA264*30%","v":7},500,{"$f":"AC264*2%","v":10},{"$f":"AD264-AD264*30%","v":7},500,{"$f":"AF264*1.57%","v":7.8500000000000014},{"$f":"AG264-AG264*30%","v":5.495000000000001},{"$f":"AB264+AE264+AH264","v":19.495000000000001},{"$f":"CONCATENATE(\"2019/\",'cooperators-41'!AB264,\"Euros-2020/\",'cooperators-41'!AE264,\"Euros-2022/\",'cooperators-41'!AH264,\"Euros\")","v":"2019/7Euros-2020/7Euros-2022/5,495Euros"}]
["ICEA-427","man","Réquillart","Monsieur le président Vincent","Vincent","1958-01-07","Arras","company","Les Rayons Verts","W311008450","fr","12 place Saint Pierre Mairie ",31810,"Venerque","FR","FR","FR",33676283828,null,"dblanchot@wanadoo.fr",null,"NULL",null,{"$f":"CONCATENATE(C265,\" \",D265)","v":"Réquillart Monsieur le président Vincent"},null,null,{"$f":"Z265*2%","v":0},{"$f":"AA265-AA265*30%","v":0},null,{"$f":"AC265*2%","v":0},{"$f":"AD265-AD265*30%","v":0},50,{"$f":"AF265*1.57%","v":0.78500000000000014},{"$f":"AG265-AG265*30%","v":0.5495000000000001}]
["ICEA-293","man","RAYMOND-CLERGUE","PIERRE"," .","1956-07-15","CARCASSONNE","person",null,null,"fr","    2 BOULEVARD D'ARCOLE",31000,"TOULOUSE","FR","FR","FR",33640118755,33980775866,"rayp@live.fr","RAYMOND-CLERGUE","FR761315000800403920721155","CEPAFRPP313",{"$f":"CONCATENATE(C266,\" \",D266)","v":"RAYMOND-CLERGUE PIERRE"},null,null,{"$f":"Z266*2%","v":0},{"$f":"AA266-AA266*30%","v":0},500,{"$f":"AC266*2%","v":10},{"$f":"AD266-AD266*30%","v":7},500,{"$f":"AF266*1.57%","v":7.8500000000000014},{"$f":"AG266-AG266*30%","v":5.495000000000001},{"$f":"AB266+AE266+AH266","v":12.495000000000001},{"$f":"CONCATENATE(\"2019/\",'cooperators-41'!AB266,\"Euros-2020/\",'cooperators-41'!AE266,\"Euros-2022/\",'cooperators-41'!AH266,\"Euros\")","v":"2019/0Euros-2020/7Euros-2022/5,495Euros"}]
["ICEA-186","man","Revel","Adrien"," Revel","1987-06-24","Versailles","person",null,null,"fr","6, chemin d'Augustin, Apt E003",31320,"Castanet Tolosan","FR","FR","FR","07 52 02 33 96",null,"adrien.revel@yahoo.fr",null,null,null,{"$f":"CONCATENATE(C267,\" \",D267)","v":"Revel Adrien"},null,50,{"$f":"Z267*2%","v":1},{"$f":"AA267-AA267*30%","v":0.7},50,{"$f":"AC267*2%","v":1},{"$f":"AD267-AD267*30%","v":0.7},50,{"$f":"AF267*1.57%","v":0.78500000000000014},{"$f":"AG267-AG267*30%","v":0.5495000000000001}]
["ICEA-252","man","Ribeiro","Luc",null,"1980-02-03","Venissieux","person",null,null,"fr","24 rue F Couperin",31200,"Toulouse","FR","FR","FR","06 28 23 16 56",null,"luc.ribeiro.ds@gmail.com",null,null,null,{"$f":"CONCATENATE(C268,\" \",D268)","v":"Ribeiro Luc"},null,null,{"$f":"Z268*2%","v":0},{"$f":"AA268-AA268*30%","v":0},100,{"$f":"AC268*2%","v":2},{"$f":"AD268-AD268*30%","v":1.4},100,{"$f":"AF268*1.57%","v":1.5700000000000003},{"$f":"AG268-AG268*30%","v":1.0990000000000002}]
["ICEA-160","man","RICHIER","Monsieur le président François","François","2018-09-24",null,"company","Enercoop","FR48809762511","fr","23-28 rue M Magne",31300,"Toulouse","FR","FR","FR",null,null,"bonjour.mipy@enercoop.fr",null,null,null,{"$f":"CONCATENATE(C269,\" \",D269)","v":"RICHIER Monsieur le président François"},null,100,{"$f":"Z269*2%","v":2},{"$f":"AA269-AA269*30%","v":1.4},100,{"$f":"AC269*2%","v":2},{"$f":"AD269-AD269*30%","v":1.4},100,{"$f":"AF269*1.57%","v":1.5700000000000003},{"$f":"AG269-AG269*30%","v":1.0990000000000002}]
["ICEA-123","man","Ripoche","Alexandre",null,"1967-09-08",null,"person",null,null,"fr","1 rue de la source",31750,"Escalquens","FR","FR","FR","06 84 79 77 95",null,"axoul51@free.fr",null,null,null,{"$f":"CONCATENATE(C270,\" \",D270)","v":"Ripoche Alexandre"},null,100,{"$f":"Z270*2%","v":2},{"$f":"AA270-AA270*30%","v":1.4},100,{"$f":"AC270*2%","v":2},{"$f":"AD270-AD270*30%","v":1.4},100,{"$f":"AF270*1.57%","v":1.5700000000000003},{"$f":"AG270-AG270*30%","v":1.0990000000000002}]
["ICEA-372","man","REQUILLART","Vincent",null,"1958-01-07","ARRAS","person",null,null,"fr","4 Avenue du Mont Saint Charles",31810,"VENERQUE","FR","FR","FR",33676283828,null,"requillartv@gmail.com","REQUILLART","FR7613135000800404268051868","CEPAFRPP313",{"$f":"CONCATENATE(C271,\" \",D271)","v":"REQUILLART Vincent"},null,null,{"$f":"Z271*2%","v":0},{"$f":"AA271-AA271*30%","v":0},500,{"$f":"AC271*2%","v":10},{"$f":"AD271-AD271*30%","v":7},1000,{"$f":"AF271*1.57%","v":15.700000000000003},{"$f":"AG271-AG271*30%","v":10.990000000000002},{"$f":"AB271+AE271+AH271","v":17.990000000000002},{"$f":"CONCATENATE(\"2019/\",'cooperators-41'!AB271,\"Euros-2020/\",'cooperators-41'!AE271,\"Euros-2022/\",'cooperators-41'!AH271,\"Euros\")","v":"2019/0Euros-2020/7Euros-2022/10,99Euros"}]
["ICEA-166","woman","Rivière ","Michèle","Schiavi","1946-09-19","Paris","person",null,null,"fr","19 rue des sablons",78640,"Villiers Saint Frédéric","FR","FR","FR","06 72 75 00 41",null,"m.riviereschiavi@hotmail.fr",null,null,null,{"$f":"CONCATENATE(C272,\" \",D272)","v":"Rivière  Michèle"},null,50,{"$f":"Z272*2%","v":1},{"$f":"AA272-AA272*30%","v":0.7},50,{"$f":"AC272*2%","v":1},{"$f":"AD272-AD272*30%","v":0.7},50,{"$f":"AF272*1.57%","v":0.78500000000000014},{"$f":"AG272-AG272*30%","v":0.5495000000000001}]
["ICEA-233","man","ROUGET","Christian"," .","1960-03-22","FIGEAC","person",null,null,"fr","8 Chemin du souleilla",31450,"MONTBRUNLAURAGAIS","FR","FR","FR","06 23 34 18 43",null,"dchrouget@neuf.fr",null,null,null,{"$f":"CONCATENATE(C273,\" \",D273)","v":"ROUGET Christian"},null,50,{"$f":"Z273*2%","v":1},{"$f":"AA273-AA273*30%","v":0.7},50,{"$f":"AC273*2%","v":1},{"$f":"AD273-AD273*30%","v":0.7},50,{"$f":"AF273*1.57%","v":0.78500000000000014},{"$f":"AG273-AG273*30%","v":0.5495000000000001}]
["ICEA-26","man","Rivière ","Alain",null,"1950-07-08","Paris 19°","person",null,null,"fr","51   avenue des troubadours",31750,"Escalquens","FR","FR","FR",33682766688,33561813900,"alainrivdiflim@gmail.com","MR OU MME RIVIERE ALAIN","FR2320041010160157287F03712","PSSTFRPPTOU",{"$f":"CONCATENATE(C274,\" \",D274)","v":"Rivière  Alain"},null,500,{"$f":"Z274*2%","v":10},{"$f":"AA274-AA274*30%","v":7},500,{"$f":"AC274*2%","v":10},{"$f":"AD274-AD274*30%","v":7},500,{"$f":"AF274*1.57%","v":7.8500000000000014},{"$f":"AG274-AG274*30%","v":5.495000000000001},{"$f":"AB274+AE274+AH274","v":19.495000000000001},{"$f":"CONCATENATE(\"2019/\",'cooperators-41'!AB274,\"Euros-2020/\",'cooperators-41'!AE274,\"Euros-2022/\",'cooperators-41'!AH274,\"Euros\")","v":"2019/7Euros-2020/7Euros-2022/5,495Euros"}]
["ICEA-17","man","Roustan","Jean-Paul",null,"1954-10-31","Sainte Afrique (12)","person",null,null,"fr","7   Passage Sainte Lucie",31320,"Castanet Tolosan","FR","FR","FR","+336 51 97 61 00",null,"jeanpaul.roustan@gmail.com","Roustan Jean-Paul","FR7617807000121331940568476","CCBPFRPPTLS",{"$f":"CONCATENATE(C275,\" \",D275)","v":"Roustan Jean-Paul"},null,100,{"$f":"Z275*2%","v":2},{"$f":"AA275-AA275*30%","v":1.4},100,{"$f":"AC275*2%","v":2},{"$f":"AD275-AD275*30%","v":1.4},100,{"$f":"AF275*1.57%","v":1.5700000000000003},{"$f":"AG275-AG275*30%","v":1.0990000000000002},{"$f":"AB275+AE275+AH275","v":3.899},{"$f":"CONCATENATE(\"2019/\",'cooperators-41'!AB275,\"Euros-2020/\",'cooperators-41'!AE275,\"Euros-2022/\",'cooperators-41'!AH275,\"Euros\")","v":"2019/1,4Euros-2020/1,4Euros-2022/1,099Euros"}]
["ICEA-119","man","Salin","Alexandre",null,"1981-04-15","Gien","person",null,null,"fr","10 rue du Cazal",13420,"Gemenos","FR","FR","FR","06 81 79 00 66",null,"alexsalin45@hotmail.com",null,null,null,{"$f":"CONCATENATE(C276,\" \",D276)","v":"Salin Alexandre"},null,50,{"$f":"Z276*2%","v":1},{"$f":"AA276-AA276*30%","v":0.7},50,{"$f":"AC276*2%","v":1},{"$f":"AD276-AD276*30%","v":0.7},50,{"$f":"AF276*1.57%","v":0.78500000000000014},{"$f":"AG276-AG276*30%","v":0.5495000000000001}]
["ICEA-187","man","Rudinger","Andreas","Andreas","1986-04-25","Halle (Allemagne)","person",null,null,"fr","8 Rue Joseph Saget",31400,"Toulouse","FR","FR","DE",33608892629,33608892629,"andreas.ruedinger@gmail.com","Andreas Rudinger","FR7617807000010551949911526","CCBPFRPPTLS",{"$f":"CONCATENATE(C277,\" \",D277)","v":"Rudinger Andreas"},null,500,{"$f":"Z277*2%","v":10},{"$f":"AA277-AA277*30%","v":7},500,{"$f":"AC277*2%","v":10},{"$f":"AD277-AD277*30%","v":7},500,{"$f":"AF277*1.57%","v":7.8500000000000014},{"$f":"AG277-AG277*30%","v":5.495000000000001},{"$f":"AB277+AE277+AH277","v":19.495000000000001},{"$f":"CONCATENATE(\"2019/\",'cooperators-41'!AB277,\"Euros-2020/\",'cooperators-41'!AE277,\"Euros-2022/\",'cooperators-41'!AH277,\"Euros\")","v":"2019/7Euros-2020/7Euros-2022/5,495Euros"}]
["ICEA-122","woman","Salin","Eva",null,"2009-09-03","Toulouse","gardian",null,null,"fr","19   rue des ménestrels",31670,"Labège","FR","FR","FR","+33672 26 77 48",null,"gerald.salin@gmail.com","MLLE MIRAGLIO NATHALIE OU M SALIN GERALD","FR7617807000333531911315858","CCBPFRPPTLS",{"$f":"CONCATENATE(C278,\" \",D278)","v":"Salin Eva"},null,100,{"$f":"Z278*2%","v":2},{"$f":"AA278-AA278*30%","v":1.4},100,{"$f":"AC278*2%","v":2},{"$f":"AD278-AD278*30%","v":1.4},250,{"$f":"AF278*1.57%","v":3.9250000000000007},{"$f":"AG278-AG278*30%","v":2.7475000000000005},{"$f":"AB278+AE278+AH278","v":5.5475000000000003},{"$f":"CONCATENATE(\"2019/\",'cooperators-41'!AB278,\"Euros-2020/\",'cooperators-41'!AE278,\"Euros-2022/\",'cooperators-41'!AH278,\"Euros\")","v":"2019/1,4Euros-2020/1,4Euros-2022/2,7475Euros"}]
["ICEA-54","man","Salin","Gerald",null,"1975-02-15","Gien","person",null,null,"fr","19   rue des ménestrels",31670,"Labège","FR","FR","FR","+3372 26 77 48",null,"gerald.salin@protonmail.com","MLLE MIRAGLIO NATHALIE OU M SALIN GERALD","FR7617807000333531911315858","CCBPFRPPTLS",{"$f":"CONCATENATE(C279,\" \",D279)","v":"Salin Gerald"},null,500,{"$f":"Z279*2%","v":10},{"$f":"AA279-AA279*30%","v":7},500,{"$f":"AC279*2%","v":10},{"$f":"AD279-AD279*30%","v":7},700,{"$f":"AF279*1.57%","v":10.990000000000002},{"$f":"AG279-AG279*30%","v":7.6930000000000014},{"$f":"AB279+AE279+AH279","v":21.693000000000001},{"$f":"CONCATENATE(\"2019/\",'cooperators-41'!AB279,\"Euros-2020/\",'cooperators-41'!AE279,\"Euros-2022/\",'cooperators-41'!AH279,\"Euros\")","v":"2019/7Euros-2020/7Euros-2022/7,693Euros"}]
["ICEA-121","woman","Salin","Manon",null,"2013-08-27","Toulouse","gardian",null,null,"fr","19   rue des ménestrels",31670,"Labège","FR","FR","FR","+3372 26 77 48",null,"gerald.salin@gmail.com","MLLE MIRAGLIO NATHALIE OU M SALIN GERALD","FR7617807000333531911315858","CCBPFRPPTLS",{"$f":"CONCATENATE(C280,\" \",D280)","v":"Salin Manon"},null,100,{"$f":"Z280*2%","v":2},{"$f":"AA280-AA280*30%","v":1.4},100,{"$f":"AC280*2%","v":2},{"$f":"AD280-AD280*30%","v":1.4},200,{"$f":"AF280*1.57%","v":3.1400000000000006},{"$f":"AG280-AG280*30%","v":2.1980000000000004},{"$f":"AB280+AE280+AH280","v":4.9980000000000002},{"$f":"CONCATENATE(\"2019/\",'cooperators-41'!AB280,\"Euros-2020/\",'cooperators-41'!AE280,\"Euros-2022/\",'cooperators-41'!AH280,\"Euros\")","v":"2019/1,4Euros-2020/1,4Euros-2022/2,198Euros"}]
["ICEA-224","man","Sans","Bruno"," .","1969-09-26","Lunel","person",null,null,"fr","20 rue Laforie",9000,"Foix","FR","FR","FR","06 36 27 69 24 ",null,"bruno.sans09@gmail.com",null,null,null,{"$f":"CONCATENATE(C281,\" \",D281)","v":"Sans Bruno"},null,500,{"$f":"Z281*2%","v":10},{"$f":"AA281-AA281*30%","v":7},500,{"$f":"AC281*2%","v":10},{"$f":"AD281-AD281*30%","v":7},500,{"$f":"AF281*1.57%","v":7.8500000000000014},{"$f":"AG281-AG281*30%","v":5.495000000000001}]
["ICEA-165","man","SAPORITO","Nicolas",null,"1971-08-06","Nice","person",null,null,"fr","4 résidence les Chaumes - Av du 8 mai 1945",31520,"RAMONVILLE","FR","FR","FR","06 70 03 38 24",null,"nicolas.saporito@libertysurf.fr",null,null,null,{"$f":"CONCATENATE(C282,\" \",D282)","v":"SAPORITO Nicolas"},null,50,{"$f":"Z282*2%","v":1},{"$f":"AA282-AA282*30%","v":0.7},50,{"$f":"AC282*2%","v":1},{"$f":"AD282-AD282*30%","v":0.7},50,{"$f":"AF282*1.57%","v":0.78500000000000014},{"$f":"AG282-AG282*30%","v":0.5495000000000001}]
["ICEA-199","man","Saulnier-Blache","Jean Sébastien"," .","1961-05-06","Versailles","person",null,null,"fr","4 rue de Constantine, Apt 2.3",31500,"Toulouse","FR","FR","FR","06 51 89 27 23",null,"jssaulnier@gmail.com",null,null,null,{"$f":"CONCATENATE(C283,\" \",D283)","v":"Saulnier-Blache Jean Sébastien"},null,50,{"$f":"Z283*2%","v":1},{"$f":"AA283-AA283*30%","v":0.7},50,{"$f":"AC283*2%","v":1},{"$f":"AD283-AD283*30%","v":0.7},50,{"$f":"AF283*1.57%","v":0.78500000000000014},{"$f":"AG283-AG283*30%","v":0.5495000000000001}]
["ICEA-84","man","Schmit","Alexandre",null,"1970-07-08","Limoges","person",null,null,"fr","24 clos des Mérigues",31320,"Aureville","FR","FR","FR","06 46 38 44 93",null,"schmitalex@gmail.com",null,null,null,{"$f":"CONCATENATE(C284,\" \",D284)","v":"Schmit Alexandre"},null,50,{"$f":"Z284*2%","v":1},{"$f":"AA284-AA284*30%","v":0.7},50,{"$f":"AC284*2%","v":1},{"$f":"AD284-AD284*30%","v":0.7},50,{"$f":"AF284*1.57%","v":0.78500000000000014},{"$f":"AG284-AG284*30%","v":0.5495000000000001}]
["ICEA-88","woman","Schmit","Marion",null,"2009-04-15","Toulouse","gardian",null,null,"fr","24 clos des Mérigues",31320,"Aureville","FR","FR","FR",null,null,"schmitalex@gmail.com",null,null,null,{"$f":"CONCATENATE(C285,\" \",D285)","v":"Schmit Marion"},null,50,{"$f":"Z285*2%","v":1},{"$f":"AA285-AA285*30%","v":0.7},50,{"$f":"AC285*2%","v":1},{"$f":"AD285-AD285*30%","v":0.7},50,{"$f":"AF285*1.57%","v":0.78500000000000014},{"$f":"AG285-AG285*30%","v":0.5495000000000001}]
["ICEA-86","man","Schmit","Quentin",null,"2004-03-04","Toulouse","person",null,null,"fr","24 clos des Mérigues",31320,"Aureville","FR","FR","FR",null,null,"schmitalex@gmail.com",null,null,null,{"$f":"CONCATENATE(C286,\" \",D286)","v":"Schmit Quentin"},null,50,{"$f":"Z286*2%","v":1},{"$f":"AA286-AA286*30%","v":0.7},50,{"$f":"AC286*2%","v":1},{"$f":"AD286-AD286*30%","v":0.7},50,{"$f":"AF286*1.57%","v":0.78500000000000014},{"$f":"AG286-AG286*30%","v":0.5495000000000001}]
["ICEA-85","man","Schmit","Sylvie",null,"1972-12-29","Toulouse","person",null,null,"fr","24 clos des Mérigues",31320,"Aureville","FR","FR","FR","06 22 90 61 88",null,"schmitalex@gmail.com",null,null,null,{"$f":"CONCATENATE(C287,\" \",D287)","v":"Schmit Sylvie"},null,50,{"$f":"Z287*2%","v":1},{"$f":"AA287-AA287*30%","v":0.7},50,{"$f":"AC287*2%","v":1},{"$f":"AD287-AD287*30%","v":0.7},50,{"$f":"AF287*1.57%","v":0.78500000000000014},{"$f":"AG287-AG287*30%","v":0.5495000000000001}]
["ICEA-87","man","Schmit","Thibaut",null,"2007-08-13","Toulouse","gardian",null,null,"fr","24 clos des Mérigues",31320,"Aureville","FR","FR","FR",null,null,"schmitalex@gmail.com",null,null,null,{"$f":"CONCATENATE(C288,\" \",D288)","v":"Schmit Thibaut"},null,50,{"$f":"Z288*2%","v":1},{"$f":"AA288-AA288*30%","v":0.7},50,{"$f":"AC288*2%","v":1},{"$f":"AD288-AD288*30%","v":0.7},50,{"$f":"AF288*1.57%","v":0.78500000000000014},{"$f":"AG288-AG288*30%","v":0.5495000000000001}]
["ICEA-94","woman","Segonds","Ariane",null,"1975-03-26","Romans (26)","person",null,null,"fr","21 lotissement des Mérigues",31320,"Aureville","FR","FR","FR","06 77 19 05 89",null,"ariane.segonds@free.fr",null,null,null,{"$f":"CONCATENATE(C289,\" \",D289)","v":"Segonds Ariane"},null,150,{"$f":"Z289*2%","v":3},{"$f":"AA289-AA289*30%","v":2.1},150,{"$f":"AC289*2%","v":3},{"$f":"AD289-AD289*30%","v":2.1},150,{"$f":"AF289*1.57%","v":2.3550000000000004},{"$f":"AG289-AG289*30%","v":1.6485000000000003}]
["ICEA-419","woman","SEGUIER-CHABBERT","EMILIE",null,"1982-07-09","Castres","person",null,null,"fr","1b route de Caraman",31570,"LANTA","FR","FR","FR",33672272426,null,"e.sc@gmx.fr",null,"NULL",null,{"$f":"CONCATENATE(C290,\" \",D290)","v":"SEGUIER-CHABBERT EMILIE"},null,null,{"$f":"Z290*2%","v":0},{"$f":"AA290-AA290*30%","v":0},null,{"$f":"AC290*2%","v":0},{"$f":"AD290-AD290*30%","v":0},50,{"$f":"AF290*1.57%","v":0.78500000000000014},{"$f":"AG290-AG290*30%","v":0.5495000000000001}]
["ICEA-120","woman","Salin","Mathilde",null,"2009-09-03","Toulouse","gardian",null,null,"fr","19   rue des ménestrels",31670,"Labège","FR","FR","FR","+3372 26 77 48",null,"gerald.salin@gmail.com","MLLE MIRAGLIO NATHALIE OU M SALIN GERALD","FR7617807000333531911315858","CCBPFRPPTLS",{"$f":"CONCATENATE(C291,\" \",D291)","v":"Salin Mathilde"},null,100,{"$f":"Z291*2%","v":2},{"$f":"AA291-AA291*30%","v":1.4},100,{"$f":"AC291*2%","v":2},{"$f":"AD291-AD291*30%","v":1.4},200,{"$f":"AF291*1.57%","v":3.1400000000000006},{"$f":"AG291-AG291*30%","v":2.1980000000000004},{"$f":"AB291+AE291+AH291","v":4.9980000000000002},{"$f":"CONCATENATE(\"2019/\",'cooperators-41'!AB291,\"Euros-2020/\",'cooperators-41'!AE291,\"Euros-2022/\",'cooperators-41'!AH291,\"Euros\")","v":"2019/1,4Euros-2020/1,4Euros-2022/2,198Euros"}]
["ICEA-145","man","Severac","Gaetan",null,"1986-10-22","Toulouse","person",null,null,"fr","15 bis rue A. VASSEUR",31120,"Toulouse","FR","FR","FR","06 50 05 12 86",null,"gaetan.sev@gmail.com",null,null,null,{"$f":"CONCATENATE(C292,\" \",D292)","v":"Severac Gaetan"},null,100,{"$f":"Z292*2%","v":2},{"$f":"AA292-AA292*30%","v":1.4},300,{"$f":"AC292*2%","v":6},{"$f":"AD292-AD292*30%","v":4.2},300,{"$f":"AF292*1.57%","v":4.7100000000000009},{"$f":"AG292-AG292*30%","v":3.2970000000000006}]
["ICEA-309","man","Serard","Philippe",null,"1959-06-12","Caen","person",null,null,"fr","11   ALLÉE DU MARRONNIER ROUGE",31320,"Castanet Tolosan","FR","FR","FR","+3378 19 21 93",null,"philippe.serard@free.fr","MR SERARD PHILIPPE OU MMME LEBARBEY MONIQUE","FR1220041010140237113K03558","PSSTFRPPROU",{"$f":"CONCATENATE(C293,\" \",D293)","v":"Serard Philippe"},null,null,{"$f":"Z293*2%","v":0},{"$f":"AA293-AA293*30%","v":0},500,{"$f":"AC293*2%","v":10},{"$f":"AD293-AD293*30%","v":7},500,{"$f":"AF293*1.57%","v":7.8500000000000014},{"$f":"AG293-AG293*30%","v":5.495000000000001},{"$f":"AB293+AE293+AH293","v":12.495000000000001},{"$f":"CONCATENATE(\"2019/\",'cooperators-41'!AB293,\"Euros-2020/\",'cooperators-41'!AE293,\"Euros-2022/\",'cooperators-41'!AH293,\"Euros\")","v":"2019/0Euros-2020/7Euros-2022/5,495Euros"}]
["ICEA-264","man","SFEIR","Arnault"," .","1972-06-10","Dijon","person",null,null,"fr","1   allée de la Grande Ourse",31320,"Auzeville TolosaneTolosane","FR","FR","FR",33676041461,null,"arnault.sfeir@free.fr","Gaëlle ou Arnault Sfeir","FR7613106005001082016010173","AGRIFRPP831",{"$f":"CONCATENATE(C294,\" \",D294)","v":"SFEIR Arnault"},null,500,{"$f":"Z294*2%","v":10},{"$f":"AA294-AA294*30%","v":7},500,{"$f":"AC294*2%","v":10},{"$f":"AD294-AD294*30%","v":7},500,{"$f":"AF294*1.57%","v":7.8500000000000014},{"$f":"AG294-AG294*30%","v":5.495000000000001},{"$f":"AB294+AE294+AH294","v":19.495000000000001},{"$f":"CONCATENATE(\"2019/\",'cooperators-41'!AB294,\"Euros-2020/\",'cooperators-41'!AE294,\"Euros-2022/\",'cooperators-41'!AH294,\"Euros\")","v":"2019/7Euros-2020/7Euros-2022/5,495Euros"}]
["ICEA-142","woman","Sikner","Florence","David","1961-06-27","Dijon","person",null,null,"fr","1 impasse du Pech",31750,"Escalquens","FR","FR","FR","06 07 67 89 58",null,"florence-david@hotmail.com",null,null,null,{"$f":"CONCATENATE(C295,\" \",D295)","v":"Sikner Florence"},null,250,{"$f":"Z295*2%","v":5},{"$f":"AA295-AA295*30%","v":3.5},250,{"$f":"AC295*2%","v":5},{"$f":"AD295-AD295*30%","v":3.5},250,{"$f":"AF295*1.57%","v":3.9250000000000007},{"$f":"AG295-AG295*30%","v":2.7475000000000005}]
["ICEA-361","woman","Soussi","El Batoul","Vandangeon","1968-07-28","Oujda, Maroc","person",null,null,"fr","2 impasse des cannelles",31450,"Ayguesvives","FR","FR","FR","06 60 71 18 25",null,"batoula@free.fr",null,null,null,{"$f":"CONCATENATE(C296,\" \",D296)","v":"Soussi El Batoul"},null,null,{"$f":"Z296*2%","v":0},{"$f":"AA296-AA296*30%","v":0},500,{"$f":"AC296*2%","v":10},{"$f":"AD296-AD296*30%","v":7},500,{"$f":"AF296*1.57%","v":7.8500000000000014},{"$f":"AG296-AG296*30%","v":5.495000000000001}]
["ICEA-406","man","sperandio","mathieu","mathieu","1972-12-30","LYON","person",null,null,"fr","4 rue des remparts coligny",31810,"VENERQUE","FR","FR","FR",33676121123,33676121123,"sperandiomathieu@gmail.com",null,"NULL",null,{"$f":"CONCATENATE(C297,\" \",D297)","v":"sperandio mathieu"},null,null,{"$f":"Z297*2%","v":0},{"$f":"AA297-AA297*30%","v":0},null,{"$f":"AC297*2%","v":0},{"$f":"AD297-AD297*30%","v":0},450,{"$f":"AF297*1.57%","v":7.0650000000000013},{"$f":"AG297-AG297*30%","v":4.9455000000000009}]
["ICEA-263","woman","SFEIR","Orlane",". ","2009-03-19","Toulouse","gardian",null,null,"fr","1   allée de la Grande Ourse",31320,"Auzeville TolosaneTolosane","FR","FR","FR","+3376 04 14 61",null,"orlane.sfeir@free.fr","Gaëlle ou Arnault Sfeir","FR7613106005001082016010173","AGRIFRPP831",{"$f":"CONCATENATE(C298,\" \",D298)","v":"SFEIR Orlane"},null,500,{"$f":"Z298*2%","v":10},{"$f":"AA298-AA298*30%","v":7},500,{"$f":"AC298*2%","v":10},{"$f":"AD298-AD298*30%","v":7},500,{"$f":"AF298*1.57%","v":7.8500000000000014},{"$f":"AG298-AG298*30%","v":5.495000000000001},{"$f":"AB298+AE298+AH298","v":19.495000000000001},{"$f":"CONCATENATE(\"2019/\",'cooperators-41'!AB298,\"Euros-2020/\",'cooperators-41'!AE298,\"Euros-2022/\",'cooperators-41'!AH298,\"Euros\")","v":"2019/7Euros-2020/7Euros-2022/5,495Euros"}]
["ICEA-188","man","Surin","Philippe",null,"1950-02-23","Toulouse","person",null,null,"fr","1400 Ch de St Maurice",31810,"Clermont Lefort","FR","FR","FR","06 07 41 92 55 ",null,"ea.surin@yahoo.fr",null,null,null,{"$f":"CONCATENATE(C299,\" \",D299)","v":"Surin Philippe"},null,100,{"$f":"Z299*2%","v":2},{"$f":"AA299-AA299*30%","v":1.4},100,{"$f":"AC299*2%","v":2},{"$f":"AD299-AD299*30%","v":1.4},100,{"$f":"AF299*1.57%","v":1.5700000000000003},{"$f":"AG299-AG299*30%","v":1.0990000000000002}]
["ICEA-448","man","SON DIT JEAN","Cyril",null,"1973-01-10","Villeneuve sur lot ","person",null,null,"fr","1   Lotissement Mayrol ",31870,"Lagardelle-sur-Lèze ","FR","FR","FR",33669732953,null,"sdj.family@gmail.com","Son dit jean","FR7610278022020002105710159","CMCIFR2A",{"$f":"CONCATENATE(C300,\" \",D300)","v":"SON DIT JEAN Cyril"},null,null,null,null,null,null,null,null,null,null,{"$f":"AB300+AE300+AH300","v":0},{"$f":"CONCATENATE(\"2019/\",'cooperators-41'!AB300,\"Euros-2020/\",'cooperators-41'!AE300,\"Euros-2022/\",'cooperators-41'!AH300,\"Euros\")","v":"2019/Euros-2020/Euros-2022/Euros"}]
["ICEA-302","man","TEYSSIER","LAURENT",null,"1993-04-01","TOULOUSE","person",null,null,"fr","12 ALLÉE DE QUEYRATZ",31320,"Auzeville Tolosane","FR","FR","FR","06 74 72 89 77",null,"laurent.teyssier@laposte.net",null,null,null,{"$f":"CONCATENATE(C301,\" \",D301)","v":"TEYSSIER LAURENT"},null,null,{"$f":"Z301*2%","v":0},{"$f":"AA301-AA301*30%","v":0},500,{"$f":"AC301*2%","v":10},{"$f":"AD301-AD301*30%","v":7},500,{"$f":"AF301*1.57%","v":7.8500000000000014},{"$f":"AG301-AG301*30%","v":5.495000000000001}]
["ICEA-303","man","TEYSSIER","MARC"," .","1990-11-17","LYON","person",null,null,"fr","12 ALLÉE DE QUEYRATZ",31320,"Auzeville Tolosane","FR","FR","FR","06 48 72 65 46",null,"marc1.teyssier@laposte.net",null,null,null,{"$f":"CONCATENATE(C302,\" \",D302)","v":"TEYSSIER MARC"},null,null,{"$f":"Z302*2%","v":0},{"$f":"AA302-AA302*30%","v":0},500,{"$f":"AC302*2%","v":10},{"$f":"AD302-AD302*30%","v":7},500,{"$f":"AF302*1.57%","v":7.8500000000000014},{"$f":"AG302-AG302*30%","v":5.495000000000001}]
["ICEA-383","man","Thierry","Xavier"," .","1983-04-01","caen","person",null,null,"fr","appartement 115, 24 rue robert desnos",31170,"tournefeuille","FR","FR","FR","07 88 64 10 89",null,"xa.thierry@gmail.com",null,null,null,{"$f":"CONCATENATE(C303,\" \",D303)","v":"Thierry Xavier"},null,null,{"$f":"Z303*2%","v":0},{"$f":"AA303-AA303*30%","v":0},null,{"$f":"AC303*2%","v":0},{"$f":"AD303-AD303*30%","v":0},100,{"$f":"AF303*1.57%","v":1.5700000000000003},{"$f":"AG303-AG303*30%","v":1.0990000000000002}]
["ICEA-212","woman","Stevenet","Catherine",null,"1967-02-22","Poitiers","person",null,null,"fr","281 CHEMIN DE BUGNAC",31570,"Tarabel","FR","FR","FR","+3330 24 61 57",33561833178,"stevenet.cath@orange.fr","STEVENET","FR7610278022180002016190171","CMCIFR2A",{"$f":"CONCATENATE(C304,\" \",D304)","v":"Stevenet Catherine"},null,500,{"$f":"Z304*2%","v":10},{"$f":"AA304-AA304*30%","v":7},1000,{"$f":"AC304*2%","v":20},{"$f":"AD304-AD304*30%","v":14},1000,{"$f":"AF304*1.57%","v":15.700000000000003},{"$f":"AG304-AG304*30%","v":10.990000000000002},{"$f":"AB304+AE304+AH304","v":31.990000000000002},{"$f":"CONCATENATE(\"2019/\",'cooperators-41'!AB304,\"Euros-2020/\",'cooperators-41'!AE304,\"Euros-2022/\",'cooperators-41'!AH304,\"Euros\")","v":"2019/7Euros-2020/14Euros-2022/10,99Euros"}]
["ICEA-392","man","THIL","Monsieur le président Christian","Christian Patrick Frederic","1970-11-25","Aureville","company","EARL des hirondelles","FR88389953670","fr","1200 route de montgiscard",31320,"AUREVILLE","FR","FR","FR",33627650453,33627650453,"fdhiron@gmail.com",null,"NULL",null,{"$f":"CONCATENATE(C305,\" \",D305)","v":"THIL Monsieur le président Christian"},null,null,{"$f":"Z305*2%","v":0},{"$f":"AA305-AA305*30%","v":0},null,{"$f":"AC305*2%","v":0},{"$f":"AD305-AD305*30%","v":0},100,{"$f":"AF305*1.57%","v":1.5700000000000003},{"$f":"AG305-AG305*30%","v":1.0990000000000002}]
["ICEA-304","man","TEYSSIER","JOEL"," .","1961-10-16","LYON","person",null,null,"fr","12   Allée de QUEYRATZ",31320,"Auzeville Tolosane","FR","FR","FR",33622452225,null,"teyssier.j@laposte.net","Teyssier Joel","FR18200410101607355340Z03796","PSSTFRPPTOU",{"$f":"CONCATENATE(C306,\" \",D306)","v":"TEYSSIER JOEL"},null,null,{"$f":"Z306*2%","v":0},{"$f":"AA306-AA306*30%","v":0},500,{"$f":"AC306*2%","v":10},{"$f":"AD306-AD306*30%","v":7},500,{"$f":"AF306*1.57%","v":7.8500000000000014},{"$f":"AG306-AG306*30%","v":5.495000000000001},{"$f":"AB306+AE306+AH306","v":12.495000000000001},{"$f":"CONCATENATE(\"2019/\",'cooperators-41'!AB306,\"Euros-2020/\",'cooperators-41'!AE306,\"Euros-2022/\",'cooperators-41'!AH306,\"Euros\")","v":"2019/0Euros-2020/7Euros-2022/5,495Euros"}]
["ICEA-374","man","THUARD","Gildas"," .","1985-01-10","Le Mans","person",null,null,"fr","2 Résidence des Chaumes",31520,"RamonvilleSaintAgne","FR","FR","FR","06 64 22 50 89",null,"gildas.thuard@gmail.com",null,null,null,{"$f":"CONCATENATE(C307,\" \",D307)","v":"THUARD Gildas"},null,null,{"$f":"Z307*2%","v":0},{"$f":"AA307-AA307*30%","v":0},null,{"$f":"AC307*2%","v":0},{"$f":"AD307-AD307*30%","v":0},50,{"$f":"AF307*1.57%","v":0.78500000000000014},{"$f":"AG307-AG307*30%","v":0.5495000000000001}]
["ICEA-117","woman","Tosser","Gwenola","Klopp-Tosser","1967-12-22","Brest","person",null,null,"fr","1 rue simone de beauvoir",31320,"Castanet Tolosan","FR","FR","FR","05 61 75 18 37",null,"christophe.klopp@free.fr",null,null,null,{"$f":"CONCATENATE(C308,\" \",D308)","v":"Tosser Gwenola"},null,500,{"$f":"Z308*2%","v":10},{"$f":"AA308-AA308*30%","v":7},500,{"$f":"AC308*2%","v":10},{"$f":"AD308-AD308*30%","v":7},500,{"$f":"AF308*1.57%","v":7.8500000000000014},{"$f":"AG308-AG308*30%","v":5.495000000000001}]
["ICEA-98","woman","Towell","Estelle",null,"1974-04-16","Crawley UK","person",null,null,"fr","25 ch de l'écluse",31320,"Pechabou","FR","FR","FR","06 23 53 9505",null,"ex.isnard@cegetel.net",null,null,null,{"$f":"CONCATENATE(C309,\" \",D309)","v":"Towell Estelle"},null,50,{"$f":"Z309*2%","v":1},{"$f":"AA309-AA309*30%","v":0.7},50,{"$f":"AC309*2%","v":1},{"$f":"AD309-AD309*30%","v":0.7},50,{"$f":"AF309*1.57%","v":0.78500000000000014},{"$f":"AG309-AG309*30%","v":0.5495000000000001}]
["ICEA-308","woman","TROLONGE","Maria"," .","2002-03-24","TOULOUSE","person",null,null,"fr","281 CHEMIN DE BUGNAC",31570,"TARABEL","FR","FR","FR","06 79 07 65 43",null,"mariatrolonge@orange.fr",null,"NULL",null,{"$f":"CONCATENATE(C310,\" \",D310)","v":"TROLONGE Maria"},null,null,{"$f":"Z310*2%","v":0},{"$f":"AA310-AA310*30%","v":0},250,{"$f":"AC310*2%","v":5},{"$f":"AD310-AD310*30%","v":3.5},250,{"$f":"AF310*1.57%","v":3.9250000000000007},{"$f":"AG310-AG310*30%","v":2.7475000000000005}]
["ICEA-47","man","Thil","Christian","Christian","1970-11-25","Aureville","person",null,null,"fr","1400 route de montgiscard",31320,"31320 - AUREVILLE","FR","FR","FR",33627650453,33627650453,"fdhiron@gmail.com","Christian Thil","FR7613106005001566076410167","AGRIFRPP831",{"$f":"CONCATENATE(C311,\" \",D311)","v":"Thil Christian"},null,500,{"$f":"Z311*2%","v":10},{"$f":"AA311-AA311*30%","v":7},500,{"$f":"AC311*2%","v":10},{"$f":"AD311-AD311*30%","v":7},500,{"$f":"AF311*1.57%","v":7.8500000000000014},{"$f":"AG311-AG311*30%","v":5.495000000000001},{"$f":"AB311+AE311+AH311","v":19.495000000000001},{"$f":"CONCATENATE(\"2019/\",'cooperators-41'!AB311,\"Euros-2020/\",'cooperators-41'!AE311,\"Euros-2022/\",'cooperators-41'!AH311,\"Euros\")","v":"2019/7Euros-2020/7Euros-2022/5,495Euros"}]
["ICEA-272","man","Valentin","Philippe"," .","1967-09-15","Perpignan","person",null,null,"fr","12 rue dela comtesse jeanne",31450,"Montlaur","FR","FR","FR","05 34 66 55 18",null,"philvert66@orange.fr",null,null,null,{"$f":"CONCATENATE(C312,\" \",D312)","v":"Valentin Philippe"},null,null,{"$f":"Z312*2%","v":0},{"$f":"AA312-AA312*30%","v":0},400,{"$f":"AC312*2%","v":8},{"$f":"AD312-AD312*30%","v":5.6},400,{"$f":"AF312*1.57%","v":6.2800000000000011},{"$f":"AG312-AG312*30%","v":4.3960000000000008}]
["ICEA-366","man","Valette","Eliot"," Valette","2002-01-14","Toulouse","person",null,null,"fr","4 impasse soupetard",31670,"Labege","FR","FR","FR","06 58 57 53 48",null,"Jjvalette@gmail.com",null,null,null,{"$f":"CONCATENATE(C313,\" \",D313)","v":"Valette Eliot"},null,null,{"$f":"Z313*2%","v":0},{"$f":"AA313-AA313*30%","v":0},500,{"$f":"AC313*2%","v":10},{"$f":"AD313-AD313*30%","v":7},500,{"$f":"AF313*1.57%","v":7.8500000000000014},{"$f":"AG313-AG313*30%","v":5.495000000000001}]
["ICEA-271","man","VALETTE","Jean-Jacques"," VALETTE","1963-03-09","GRANDRIEU (LOZERE)","person",null,null,"fr","4 Impasse Soupetard",31670,"LABEGE","FR","FR","FR","06 58 57 53 48",null,"jjvalette@gmail.com",null,null,null,{"$f":"CONCATENATE(C314,\" \",D314)","v":"VALETTE Jean-Jacques"},null,null,{"$f":"Z314*2%","v":0},{"$f":"AA314-AA314*30%","v":0},500,{"$f":"AC314*2%","v":10},{"$f":"AD314-AD314*30%","v":7},500,{"$f":"AF314*1.57%","v":7.8500000000000014},{"$f":"AG314-AG314*30%","v":5.495000000000001}]
["ICEA-241","man","Vandangeon","christophe",null,"1966-08-23","Les Sables d'Olonne","person",null,null,"fr","2 impasse des cannelles",31450,"Ayguesvives","FR","FR","FR","06 64 63 54 31",null,"c.vandangeon@free.fr",null,null,null,{"$f":"CONCATENATE(C315,\" \",D315)","v":"Vandangeon christophe"},null,200,{"$f":"Z315*2%","v":4},{"$f":"AA315-AA315*30%","v":2.8},500,{"$f":"AC315*2%","v":10},{"$f":"AD315-AD315*30%","v":7},500,{"$f":"AF315*1.57%","v":7.8500000000000014},{"$f":"AG315-AG315*30%","v":5.495000000000001}]
["ICEA-362","man","Vandangeon","Rayane",". ","2004-11-14","toulouse","gardian",null,null,"fr","2 impasse des cannelles",31450,"Ayguesvives","FR","FR","FR",null,null,"c.vandangeon@free.fr",null,null,null,{"$f":"CONCATENATE(C316,\" \",D316)","v":"Vandangeon Rayane"},null,null,{"$f":"Z316*2%","v":0},{"$f":"AA316-AA316*30%","v":0},500,{"$f":"AC316*2%","v":10},{"$f":"AD316-AD316*30%","v":7},500,{"$f":"AF316*1.57%","v":7.8500000000000014},{"$f":"AG316-AG316*30%","v":5.495000000000001}]
["ICEA-363","man","Vandangeon","Sami",". ","2007-10-20","Toulouse","person",null,null,"fr","2 impasse des cannelles",31450,"Ayguesvives","FR","FR","FR",null,null,"c.vandangeon@free.fr",null,null,null,{"$f":"CONCATENATE(C317,\" \",D317)","v":"Vandangeon Sami"},null,null,{"$f":"Z317*2%","v":0},{"$f":"AA317-AA317*30%","v":0},500,{"$f":"AC317*2%","v":10},{"$f":"AD317-AD317*30%","v":7},500,{"$f":"AF317*1.57%","v":7.8500000000000014},{"$f":"AG317-AG317*30%","v":5.495000000000001}]
["ICEA-223","man","Vatin","Marc",null,"1950-07-11","St Quentin","person",null,null,"fr","12 ch des Troubadours",31450,"Ayguesvives","FR","FR","FR","06 81 56 44 72",null,"marc.vatin@orange.fr",null,null,null,{"$f":"CONCATENATE(C318,\" \",D318)","v":"Vatin Marc"},null,100,{"$f":"Z318*2%","v":2},{"$f":"AA318-AA318*30%","v":1.4},100,{"$f":"AC318*2%","v":2},{"$f":"AD318-AD318*30%","v":1.4},100,{"$f":"AF318*1.57%","v":1.5700000000000003},{"$f":"AG318-AG318*30%","v":1.0990000000000002}]
["ICEA-75","man","Thil-Pulgar","Gaël",null,"2011-07-05","Toulouse (31)","person",null,null,"fr","6 av de Cocagne",31570,"LANTA","FR","FR","FR",33656663190,33627650453,"ninjagael31@gmail.com","Gaël Thil--Pulgar","FR7613106005001566076410167","AGRIFRPP831",{"$f":"CONCATENATE(C319,\" \",D319)","v":"Thil-Pulgar Gaël"},null,500,{"$f":"Z319*2%","v":10},{"$f":"AA319-AA319*30%","v":7},500,{"$f":"AC319*2%","v":10},{"$f":"AD319-AD319*30%","v":7},500,{"$f":"AF319*1.57%","v":7.8500000000000014},{"$f":"AG319-AG319*30%","v":5.495000000000001},{"$f":"AB319+AE319+AH319","v":19.495000000000001},{"$f":"CONCATENATE(\"2019/\",'cooperators-41'!AB319,\"Euros-2020/\",'cooperators-41'!AE319,\"Euros-2022/\",'cooperators-41'!AH319,\"Euros\")","v":"2019/7Euros-2020/7Euros-2022/5,495Euros"}]
["ICEA-38","man","Vauprès","Simon",null,"1985-07-04","Bayeux","person",null,null,"fr","9 rue de Labège, app A06",31320,"Castanet Tolosan","FR","FR","FR",33688523749,null,"s.vaupres@gmail.com",null,"NULL",null,{"$f":"CONCATENATE(C320,\" \",D320)","v":"Vauprès Simon"},null,100,{"$f":"Z320*2%","v":2},{"$f":"AA320-AA320*30%","v":1.4},500,{"$f":"AC320*2%","v":10},{"$f":"AD320-AD320*30%","v":7},500,{"$f":"AF320*1.57%","v":7.8500000000000014},{"$f":"AG320-AG320*30%","v":5.495000000000001}]
["ICEA-307","woman","TROLONGE","NOEMIE",". ","2005-04-09","LAVAUR","person",null,null,"fr","281 CHEMIN DE BUGNAC",31570,"TARABEL","FR","FR","FR","+3348 42 59 38",null,"noemietrolonge@gmail.com","TROLONGE Noemie","FR7610278022180002056070169","CMCIFR2A",{"$f":"CONCATENATE(C321,\" \",D321)","v":"TROLONGE NOEMIE"},null,null,{"$f":"Z321*2%","v":0},{"$f":"AA321-AA321*30%","v":0},250,{"$f":"AC321*2%","v":5},{"$f":"AD321-AD321*30%","v":3.5},250,{"$f":"AF321*1.57%","v":3.9250000000000007},{"$f":"AG321-AG321*30%","v":2.7475000000000005},{"$f":"AB321+AE321+AH321","v":6.2475000000000005},{"$f":"CONCATENATE(\"2019/\",'cooperators-41'!AB321,\"Euros-2020/\",'cooperators-41'!AE321,\"Euros-2022/\",'cooperators-41'!AH321,\"Euros\")","v":"2019/0Euros-2020/3,5Euros-2022/2,7475Euros"}]
["ICEA-150","woman","VAUCHAUSSADE de CHAUMONT","Mireille","Pascal","1955-04-11","La réole","person",null,null,"fr","23   Chemin de Toulouse ",31450,"Ayguesvives","FR","FR","FR","+3382 24 75 56",null,"mirpascal@gmail.com","PASCAL Xavier ou Mireille ","FR7613106005001272027210123","AGRIFRPP831",{"$f":"CONCATENATE(C322,\" \",D322)","v":"VAUCHAUSSADE de CHAUMONT Mireille"},null,200,{"$f":"Z322*2%","v":4},{"$f":"AA322-AA322*30%","v":2.8},500,{"$f":"AC322*2%","v":10},{"$f":"AD322-AD322*30%","v":7},500,{"$f":"AF322*1.57%","v":7.8500000000000014},{"$f":"AG322-AG322*30%","v":5.495000000000001},{"$f":"AB322+AE322+AH322","v":15.295000000000002},{"$f":"CONCATENATE(\"2019/\",'cooperators-41'!AB322,\"Euros-2020/\",'cooperators-41'!AE322,\"Euros-2022/\",'cooperators-41'!AH322,\"Euros\")","v":"2019/2,8Euros-2020/7Euros-2022/5,495Euros"}]
["ICEA-426","woman","Verhoog","Lauriane","Adriana Solange","1996-03-14","Bordeaux","person",null,null,"fr","2 rue Brunet",60190,"Gournay sur Aronde","FR","FR","FR",26222692743990,null,"lauriane.verhoog@hotmail.fr","VERHOOG LAURIANE","FR18706000009750159911992","AGRIFRPP887",{"$f":"CONCATENATE(C323,\" \",D323)","v":"Verhoog Lauriane"},null,null,{"$f":"Z323*2%","v":0},{"$f":"AA323-AA323*30%","v":0},null,{"$f":"AC323*2%","v":0},{"$f":"AD323-AD323*30%","v":0},1500,{"$f":"AF323*1.57%","v":23.550000000000004},{"$f":"AG323-AG323*30%","v":16.485000000000003},{"$f":"AB323+AE323+AH323","v":16.485000000000003},{"$f":"CONCATENATE(\"2019/\",'cooperators-41'!AB323,\"Euros-2020/\",'cooperators-41'!AE323,\"Euros-2022/\",'cooperators-41'!AH323,\"Euros\")","v":"2019/0Euros-2020/0Euros-2022/16,485Euros"}]
["ICEA-16","woman","Vié","Michèle","Ducert","1947-08-09","Toulouse (31)","person",null,null,"fr","Appartement 3 – 9 rue Coluche ",31130,"Balma","FR","FR","FR","06 82 34 18 66",null,"ducert.toulouse@wanadoo.fr",null,null,null,{"$f":"CONCATENATE(C324,\" \",D324)","v":"Vié Michèle"},null,500,{"$f":"Z324*2%","v":10},{"$f":"AA324-AA324*30%","v":7},500,{"$f":"AC324*2%","v":10},{"$f":"AD324-AD324*30%","v":7},500,{"$f":"AF324*1.57%","v":7.8500000000000014},{"$f":"AG324-AG324*30%","v":5.495000000000001}]
["ICEA-294","man","VUILLEMOT","Cyril"," .","2000-03-21","QUIMPER","person",null,null,"fr","3 rue des peupliers",31750,"ESCALQUENS","FR","FR","FR","07 82 05 35 20",null,"cyril.vuillemot0@gmail.com",null,null,null,{"$f":"CONCATENATE(C325,\" \",D325)","v":"VUILLEMOT Cyril"},null,null,{"$f":"Z325*2%","v":0},{"$f":"AA325-AA325*30%","v":0},200,{"$f":"AC325*2%","v":4},{"$f":"AD325-AD325*30%","v":2.8},200,{"$f":"AF325*1.57%","v":3.1400000000000006},{"$f":"AG325-AG325*30%","v":2.1980000000000004}]
["ICEA-228","man","Vuillemot","Sylvain",null,"1972-05-17","Dijon","person",null,null,"fr","3 rue des peupliers",31750,"Escalquens","FR","FR","FR",null,null,"laure.vuillemot@laposte.net",null,null,null,{"$f":"CONCATENATE(C326,\" \",D326)","v":"Vuillemot Sylvain"},null,500,{"$f":"Z326*2%","v":10},{"$f":"AA326-AA326*30%","v":7},500,{"$f":"AC326*2%","v":10},{"$f":"AD326-AD326*30%","v":7},500,{"$f":"AF326*1.57%","v":7.8500000000000014},{"$f":"AG326-AG326*30%","v":5.495000000000001}]
["ICEA-423","man","VERHOOG","Niel",null,"1991-02-16","Montbéliard","person",null,null,"fr","2 le Pont Joret",22150,"Hénon","FR","FR","FR",33783066008,null,"nielverhoog@hotmail.fr","VERHOOG Niel","FR0620041010051809675H02625",null,{"$f":"CONCATENATE(C327,\" \",D327)","v":"VERHOOG Niel"},null,null,{"$f":"Z327*2%","v":0},{"$f":"AA327-AA327*30%","v":0},null,{"$f":"AC327*2%","v":0},{"$f":"AD327-AD327*30%","v":0},500,{"$f":"AF327*1.57%","v":7.8500000000000014},{"$f":"AG327-AG327*30%","v":5.495000000000001},{"$f":"AB327+AE327+AH327","v":5.495000000000001},{"$f":"CONCATENATE(\"2019/\",'cooperators-41'!AB327,\"Euros-2020/\",'cooperators-41'!AE327,\"Euros-2022/\",'cooperators-41'!AH327,\"Euros\")","v":"2019/0Euros-2020/0Euros-2022/5,495Euros"}]
["ICEA-417","man","VERHOOG","Roelof",null,"1963-11-28","DELFT","person",null,null,"fr","2 RUE BRUNET ",60190,"GOURNAY SUR ARONDE","FR","FR","NL",33686864938,33344420307,"famille.verhoog@orange.fr","Roelof VERHOOG","FR7618706000007783740013068","AGRIFRPP887",{"$f":"CONCATENATE(C328,\" \",D328)","v":"VERHOOG Roelof"},null,null,{"$f":"Z328*2%","v":0},{"$f":"AA328-AA328*30%","v":0},null,{"$f":"AC328*2%","v":0},{"$f":"AD328-AD328*30%","v":0},1500,{"$f":"AF328*1.57%","v":23.550000000000004},{"$f":"AG328-AG328*30%","v":16.485000000000003},{"$f":"AB328+AE328+AH328","v":16.485000000000003},{"$f":"CONCATENATE(\"2019/\",'cooperators-41'!AB328,\"Euros-2020/\",'cooperators-41'!AE328,\"Euros-2022/\",'cooperators-41'!AH328,\"Euros\")","v":"2019/0Euros-2020/0Euros-2022/16,485Euros"}]
["ICEA-319","woman","Wautelet","Mélanie",". ","2012-06-16","Orsay (91)","gardian",null,null,"fr","39 J chemin de Lasserre",31450,"Corronsac","FR","FR","FR",null,null,"p.wautelet@fractalzone.be","Mélanie Wautelet","FR7614518292670287305624005","FTNOFRP1XXX",{"$f":"CONCATENATE(C329,\" \",D329)","v":"Wautelet Mélanie"},null,null,{"$f":"Z329*2%","v":0},{"$f":"AA329-AA329*30%","v":0},500,{"$f":"AC329*2%","v":10},{"$f":"AD329-AD329*30%","v":7},500,{"$f":"AF329*1.57%","v":7.8500000000000014},{"$f":"AG329-AG329*30%","v":5.495000000000001},{"$f":"AB329+AE329+AH329","v":12.495000000000001},{"$f":"CONCATENATE(\"2019/\",'cooperators-41'!AB329,\"Euros-2020/\",'cooperators-41'!AE329,\"Euros-2022/\",'cooperators-41'!AH329,\"Euros\")","v":"2019/0Euros-2020/7Euros-2022/5,495Euros"}]
["ICEA-322","man","Wautelet","Philippe","-","1975-11-17","Mons (Belgique)","person",null,null,"fr","39 J chemin de Lasserre",31450,"Corronsac","FR","FR","FR","+336 01 83 42 01",null,"p.wautelet@fractalzone.be","Philippe Wautelet","FR7610278022120002064010194","CMCIFR2A",{"$f":"CONCATENATE(C330,\" \",D330)","v":"Wautelet Philippe"},null,null,{"$f":"Z330*2%","v":0},{"$f":"AA330-AA330*30%","v":0},100,{"$f":"AC330*2%","v":2},{"$f":"AD330-AD330*30%","v":1.4},100,{"$f":"AF330*1.57%","v":1.5700000000000003},{"$f":"AG330-AG330*30%","v":1.0990000000000002},{"$f":"AB330+AE330+AH330","v":2.4990000000000001},{"$f":"CONCATENATE(\"2019/\",'cooperators-41'!AB330,\"Euros-2020/\",'cooperators-41'!AE330,\"Euros-2022/\",'cooperators-41'!AH330,\"Euros\")","v":"2019/0Euros-2020/1,4Euros-2022/1,099Euros"}]
["ICEA-320","man","Wautelet","Thomas",". ","2015-03-21","Orsay (91)","gardian",null,null,"fr","39 J chemin de Lasserre",31450,"Corronsac","FR","FR","FR",null,null,"p.wautelet@fractalzone.be","Thomas Wautelet","FR7614518292670287306164004","FTNOFRP1XXX",{"$f":"CONCATENATE(C331,\" \",D331)","v":"Wautelet Thomas"},null,null,{"$f":"Z331*2%","v":0},{"$f":"AA331-AA331*30%","v":0},500,{"$f":"AC331*2%","v":10},{"$f":"AD331-AD331*30%","v":7},500,{"$f":"AF331*1.57%","v":7.8500000000000014},{"$f":"AG331-AG331*30%","v":5.495000000000001},{"$f":"AB331+AE331+AH331","v":12.495000000000001},{"$f":"CONCATENATE(\"2019/\",'cooperators-41'!AB331,\"Euros-2020/\",'cooperators-41'!AE331,\"Euros-2022/\",'cooperators-41'!AH331,\"Euros\")","v":"2019/0Euros-2020/7Euros-2022/5,495Euros"}]
["ICEA-11","man","Zamolo","Philippe",null,"1961-01-24","Ostricourt (59)","person",null,null,"fr","3,ch de Combe d'Oly",31320,"Castanet Tolosan","FR","FR","FR","06 72 56 01 12",null,"zamolo.philippe@orange.fr",null,null,null,{"$f":"CONCATENATE(C332,\" \",D332)","v":"Zamolo Philippe"},null,300,{"$f":"Z332*2%","v":6},{"$f":"AA332-AA332*30%","v":4.2},300,{"$f":"AC332*2%","v":6},{"$f":"AD332-AD332*30%","v":4.2},300,{"$f":"AF332*1.57%","v":4.7100000000000009},{"$f":"AG332-AG332*30%","v":3.2970000000000006}]
["ICEA-79","man","Zizi","Farid",null,"1962-02-16","Suresnes(92)","person",null,null,"fr","3 chemin de la Payssière",31670,"Labège","FR","FR","FR","05 62 24 35 05",null,"faridzizi50@gmail.com",null,null,null,{"$f":"CONCATENATE(C333,\" \",D333)","v":"Zizi Farid"},null,50,{"$f":"Z333*2%","v":1},{"$f":"AA333-AA333*30%","v":0.7},50,{"$f":"AC333*2%","v":1},{"$f":"AD333-AD333*30%","v":0.7},50,{"$f":"AF333*1.57%","v":0.78500000000000014},{"$f":"AG333-AG333*30%","v":0.5495000000000001}]
["ICEA-440","woman","BONHOMME","Dominique",null,"1965-03-07","Thouars","person",null,null,"fr","9 rue de Falgar",31810,"VENERQUE","FR","FR","FR",33645063086,null,"dbonhomme31@gmail.com",null,null,null,{"$f":"CONCATENATE(C334,\" \",D334)","v":"BONHOMME Dominique"}]
["ICEA-450","man","FOCH","Bernard","Bernard","1960-09-06","Toulouse","person",null,null,"fr","4 D Allée Chantecaille",31670,"Labège","FR","FR","FR",33603480505,null,"bfoch@free.fr",null,null,null,{"$f":"CONCATENATE(C335,\" \",D335)","v":"FOCH Bernard"}]
["ICEA-445","man","Giraud","Jean-Claude",null,"1951-08-29","Montreuil","person",null,null,"fr","165 Ch de la Crabo",31870,"Lagardelle/Lèze","FR","FR","FR","07 78 82 61 30",null,"giraud_jc@yohoo.fr",null,null,null,{"$f":"CONCATENATE(C336,\" \",D336)","v":"Giraud Jean-Claude"}]
["ICEA-444","man","JENNEVIN","Pascal",null,"1958-03-18","Héricourt","person",null,null,"fr","13 rue des Cèdres",31810,"VERNET","FR","FR","FR",33695543199,null,"pascal.jennevin@gmail.com",null,null,null,{"$f":"CONCATENATE(C337,\" \",D337)","v":"JENNEVIN Pascal"}]
["ICEA-447","man","marquez velasco","jean","jean jacques","1954-08-17","dax","person",null,null,"fr","2   chemin du couzi",31810,"venerque","FR","FR","FR",33609733915,null,"jeanjacques17@orange.fr","marquez velasco",null,null,{"$f":"CONCATENATE(C338,\" \",D338)","v":"marquez velasco jean"}]
["ICEA-446","man","Munoz","Floréal",null,"1970-01-01",null,"company","Lagardelle sur Lèze",21310263500017,"fr","3 rue du Chateau du Vignou",31870,"Lagardelle/Lèze","FR","FR","FR",null,"05 62 11 59 80","accueil.lagardelle@orange.fr",null,null,null,{"$f":"CONCATENATE(C339,\" \",D339)","v":"Munoz Floréal"}]
["ICEA-457","woman","NEGRI REQUILLART","Diana",null,"1958-12-30","Constantine","person",null,null,"fr","4 Avenue du Mont Saint Charles",31810,"Venerque","FR","FR","FR",33676147057,null,"drequillart@sfr.fr",null,null,null,{"$f":"CONCATENATE(C340,\" \",D340)","v":"NEGRI REQUILLART Diana"}]
["ICEA-256","woman","Weisslinger","Delphine",null,"1988-09-28","Marseille","person",null,null,"fr","4   rue Sophie Scholl",31650,"St Orens de Gameville","FR","FR","FR","+337 94 07 06",null,"d.weisslinger@gmail.com","Weisslinger","FR5420041010161634980U03736","PSSTFRPPTOU",{"$f":"CONCATENATE(C341,\" \",D341)","v":"Weisslinger Delphine"},null,50,{"$f":"Z341*2%","v":1},{"$f":"AA341-AA341*30%","v":0.7},50,{"$f":"AC341*2%","v":1},{"$f":"AD341-AD341*30%","v":0.7},50,{"$f":"AF341*1.57%","v":0.78500000000000014},{"$f":"AG341-AG341*30%","v":0.5495000000000001},{"$f":"AB341+AE341+AH341","v":1.9495},{"$f":"CONCATENATE(\"2019/\",'cooperators-41'!AB341,\"Euros-2020/\",'cooperators-41'!AE341,\"Euros-2022/\",'cooperators-41'!AH341,\"Euros\")","v":"2019/0,7Euros-2020/0,7Euros-2022/0,5495Euros"}]
["ICEA-441","man","Petterle","Mathieu","Mathieu","1990-11-05","Toulouse","person",null,null,"fr","11 rue du moulin",31870,"Lagardelle-sur-Lèze","FR","FR","FR",33687841748,33687841748,"math21436598@gmail.com",null,null,null,{"$f":"CONCATENATE(C342,\" \",D342)","v":"Petterle Mathieu"}]
["ICEA-449","man","Planton","Frédéric",null,"1973-10-25","Bordeaux","person",null,null,"fr","17 lotissement le Furguet haut",31870,"Lagardelle sur Leze","FR","FR","FR",33684160473,null,"fplanton2@laposte.net",null,null,null,{"$f":"CONCATENATE(C343,\" \",D343)","v":"Planton Frédéric"}]
["ICEA-458","woman","Réquillart","Charlotte","Julie","1990-09-21","Le Chesnay","person",null,null,"fr","2 rue Jeanne d'arc",94160,"Saint Mandé","FR","FR","FR","+337 68 64 82 33",null,"crequillarty@yahoo.fr",null,null,null,{"$f":"CONCATENATE(C344,\" \",D344)","v":"Réquillart Charlotte"}]
["ICEA-334","woman","Zaccaron","Denise"," .","1959-07-26","Castetnau-Camblong (64)","person",null,null,"fr","22   Marensac",31450,"Belberaud","FR","FR","FR","+3370 46 02 21",null,"c.hevin@free.fr","Christophe Hevin","FR7613106005001192948610120","AGRIFRPP831",{"$f":"CONCATENATE(C345,\" \",D345)","v":"Zaccaron Denise"},null,null,{"$f":"Z345*2%","v":0},{"$f":"AA345-AA345*30%","v":0},500,{"$f":"AC345*2%","v":10},{"$f":"AD345-AD345*30%","v":7},500,{"$f":"AF345*1.57%","v":7.8500000000000014},{"$f":"AG345-AG345*30%","v":5.495000000000001},{"$f":"AB345+AE345+AH345","v":12.495000000000001},{"$f":"CONCATENATE(\"2019/\",'cooperators-41'!AB345,\"Euros-2020/\",'cooperators-41'!AE345,\"Euros-2022/\",'cooperators-41'!AH345,\"Euros\")","v":"2019/0Euros-2020/7Euros-2022/5,495Euros"}]
["ICEA-451","man","Subiela","Laurent",null,"1980-10-04","Toulouse","person",null,null,"fr","29 rue Souleilla",31450,"Issus","FR","FR","FR","06 13 56 56 78",null,"cf31.com@gmail.com",null,null,null,{"$f":"CONCATENATE(C346,\" \",D346)","v":"Subiela Laurent"}]
["ICEA-459","man","Thil","Chritian","Frédéric Patrick","1970-11-25","Aureville","company","SARL Electrelle","FR49515228575","fr","1400 route de montgiscard",31320,"31320 - AUREVILLE","FR","FR","FR",33627650453,33627650453,"sarlelectrelle@gmail.com",null,null,null,"Thil Chritian"]
["ICEA-443","woman","Villette","Marie julie",null,"1975-03-22","Beauvais","person",null,null,"fr","101 avenue lespinet, bat C, apt 23",31400,"Toulouse","FR","FR","FR",33630375869,null,"mjvil@hotmail.fr",null,null,null,"Villette Marie julie"]
["ICEA-14","man","ABRANTES","Philippe",null,"1961-06-29","Toulouse (31)","person",null,null,"fr","127, rue du Pic du midi",31450,"Labastide de Beauvoir","FR","FR","FR","05 61 54 10 50",null,"rozennirvoas@hotmail.fr",null,null,null,"ABRANTES Philippe","Abrantes Philippe",500,{"$f":"Z349*2%","v":10},{"$f":"AA349-AA349*30%","v":7},500,{"$f":"AC349*2%","v":10},{"$f":"AD349-AD349*30%","v":7},500,{"$f":"AF349*1.57%","v":7.8500000000000014},{"$f":"AG349-AG349*30%","v":5.495000000000001}]
[null,null,null,null,null,null,null,null,null,null,null,null,null,null,null,null,null,null,null,null,null,null,null,null,null,null,null,null,null,null,null,null,null,null,null,{"$f":"CONCATENATE(\"2019/\",'cooperators-41'!AB350,\"Euros-2020/\",'cooperators-41'!AE350,\"Euros-2022/\",'cooperators-41'!AH350,\"Euros\")","v":"2019/Euros-2020/Euros-2022/Euros"}]
["ICEA-134","man","Arevalo","Henri",null,"1956-10-22","Toulouse","person",null,null,"fr","3 rue Pierre de Coubertin",31520,"Ramonville","FR","FR","FR","06 82 22 77 84",null,"henri.arevalo@wanadoo.fr",null,null,null,{"$f":"CONCATENATE(C351,\" \",D351)","v":"Arevalo Henri"},"Arevalo Henri",500,{"$f":"Z351*2%","v":10},{"$f":"AA351-AA351*30%","v":7},500,{"$f":"AC351*2%","v":10},{"$f":"AD351-AD351*30%","v":7},500,{"$f":"AF351*1.57%","v":7.8500000000000014},{"$f":"AG351-AG351*30%","v":5.495000000000001}]
["ICEA-22","woman","Azzola","Corinne","Trébosc ","1969-02-23","Rodez (12)","person",null,null,"fr","1   rue du capitaine Fracasse",31320,"Castanet Tolosan","FR","FR","FR","+3323 57 36 17",null,"corinne.trebosc@macoda.com",null,null,null,"Azzola Corinne","Azzola Corinne",500,10,7,500,10,7,500,7.8500000000000014,5.495000000000001]
["ICEA-158","woman","Bages","Annie","Proudom","1952-05-17","Lacaune","person",null,null,"fr","27 rte de St Leon",31450,"Noueilles","FR","FR","FR","05 61 81 14 00",null,"annie.proudom@laposte.net",null,null,null,"Bages Annie","Bages Annie",50,1,0.7,50,1,0.7,50,0.78500000000000014,0.5495000000000001]
["ICEA-70","man","Baldelli","Paul",null,"1943-08-28","St Iblitto","person",null,null,"fr","243 route de Vigoulet Auzil",31320,"Aureville","FR","FR","FR","05 61 76 29 96",null,"paul.baldelli@free.fr",null,null,null,"Baldelli Paul","Baldelli Paul",500,10,7,500,10,7,500,7.8500000000000014,5.495000000000001]
["ICEA-324","woman","BARDE","JOANNE",null,"1983-10-08","CARCASSONNE","person",null,null,"fr","43 AVENUE ALEXANDRE MONOURY",31250,"REVEL","FR","FR","FR","06 63 37 69 68",null,"joannebarde@hotmail.fr",null,null,null,"BARDE JOANNE","Barde Joanne",null,0,0,50,1,0.7,50,0.78500000000000014,0.5495000000000001]
["ICEA-380","woman","BARRERE","Anne-Sophie",null,"1983-02-13","PAU","person",null,null,"fr","26 rue des hirondelles",31520,"RAMONVILLE","FR","FR","FR","06 59 63 31 50",null,"annesobarrere@hotmail.com",null,null,null,"BARRERE Anne-Sophie","Barrere Anne-Sophie",null,0,0,null,0,0,50,0.78500000000000014,0.5495000000000001]
["ICEA-431","woman","BENOIT","Marilys",null,"1956-08-22","Sens ","person",null,null,"fr","99 chemin d'En Roques",31450,"AYGUESVIVES","FR","FR","FR",33670684880,null,"marilys.benoit-esquerre@outlook.fr",null,null,null,"BENOIT Marilys","BENOIT Marilys",null,0,0,null,0,0,150,2.3550000000000004,1.6485000000000003]
[]
["ICEA-329","man","Boscher","Gabriel"," .","1980-12-09","Bordeaux","person",null,null,"fr","40 chemin de la fontaine st sernin",31670,"Labège","FR","FR","FR","06 52 03 99 36",null,"gboscher@gmail.com",null,null,null,{"$f":"CONCATENATE(C359,\" \",D359)","v":"Boscher Gabriel"},"Boscher Gabriel",null,{"$f":"Z359*2%","v":0},{"$f":"AA359-AA359*30%","v":0},50,{"$f":"AC359*2%","v":1},{"$f":"AD359-AD359*30%","v":0.7},50,{"$f":"AF359*1.57%","v":0.78500000000000014},{"$f":"AG359-AG359*30%","v":0.5495000000000001}]
["ICEA-69","woman","Bourrelle","Monique","Baldelli","1942-04-03","Caragoudes","person",null,null,"fr","243 route de Vigoulet Auzil",31320,"Aureville","FR","FR","FR","05 61 76 29 96",null,"paul.baldelli@free.fr",null,null,null,"Bourrelle Monique","Bourrelle Monique",200,4,2.8,200,4,2.8,200,3.1400000000000006,2.1980000000000004]
["ICEA-201","woman","Bouyssou","Carole"," Caquineau","1970-12-31","Mazamet","person",null,null,"fr","1 rue du Joli Son",31320,"Péchabou","FR","FR","FR","06 84 39 71 59",null,"caro.aureda@gmail.com",null,"NULL",null,"Bouyssou Carole","Bouyssou Carole",100,2,1.4,500,10,7,500,7.8500000000000014,5.495000000000001]
["ICEA-72","man","Bras","Jean",null,"1939-07-27","Sébrazac","person",null,null,"fr","3 impasse Bellevue",31450,"Ayguesvives","FR","FR","FR","06 61 81 92 80",null,"jean.bras1@aliceadsl.fr",null,null,null,"Bras Jean","Bras Jean",500,10,7,500,10,7,500,7.8500000000000014,5.495000000000001]
["ICEA-368","woman","Bratina","Maja",null,"1965-08-16","Neuilly","person",null,null,"fr","3 Lotissement des acacias",31450,"Montgiscard","FR","FR","FR","06 88 65 95 29",null,"mbratina1@orange.fr",null,null,null,"Bratina Maja","Bratina Maja",null,0,0,150,3,2.1,150,2.3550000000000004,1.6485000000000003]
["ICEA-216","man","Calba","Daniel",null,"1947-07-19","Sarrebourg","person",null,null,"fr","1 rue du Bedel",31750,"Escalquens","FR","FR","FR","06 04 45 39 61",null,"randomcd@laposte.net",null,null,null,"Calba Daniel","Calba Daniel",50,1,0.7,500,10,7,500,7.8500000000000014,5.495000000000001]
["ICEA-35","woman","Casagrande","Josephine ",null,"1944-03-03","Gorgo-al-monticano-Italie","person",null,null,"fr","56, chemin du ruisseau de Fontbazy",31450,"Donneville","FR","FR","FR","06 81 74 04 98",null,"josephine.casagrande@orange.fr",null,null,null,"Casagrande Josephine ","Casagrande Josephine ",100,2,1.4,100,2,1.4,100,1.5700000000000003,1.0990000000000002]
["ICEA-36","woman","Collot","Odile","Boutemy","1941-04-20","Moutier Malcard (23)","person",null,null,"fr","27 chemin des graves",31450,"Montgiscard","FR","FR","FR","05 61 81 97 92",null,"odile.boutemy@libertysurf.fr",null,null,null,"Collot Odile","Collot Odile",500,10,7,500,10,7,500,7.8500000000000014,5.495000000000001]
["ICEA-215","man","Conjard","Vincent","Conjard","1969-06-04","Montauban","person",null,null,"fr","4 allée Mermoz",69780,"Toussieu","FR","FR","FR","06 74 97 69 51",null,"vsconjard@hotmail.com",null,null,null,"Conjard Vincent","Conjard Vincent",500,10,7,500,10,7,500,7.8500000000000014,5.495000000000001]
["ICEA-371","woman","Corberand","Emma"," .","2000-05-13","Toulouse","person",null,null,"fr","10, rue Henry Russell ",31320,"PECHABOU","FR","FR","FR","07 66 12 24 35",null,"emma.corberand@gmail.com",null,null,null,"Corberand Emma","Corberand Emma",null,0,0,500,10,7,500,7.8500000000000014,5.495000000000001]
["ICEA-102","woman","Debrusse","Aurelie",null,"1992-05-09","Aureville","person",null,null,"fr","86 rue Philippe de Girard",75018,"PARIS","FR","FR","FR","06 12 77 27 71",null,"aurelie.debrusse@gmail.com",null,null,null,"Debrusse Aurelie","Debrusse Aurelie",250,5,3.5,450,9,6.3000000000000007,450,7.0650000000000013,4.9455000000000009]
["ICEA-89","man","Debrusse","Olivier",null,"1994-12-14","Aureville","person",null,null,"fr","1543 route d'Espanès",31320,"Aureville","FR","FR","FR","06 11 28 74 06",null,"olivier.debrusse@gmail.com",null,null,null,"Debrusse Olivier","Debrusse Olivier",300,6,4.2,800,16,11.2,800,12.560000000000002,8.7920000000000016]
["ICEA-71","woman","Delheure","Jeanne","Bras","1944-09-10","Mende (48)","person",null,null,"fr","3 impasse Bellevue",31450,"Ayguesvives","FR","FR","FR","05 61 81 92 80",null,"jjbras@aliceadsl.fr",null,null,null,"Delheure Jeanne","Delheure Jeanne",500,10,7,500,10,7,500,7.8500000000000014,5.495000000000001]
["ICEA-399","man","Descadeillas","Serge","Serge","1958-01-31","Montegut Bourjac","person",null,null,"fr","294 ter route de Saverdun",31870,"Lagardelle sur Lèze","FR","FR","FR",33782343679,null,"serge.descadeillas@wanadoo.fr",null,"NULL",null,"Descadeillas Serge","Descadeillas Serge",null,0,0,null,0,0,500,7.8500000000000014,5.495000000000001]
["ICEA-229","woman","Desnos","Sylvie",null,"1958-04-20","Paris 10 eme","person",null,null,"fr","1 rue Hélène Boucher- appt F06",31130,"Quint Fonsegrives","FR","FR","FR","06 72 26 06 89",null,"sylvie.desnos@gmail.com",null,null,null,"Desnos Sylvie","Desnos Sylvie",50,1,0.7,50,1,0.7,50,0.78500000000000014,0.5495000000000001]
["ICEA-128","man","Duquesnoy","Bernard",null,"1945-11-01","Gouy-Servins","person",null,null,"fr","1 rue Barrau",31450,"Donneville","FR","FR","FR","06 36 80 75 11",null,"bduquesnoy@wanadoo.fr",null,null,null,"Duquesnoy Bernard","Duquesnoy Bernard",200,4,2.8,200,4,2.8,200,3.1400000000000006,2.1980000000000004]
["ICEA-137","woman","Emery","Françoise",null,"1944-01-28","Labège","person",null,null,"fr","16 ch d'Occitanie",31450,"Ayguesvives","FR","FR","FR","09 71 21 20 28",null,"louise.emery@wanadoo.fr",null,null,null,"Emery Françoise","Emery Françoise",200,4,2.8,200,4,2.8,200,3.1400000000000006,2.1980000000000004]
["ICEA-226","woman","EYNAUDI","Christine"," QUERE","1964-10-12","Saint Brieuc","person",null,null,"fr","2 chemin de Marrast",31650,"LAUZERVILLE","FR","FR","FR","06 31 52 74 62",null,"christinequere31@gmail.com",null,null,null,"EYNAUDI Christine","Eynaudi Christine",100,2,1.4,100,2,1.4,200,3.1400000000000006,2.1980000000000004]
["ICEA-171","woman","Fine","Jeanne"," ","1950-09-10","Agen (47)","person",null,null,"fr","5 allée Charles Malpel, App 39",31300,"Toulouse","FR","FR","FR","06 71 22 44 65",null,"jeanne.fine@gmail.com",null,null,null,"Fine Jeanne","Fine Jeanne",100,2,1.4,200,4,2.8,200,3.1400000000000006,2.1980000000000004]
["ICEA-08","man","Fontan","Guy ",null,"1955-07-31","Cazères (31)","person",null,null,"fr","12 allée des passeraux",40130,"Capbreton","FR","FR","FR","06 21 04 88 25",null,"guy.fontan@wanadoo.fr",null,null,null,"Fontan Guy ","Fontan Guy ",500,10,7,500,10,7,500,7.8500000000000014,5.495000000000001]
["ICEA-64","woman","Garcia","Thérese","Laborde","1947-05-30","Toulouse (31)","person",null,null,"fr","7 av Lascardos",31320,"Castanet Tolosan","FR","FR","FR","05 61 81 75 01 ",null,"tb.laborde@wanadoo.fr",null,null,null,"Garcia Thérese","Garcia Thérese",500,10,7,500,10,7,500,7.8500000000000014,5.495000000000001]
[]
[]
["ICEA-381","woman","GIBERT","AUDREY"," .","1991-06-25","RILLIEUX-LA-PAPE","person",null,null,"fr","5   quai du Commerce",69009,"LYON","FR","FR","FR","+3380 59 95 67",null,"audrey.gibert91@net-c.fr",null,null,null,{"$f":"CONCATENATE(C382,\" \",D382)","v":"GIBERT AUDREY"},"Gibert Audrey",null,{"$f":"Z382*2%","v":0},{"$f":"AA382-AA382*30%","v":0},null,{"$f":"AC382*2%","v":0},{"$f":"AD382-AD382*30%","v":0},50,{"$f":"AF382*1.57%","v":0.78500000000000014},{"$f":"AG382-AG382*30%","v":0.5495000000000001}]
["ICEA-217","woman","Gilabert","Marie-Claude","Calba","1948-11-18","Sidi-bel-Abbes","person",null,null,"fr","1 rue du Bedel",31750,"Escalquens","FR","FR","FR","06 03 93 87 27",null,"randomcd@laposte.net",null,null,null,{"$f":"CONCATENATE(C383,\" \",D383)","v":"Gilabert Marie-Claude"},"Gilabert Marie-Claude",50,{"$f":"Z383*2%","v":1},{"$f":"AA383-AA383*30%","v":0.7},600,{"$f":"AC383*2%","v":12},{"$f":"AD383-AD383*30%","v":8.4},600,{"$f":"AF383*1.57%","v":9.4200000000000017},{"$f":"AG383-AG383*30%","v":6.5940000000000012}]
["ICEA-398","woman","GIRAUD","PAULE",null,"1963-01-14","PARIS ","person",null,null,"fr","2 chemin du Couzi",31810,"Venerque","FR","FR","FR",33652871825,33561082874,"jeanpaule1@free.fr",null,"NULL",null,{"$f":"CONCATENATE(C384,\" \",D384)","v":"GIRAUD PAULE"},"Giraud Paule",null,{"$f":"Z384*2%","v":0},{"$f":"AA384-AA384*30%","v":0},null,{"$f":"AC384*2%","v":0},{"$f":"AD384-AD384*30%","v":0},400,{"$f":"AF384*1.57%","v":6.2800000000000011},{"$f":"AG384-AG384*30%","v":4.3960000000000008}]
["ICEA-311","woman","GUIHO","Chantal",null,"1954-10-15","PARIS","person",null,null,"fr","24 avenue du parc",31750,"escalquens","FR","FR","FR","06 88 29 88 89",null,"chantal.guiho@gmail.com",null,null,null,{"$f":"CONCATENATE(C385,\" \",D385)","v":"GUIHO Chantal"},"Guiho Chantal",null,{"$f":"Z385*2%","v":0},{"$f":"AA385-AA385*30%","v":0},50,{"$f":"AC385*2%","v":1},{"$f":"AD385-AD385*30%","v":0.7},50,{"$f":"AF385*1.57%","v":0.78500000000000014},{"$f":"AG385-AG385*30%","v":0.5495000000000001}]
["ICEA-09","man","Hilaire","Philippe",null,"1950-06-14","Laxou (54)","person",null,null,"fr","5 ch de la combe d'Oly",31320,"Castanet Tolosan","FR","FR","FR","06 19 85 81 95",null,"hilaire.philippe@gmail.com ",null,null,null,{"$f":"CONCATENATE(C386,\" \",D386)","v":"Hilaire Philippe"},"Hilaire Philippe",500,{"$f":"Z386*2%","v":10},{"$f":"AA386-AA386*30%","v":7},500,{"$f":"AC386*2%","v":10},{"$f":"AD386-AD386*30%","v":7},500,{"$f":"AF386*1.57%","v":7.8500000000000014},{"$f":"AG386-AG386*30%","v":5.495000000000001}]
[]
["ICEA-340","woman","IRVOAS","Anaëlle",". ","2013-01-15","Lagrasse","gardian",null,null,"fr","2 résidence les flores, avenue des plages",11430,"Gruissan","FR","FR","FR",null,null,"tirvoas@hotmail.com",null,null,null,{"$f":"CONCATENATE(C388,\" \",D388)","v":"IRVOAS Anaëlle"},"Irvoas Anaëlle",null,{"$f":"Z388*2%","v":0},{"$f":"AA388-AA388*30%","v":0},500,{"$f":"AC388*2%","v":10},{"$f":"AD388-AD388*30%","v":7},500,{"$f":"AF388*1.57%","v":7.8500000000000014},{"$f":"AG388-AG388*30%","v":5.495000000000001}]
["ICEA-339","man","IRVOAS","Johann",". ","2014-10-23","Lagrasse","gardian",null,null,"fr","2 résidence les flores, avenue des plages",11430,"Gruissan","FR","FR","FR",null,null,"tirvoas@hotmail.com",null,null,null,"IRVOAS Johann","Irvoas Johann",null,0,0,500,10,7,500,7.8500000000000014,5.495000000000001]
["ICEA-13","woman","Irvoas","Rozenn","ABRANTES","1971-04-29","Toulouse (31)","person",null,null,"fr","127, rue du Pic du midi",31450,"Labastide de Beauvoir","FR","FR","FR","06 89 85 17 12",null,"rozennirvoas@hotmail.fr",null,null,null,"Irvoas Rozenn","Irvoas Rozenn",500,10,7,500,10,7,500,7.8500000000000014,5.495000000000001]
["ICEA-110","man","Isnard","Fabien",null,"1977-03-27","Tours","person",null,null,"fr","21 rue Jacques Prevert",37550,"Saint-Avertin","FR","FR","FR","06 12 67 71 27",null,"fab.isnard@free.fr",null,null,null,"Isnard Fabien","Isnard Fabien",50,1,0.7,50,1,0.7,50,0.78500000000000014,0.5495000000000001]
["ICEA-432","woman","ISNARD","Hélène",null,"1944-06-08","Paris XVe","person",null,null,"fr","2 chemin des Ramiers",31810,"VENERQUE","FR","FR","FR",619127923,null,"helene.breton31@orange.fr",null,null,null,"ISNARD Hélène","ISNARD Hélène",null,0,0,null,0,0,1000,15.700000000000003,10.990000000000002]
["ICEA-111","woman","Isnard-Richer","Marine",null,"2004-07-27","Grasse","gardian",null,null,"fr","21 rue Jacques Prevert",37550,"Saint-Avertin","FR","FR","FR",null,null,"fab.isnard@free.fr",null,null,null,"Isnard-Richer Marine","Isnard-Richer Marine",50,1,0.7,50,1,0.7,50,0.78500000000000014,0.5495000000000001]
["ICEA-112","man","Isnard-Richer","Maxence",null,"2012-04-19","Chambray les Tours","gardian",null,null,"fr","21 rue Jacques Prevert",37550,"Saint-Avertin","FR","FR","FR",null,null,"fab.isnard@free.fr",null,null,null,"Isnard-Richer Maxence","Isnard-Richer Maxence",50,1,0.7,50,1,0.7,50,0.78500000000000014,0.5495000000000001]
["ICEA-109","woman","Isnard-Richer","Nathalie",null,"1974-09-02","Annecy","person",null,null,"fr","21 rue Jacques Prevert",37550,"Saint-Avertin","FR","FR","FR","06 11 20 89 64",null,"nath.isnard@free.fr",null,null,null,"Isnard-Richer Nathalie","Isnard-Richer Nathalie",50,1,0.7,50,1,0.7,50,0.78500000000000014,0.5495000000000001]
["ICEA-113","man","Isnard-Richer","Remi",null,"2007-03-16","Tours","gardian",null,null,"fr","21 rue Jacques Prevert",37550,"Saint-Avertin","FR","FR","FR",null,null,"fab.isnard@free.fr",null,null,null,"Isnard-Richer Remi","Isnard-Richer Remi",50,1,0.7,50,1,0.7,50,0.78500000000000014,0.5495000000000001]
["ICEA-10","woman","Janin","Dominique","Hilaire","1950-09-28","Paris 19°","person",null,null,"fr","5 ch de la combe d'Oly",31320,"Castanet Tolosan","FR","FR","FR","06 28 22 93 98",null,"Domi.hilaire@gmail.com ",null,null,null,"Janin Dominique","Janin Dominique",500,10,7,500,10,7,500,7.8500000000000014,5.495000000000001]
["ICEA-07","woman","Jeanpes","Michelle","Fontan","1955-10-04","Saint Denis (93)","person",null,null,"fr","12 allée des passeraux",40130,"Capbreton","FR","FR","FR","06 21 04 88 25",null,"michelle.fontan@wanadoo.fr",null,null,null,"Jeanpes Michelle","Jeanpes Michelle",500,10,7,500,10,7,500,7.8500000000000014,5.495000000000001]
["ICEA-285","man","Jover","Sébastien",null,"1976-10-15","Auch","person",null,null,"fr","1   rue Floreal",31670,"Labège","FR","FR","FR","+3387 28 18 53",null,"sjover31@free.fr",null,null,null,"Jover Sébastien","Jover Sébastien",null,0,0,200,4,2.8,200,3.1400000000000006,2.1980000000000004]
["ICEA-06","man","Laborde","Bertrand",null,"1946-03-22","Puteaux (92)","person",null,null,"fr","7, Avenue des Lascardos",31320,"Castanet Tolosan","FR","FR","FR","05 61 81 75 01",null,"tb.laborde@wanadoo.fr",null,null,null,"Laborde Bertrand","Laborde Bertrand",500,10,7,500,10,7,500,7.8500000000000014,5.495000000000001]
["ICEA-59","woman","Laforge","Aurelie","Gravouil","1982-07-12","Maison Laffite(78)","person",null,null,"fr","5 rue du Mistral",31750,"Escalquens","FR","FR","FR","06 61 20 14 40",null,"gravouil.aurelie@gmail.com",null,null,null,"Laforge Aurelie","Laforge Aurelie",100,2,1.4,100,2,1.4,100,1.5700000000000003,1.0990000000000002]
["ICEA-401","woman","LAULHE","Madame la président Sylvie","SYLVIE","1960-07-21","PAU","company","Jardiner Autrement en Ariège et Lèze","W311001824","fr","Mairie , 12 place Saint Pierre ",31810,"VENERQUE","FR","FR","FR",33604077538,null,"sylvie.laulhe@wanadoo.fr",null,"NULL",null,"LAULHE Madame la président Sylvie","LAULHE Madame la président Sylvie",null,0,0,null,0,0,100,1.5700000000000003,1.0990000000000002]
["ICEA-349","woman","Laurent","Irene","Laurent","1958-06-02","Poligny","person",null,null,"fr","25 chemin du coustou de Picard",31450,"Montbrun-Lauragais","FR","FR","FR","07 69 34 07 44",null,"laurent.irene@neuf.fr",null,null,null,"Laurent Irene","Laurent Irene",null,0,0,100,2,1.4,100,1.5700000000000003,1.0990000000000002]
["ICEA-269","man","LEON","Olivier"," .","1974-11-30","Toulouse","person",null,null,"fr","3 bis chemin de la Crouzette",31450,"Montbrun Lauragais","FR","FR","FR","06 78 79 76 58",null,"olivier.leon31@gmail.com",null,null,null,"LEON Olivier","Leon Olivier",100,2,1.4,100,2,1.4,100,1.5700000000000003,1.0990000000000002]
["ICEA-396","man","lopes","manuel","manuel","1981-05-12","chatenay-malabry","person",null,null,"fr","18 Lotissement du Moulin Vieux",31810,"Venerque","FR","FR","FR",33688314704,null,"lopes.manuel3@free.fr",null,"NULL",null,"lopes manuel","lopes manuel",null,0,0,null,0,0,500,7.8500000000000014,5.495000000000001]
["ICEA-270","woman","MAITRE","Marie Odile","VERDIER","1956-07-21","CHERCHELL (ALGERIE)","person",null,null,"fr","1,impasse du bosquet",31450,"Ayguesvives","FR","FR","FR","06 26 92 51 25",null,"mo.verdier@neuf.fr",null,null,null,"MAITRE Marie Odile","MAITRE Marie Odile",50,1,0.7,50,1,0.7,50,0.78500000000000014,0.5495000000000001]
["ICEA-310","man","MASSARDIER","gerard"," .","1949-11-27","Saint Etienne","person",null,null,"fr","24 avenue du parc",31750,"Escalquens","FR","FR","FR","06 84 97 96 17",null,"gerard.massardier@gmail.com",null,null,null,"MASSARDIER gerard","Massardier Gerard",null,0,0,50,1,0.7,50,0.78500000000000014,0.5495000000000001]
["ICEA-37","man","MERCY","Monsieur  le président","Joel","1958-06-25","Sidi Bel Abbes","company","GPPEP","W313012708","fr","Chez Joel Mercy-Relais de la Fontaine",40400,"Saint Yaguen","FR","FR","FR","06 63 18 51 08",null,"president@gppep.org",null,null,null,"MERCY Monsieur  le président",null,1000,20,{"$f":"AA408-AA408*15%","v":17},1000,20,{"$f":"AD408-AD408*15%","v":17},1000,15.700000000000003,{"$f":"AG408-AG408*15%","v":13.345000000000002},{"$f":"AF408+AB408+AE408+AG408","v":1049.7}]
["ICEA-404","man","MIGLOS","Alain","Jean-Baptiste","1949-02-18","MIREMONT","person",null,null,"fr","21 avenue Sous-Roches",31810,"VENERQUE","FR","FR","FR",33534488066,33688976928,"alain.miglos@orange.fr",null,"NULL",null,"MIGLOS Alain","Miglos Alain",null,0,{"$f":"AA409-AA409*30%","v":0},null,0,{"$f":"AD409-AD409*30%","v":0},500,7.8500000000000014,{"$f":"AG409-AG409*30%","v":5.495000000000001}]
["ICEA-136","man","Mignonat","Jean-Louis",null,"1955-06-26","Labege","person",null,null,"fr","1 rue de l'Occitanie",31670,"Labège","FR","FR","FR","06 75 88 71 21",null,"jlmignonat@orange.fr",null,null,null,"Mignonat Jean-Louis","Mignonat Jean-Louis",100,2,{"$f":"AA410-AA410*30%","v":1.4},100,2,{"$f":"AD410-AD410*30%","v":1.4},100,1.5700000000000003,{"$f":"AG410-AG410*30%","v":1.0990000000000002}]
["ICEA-147","woman","Milonet","Fréderique",null,"1958-08-25","le Perreux/Marne","person",null,null,"fr","5 imp Mausac",31450,"Ayguesvives","FR","FR","FR",null,null,"milfred@hotmail.fr",null,null,null,"Milonet Fréderique","Milonet Fréderique",50,1,{"$f":"AA411-AA411*30%","v":0.7},50,1,{"$f":"AD411-AD411*30%","v":0.7},50,0.78500000000000014,{"$f":"AG411-AG411*30%","v":0.5495000000000001}]
["ICEA-255","woman","Moreau","Sandrine",null,"1972-10-27","Domont","person",null,null,"fr","2 rue des Troubadours",31670,"Labège","FR","FR","FR","06 20 35 42 63",null,"moreau_sandrine@yahoo.fr",null,null,null,"Moreau Sandrine","Moreau Sandrine",50,1,{"$f":"AA412-AA412*30%","v":0.7},50,1,{"$f":"AD412-AD412*30%","v":0.7},50,0.78500000000000014,{"$f":"AG412-AG412*30%","v":0.5495000000000001}]
["ICEA-218","man","Oberti","Jacques",null,"1960-11-26","Marseille","person",null,null,"fr","7 ch du Lavoir",31450,"Ayguesvives","FR","FR","FR","06 71 73 68 70",null,"jacques.oberti@orange.fr",null,null,null,"Oberti Jacques","Oberti Jacques",50,1,{"$f":"AA413-AA413*30%","v":0.7},50,1,{"$f":"AD413-AD413*30%","v":0.7},50,0.78500000000000014,{"$f":"AG413-AG413*30%","v":0.5495000000000001}]
[]
["ICEA-337","man","Padiou","Pierre",null,"1988-02-21","Toulouse","person",null,null,"fr","248 Duffield Street",11201,"Brooklyn","US","US","FR","91 22 92 84 72",null,"padiou@gmail.com",null,null,null,{"$f":"CONCATENATE(C415,\" \",D415)","v":"Padiou Pierre"},"Padiou Pierre",null,{"$f":"Z415*2%","v":0},{"$f":"AA415-AA415*30%","v":0},500,{"$f":"AC415*2%","v":10},{"$f":"AD415-AD415*30%","v":7},500,{"$f":"AF415*1.57%","v":7.8500000000000014},{"$f":"AG415-AG415*30%","v":5.495000000000001}]
["ICEA-240","woman","Pascal","Dominique","Pascal","1952-05-30","Le Trait","person",null,null,"fr","61 allée des platanes",31620,"Pechabou","FR","FR","FR","06 87 47 13 47",null,"domini.pascal@laposte.net",null,null,null,"Pascal Dominique","Pascal Dominique",100,2,1.4,100,2,1.4,100,1.5700000000000003,1.0990000000000002]
["ICEA-222","man","Passade","Philippe"," .","1960-01-24","Aire sur l'Adour","person",null,null,"fr","6 Rue Bernard de Ventadorn",31750,"ESCALQUENS","FR","FR","FR","06 16 30 10 70",null,"p.passade@free.fr",null,null,null,"Passade Philippe","Passade Philippe",100,2,1.4,100,2,1.4,100,1.5700000000000003,1.0990000000000002]
["ICEA-251","woman","Pintard","Martine","Garenq","1964-12-30","Paris 14 eme","person",null,null,"fr","359 Ch de Sion",31450,"Odars","FR","FR","FR","06 81 80 32 69 ",null,"martine.garenq@gmail.com",null,null,null,"Pintard Martine","Pintard Martine",50,1,0.7,50,1,0.7,50,0.78500000000000014,0.5495000000000001]
["ICEA-425","man","PLANCHE","Guillaume",null,"1978-02-25","Toulouse","person",null,null,"fr","8 chemin du couzi",31810,"VENERQUE","FR","FR","FR",33782383389,null,"marianneguillaume@outlook.fr",null,"NULL",null,"PLANCHE Guillaume","PLANCHE Guillaume",null,0,0,null,0,0,500,7.8500000000000014,5.495000000000001]
["ICEA-219","man","Pourcher","Marc",null,"1965-08-08","Marvejols","person",null,null,"fr","27 rue des Ménéstrels",31670,"Labège","FR","FR","FR",null,null,"pourchermarc@gmail.com",null,null,null,"Pourcher Marc","Pourcher Marc",50,1,0.7,50,1,0.7,50,0.78500000000000014,0.5495000000000001]
["ICEA-283","woman","Regnouf de Vains","Geneviève"," Houlbert","1953-11-26","Orange","person",null,null,"fr","9 rue des Tuiliers",31450,"Montgiscard","FR","FR","FR","06 52 25 01 60",null,"regnoufgene@wanadoo.fr",null,null,null,"Regnouf de Vains Geneviève","Regnouf de Vains Geneviève",null,0,0,500,10,7,500,7.8500000000000014,5.495000000000001]
["ICEA-412","woman","Requillart","Christine","Ledoux","1955-10-05","Arras","person",null,null,"fr","237 rue de l'Oudrecque",62370,"AUDRUICQ","FR","FR","FR",616838953,null,"ledouxchristine@hotmail.com",null,null,null,"Requillart Christine","Requillart Christine",null,0,0,null,0,0,500,7.8500000000000014,5.495000000000001]
["ICEA-397","man","ROBERT","Frédéric","Franck Aimé","1964-09-13","NÎMES","person",null,null,"fr","136 rue du pont vieux",31810,"VERNET","FR","FR","FR",33645117746,33561086397,"nathfred2@gmail.com",null,"NULL",null,"ROBERT Frédéric","Robert Frédéric",null,0,0,null,0,0,500,7.8500000000000014,5.495000000000001]
["ICEA-65","woman","Robinet","Nathalie","Branger","1965-01-09","La Rochelle","person",null,null,"fr","3 ch des Troubadours",31450,"Ayguesvives","FR","FR","FR","06 61 08 08 19",null,"fbranger@free.fr",null,null,null,"Robinet Nathalie","Robinet Nathalie",100,2,1.4,100,2,1.4,100,1.5700000000000003,1.0990000000000002]
["ICEA-305","woman","Rosso","Josiane",null,"1950-11-25","Pouy-Loubrin","person",null,null,"fr","8G rue du Docteur LABAT",82000,"Montauban","FR","FR","FR","+3381 80 59 72",null,"rosso.josiane@orange.fr",null,null,null,"Rosso Josiane","Rosso Josiane",null,0,0,500,10,7,500,7.8500000000000014,5.495000000000001]
["ICEA-221","woman","SAINT-MACAIRE","Suzy",null,"1967-01-23","SOYAUX","person",null,null,"fr","6 rue de ventadorn",31750,"escalquens","FR","FR","FR","06 50 38 18 86",null,"suzysaintmacaire@free.fr",null,null,null,"SAINT-MACAIRE Suzy","SAINT-MACAIRE Suzy",100,2,1.4,100,2,1.4,100,1.5700000000000003,1.0990000000000002]
["ICEA-232","woman","SAVES"," la maire Marie-José","Marie José","2020-03-03",null,"company"," Communes de Noueilles",null,"fr","Place de l'église",31450,"Noueilles","FR","FR","FR",null,null,"mairie.noueilles@wanadoo.fr",null,null,null,"SAVES  la maire Marie-José","SAVES  la maire Marie-José",50,1,0.7,50,1,0.7,50,0.78500000000000014,0.5495000000000001]
["ICEA-378","woman","Schmitz","Christiane","Brustel","1945-02-06","Allemagne","person",null,null,"fr","242 chemin des Maridats",31810,"Clermont le fort","FR","FR","FR","06 71 87 73 52",null,"c.brustel@wanadoo.fr",null,null,null,"Schmitz Christiane","Schmitz Christiane",null,0,0,null,0,0,300,4.7100000000000009,3.2970000000000006]
["ICEA-82","woman","Segaud","Danielle","Subiela","1951-01-01","Moissac","person",null,null,"fr","17 ch Rivals",31450,"Corronsac","FR","FR","FR","06 11 67 03 92",null,"danielle.subiela@sfr.fr",null,null,null,"Segaud Danielle","Segaud Danielle",100,2,1.4,100,2,1.4,100,1.5700000000000003,1.0990000000000002]
["ICEA-409","man","Serradell","Jacques",null,"1956-11-09","Castres","person",null,null,"fr","11 rue de la Pometa",31810,"VENERQUE","FR","FR","FR",676342727,null,"jacques.serradell@wanadoo.fr",null,null,null,"Serradell Jacques","Serradell Jacques",null,0,0,null,0,0,50,0.78500000000000014,0.5495000000000001]
["ICEA-281","woman","SERVEL","EDWIGE"," LANANI","1973-12-26","TOULOUSE","person",null,null,"fr","30 ROUTE DE SAINT LEON ",31450,"AYGUESVIVES","FR","FR","FR","07 88 45 51 76",null,"edwige.lanani@neuf.fr",null,null,null,"SERVEL EDWIGE","SERVEL EDWIGE",null,0,0,300,6,4.2,300,4.7100000000000009,3.2970000000000006]
["ICEA-90","woman","Thil","Anne-Marie","Debrusse","1964-01-20","Aureville","person",null,null,"fr","1543 route d'Espanès",31200,"Aureville","FR","FR","FR","06 50 84 71 71",null,"annette.debrusse@orange.fr",null,null,null,"Thil Anne-Marie","Thil Anne-Marie",500,10,7,500,10,7,500,7.8500000000000014,5.495000000000001]
["ICEA-23","man","Trébosc","David",null,"1969-11-13","Villeneuve sur Lot (47)","person",null,null,"fr","1 rue du Capitaine Fracasse",31320,"Castanet Tolosan","FR","FR","FR","06 23 57 36 17",null,"david.trebosc@macoda.com",null,null,null,"Trébosc David","Trébosc David",500,10,7,500,10,7,500,7.8500000000000014,5.495000000000001]
["ICEA-24","man","Trébosc","Florian",null,"2002-06-07","Toulouse (31)","person",null,null,"fr","    1 Rue du Capitaine Fracasse",31320,"Castanet Tolosan","FR","FR","FR","+3322 61 03 84",null,"trebosc.florian@gmail.com",null,null,null,"Trébosc Florian","Trébosc Florian",500,10,7,500,10,7,500,7.8500000000000014,5.495000000000001]
["ICEA-25","woman","Trébosc","Marion",null,"1997-02-19","Toulouse (31)","person",null,null,"fr","    1 Rue du Capitaine Fracasse",31320,"Castanet Tolosan","FR","FR","FR","+3323 57 36 17",null,"marion.trebosc@macoda.com",null,null,null,"Trébosc Marion","Trébosc Marion",500,10,7,500,10,7,500,7.8500000000000014,5.495000000000001]
["ICEA-408","woman","VIEZ","Claire",null,"1964-06-30","Villeneuve St-Georges","person",null,null,"fr","11 rue de la Pometa",31810,"VENERQUE","FR","FR","FR",674413775,null,"claireviez@gmail.com",null,null,null,"VIEZ Claire","Viez Claire",null,0,0,null,0,0,50,0.78500000000000014,0.5495000000000001]

{"sheet":"copie -liste sociétaireet donat","index":1,"n_rows":77,"n_cols":8,"rows_kept":77,"cut":false,"hidden":false,"merged":[]}
["Entete","Date virement","Nom","Iban","Bic","Montant","Ref","Libelle"]
["sepawin","2023-07-28","Alberola","FR7612280000030424950123701","SORMFR2NXXX",12.495000000000001,{"$f":"CONCATENATE(\"dividendes\",\" \",'cooperators-41'!A3)","v":"dividendes ICEA-292"},"2019/7Euros-2020/7Euros-2022/5,495Euros"]
["sepawin","2023-07-28","BALOSSO","FR7642559100000401878365756","CCOPFRPPXXX",19.495000000000001,{"$f":"CONCATENATE(\"dividendes\",\" \",'cooperators-41'!A4)","v":"dividendes ICEA-400"},"2019/8,4Euros-2020/8,4Euros-2022/6,594Euros"]
["sepawin","2023-07-28","BASCOUL","FR7614518292670193788774016","FTNOFRP1XXX",12.495000000000001,{"$f":"CONCATENATE(\"dividendes\",\" \",'cooperators-41'!A5)","v":"dividendes ICEA-333"},"2019/7Euros-2020/7Euros-2022/5,495Euros"]
["sepawin","2023-07-28","BASCOUL","FR7614518292670782694284041","FTNOFRP1XXX",5.495000000000001,{"$f":"CONCATENATE(\"dividendes\",\" \",'cooperators-41'!A6)","v":"dividendes ICEA-274"},"2019/8,4Euros-2020/8,4Euros-2022/6,594Euros"]
["sepawin","2023-07-28","BASCOUL","FR7614518292670224166874049","FTNOFRP1XXX",12.495000000000001,{"$f":"CONCATENATE(\"dividendes\",\" \",'cooperators-41'!A7)","v":"dividendes ICEA-198"},"2019/1,4Euros-2020/2,1Euros-2022/1,6485Euros"]
["sepawin","2023-07-28","BENTO","FR7613106005001820821510135","AGRIFRPP831",23.394000000000002,{"$f":"CONCATENATE(\"dividendes\",\" \",'cooperators-41'!A8)","v":"dividendes ICEA-108"},"2019/7Euros-2020/7Euros-2022/5,495Euros"]
["sepawin","2023-07-28","Bernard","FR7610278022920002000730171","CMCIFR2AXXX",19.495000000000001,{"$f":"CONCATENATE(\"dividendes\",\" \",'cooperators-41'!A9)","v":"dividendes ICEA-414"},"2019/1,4Euros-2020/2,8Euros-2022/2,198Euros"]
["sepawin","2023-07-28","Blanchot ","FR7613106005002000068418519","AGRIFRPP831",1.0990000000000002,{"$f":"CONCATENATE(\"dividendes\",\" \",'cooperators-41'!A10)","v":"dividendes ICEA-129"},"2019/4,2Euros-2020/4,2Euros-2022/3,297Euros"]
["sepawin","2023-07-28","Boulanger","FR7613106005001820821510135","AGRIFRPP831",23.394000000000002,{"$f":"CONCATENATE(\"dividendes\",\" \",'cooperators-41'!A11)","v":"dividendes ICEA-280"},"2019/0,7Euros-2020/1,4Euros-2022/1,099Euros"]
["sepawin","2023-07-28","Bouquet","FR7610278022120002064010194","CMCIFR2A",2.4990000000000001,{"$f":"CONCATENATE(\"dividendes\",\" \",'cooperators-41'!A12)","v":"dividendes ICEA-210"},"2019/28Euros-2020/28Euros-2022/21,98Euros"]
["sepawin","2023-07-28","BRACKENIER","FR4420041010161210368J03712","PSSTFRPPTOU",0.5495000000000001,{"$f":"CONCATENATE(\"dividendes\",\" \",'cooperators-41'!A13)","v":"dividendes ICEA-266"},"2019/7Euros-2020/7Euros-2022/5,495Euros"]
["sepawin","2023-07-28","Bruyant","FR7642559100000412743153978","CCOPFRPPXXX",12.495000000000001,{"$f":"CONCATENATE(\"dividendes\",\" \",'cooperators-41'!A14)","v":"dividendes ICEA-144"},"2019/7Euros-2020/7Euros-2022/5,495Euros"]
["sepawin","2023-07-28","BUISSON","FR7630003020690005219043729","SOGEFRPP",12.495000000000001,{"$f":"CONCATENATE(\"dividendes\",\" \",'cooperators-41'!A15)","v":"dividendes ICEA-267"},"2019/7Euros-2020/7Euros-2022/5,495Euros"]
["sepawin","2023-07-28","Carrère","FR7613106005002001147673111","AGRIFRPP831",5.1485000000000003,{"$f":"CONCATENATE(\"dividendes\",\" \",'cooperators-41'!A16)","v":"dividendes ICEA-132"},"2019/21Euros-2020/21Euros-2022/16,485Euros"]
["sepawin","2023-07-28","CONOR","FR9520041010161465015Z0356","PSSTFRPPTOU",12.495000000000001,{"$f":"CONCATENATE(\"dividendes\",\" \",'cooperators-41'!A17)","v":"dividendes ICEA-185"},"2019/1,4Euros-2020/1,4Euros-2022/1,099Euros"]
["sepawin","2023-07-28","Corberand","FR3630002040220000191621H93","CRLYFRPP",12.495000000000001,{"$f":"CONCATENATE(\"dividendes\",\" \",'cooperators-41'!A18)","v":"dividendes ICEA-157"},"2019/7Euros-2020/7Euros-2022/5,495Euros"]
["sepawin","2023-07-28","COSTE","FR7630004007450000058344467","BNPAFRPPXXX",12.495000000000001,{"$f":"CONCATENATE(\"dividendes\",\" \",'cooperators-41'!A19)","v":"dividendes ICEA-317"},"2019/14Euros-2020/14Euros-2022/10,99Euros"]
["sepawin","2023-07-28","Couderc","FR7613135000800414454850442","CEPAFRPP313",24.990000000000002,{"$f":"CONCATENATE(\"dividendes\",\" \",'cooperators-41'!A20)","v":"dividendes ICEA-394"},"2019/0,7Euros-2020/0,7Euros-2022/0,5495Euros"]
["sepawin","2023-07-28","Culerrier","FR7617807000120531916773640","CCBPFRPPTLS",1.0990000000000002,{"$f":"CONCATENATE(\"dividendes\",\" \",'cooperators-41'!A21)","v":"dividendes ICEA-336"},"2019/5,6Euros-2020/7Euros-2022/5,495Euros"]
["sepawin","2023-07-28","Delmas","FR7613135000800424199894623","CEPAFRPP313",19.495000000000001,{"$f":"CONCATENATE(\"dividendes\",\" \",'cooperators-41'!A22)","v":"dividendes ICEA-124"},"2019/1,4Euros-2020/4,2Euros-2022/3,297Euros"]
["sepawin","2023-07-28","Depaux","FR7610268025861058240040090","COURFR2T",6.3979999999999997,{"$f":"CONCATENATE(\"dividendes\",\" \",'cooperators-41'!A23)","v":"dividendes ICEA-301"},"2019/14Euros-2020/28Euros-2022/21,98Euros"]
["sepawin","2023-07-28","Enjalbert","FR4620041010160640974C03737","PSSTFRPPTOU",11.697000000000001,{"$f":"CONCATENATE(\"dividendes\",\" \",'cooperators-41'!A24)","v":"dividendes ICEA-42"},"2019/15,4Euros-2020/15,4Euros-2022/16,485Euros"]
["sepawin","2023-07-28","Fouchard","FR7630004018720000059982770","BNPAFRPPXXX",3.1989999999999998,{"$f":"CONCATENATE(\"dividendes\",\" \",'cooperators-41'!A25)","v":"dividendes ICEA-407"},"2019/7Euros-2020/7Euros-2022/5,495Euros"]
["sepawin","2023-07-28","GAMBIER","FR7642559100000401731461487","CCOPFRPPXXX",77.98,{"$f":"CONCATENATE(\"dividendes\",\" \",'cooperators-41'!A26)","v":"dividendes ICEA-200"},"2019/7Euros-2020/7Euros-2022/5,495Euros"]
["sepawin","2023-07-28","Gardette","NO9381601656833","DABANO22",2.1980000000000004,{"$f":"CONCATENATE(\"dividendes\",\" \",'cooperators-41'!A27)","v":"dividendes ICEA-344"},"2019/7Euros-2020/7Euros-2022/5,495Euros"]
["sepawin","2023-07-28","Gardette","FR7610907000011201969390978","CCBPFRPPBDX",19.495000000000001,{"$f":"CONCATENATE(\"dividendes\",\" \",'cooperators-41'!A28)","v":"dividendes ICEA-393"},"2019/1,4Euros-2020/1,4Euros-2022/1,099Euros"]
["sepawin","2023-07-28","Gardette","NO9381601656833","DABANO22",19.495000000000001,{"$f":"CONCATENATE(\"dividendes\",\" \",'cooperators-41'!A29)","v":"dividendes ICEA-61"},"2019/7Euros-2020/7Euros-2022/5,495Euros"]
["sepawin","2023-07-28","Gaucher","FR7613135000800424199894623","CEPAFRPP313",19.495000000000001,{"$f":"CONCATENATE(\"dividendes\",\" \",'cooperators-41'!A30)","v":"dividendes ICEA-405"},"2019/1,4Euros-2020/1,4Euros-2022/2,7475Euros"]
["sepawin","2023-07-28","Gimenez","FR1020041010160292808L03755","PSSTFRPPTOU",58.484999999999999,{"$f":"CONCATENATE(\"dividendes\",\" \",'cooperators-41'!A31)","v":"dividendes ICEA-125"},"2019/7Euros-2020/7Euros-2022/7,693Euros"]
["sepawin","2023-07-28","Gomart-Massip","FR7610268025861058240040090","COURFR2T",3.899,{"$f":"CONCATENATE(\"dividendes\",\" \",'cooperators-41'!A32)","v":"dividendes ICEA-193"},"2019/1,4Euros-2020/1,4Euros-2022/2,198Euros"]
["sepawin","2023-07-28","Haydont","FR7630004021800000021093566","BNPAFRPPXXX",19.495000000000001,{"$f":"CONCATENATE(\"dividendes\",\" \",'cooperators-41'!A33)","v":"dividendes ICEA-321"},"2019/1,4Euros-2020/1,4Euros-2022/2,198Euros"]
["sepawin","2023-07-28","Hernandez","FR7613135000800424982482669","CEPAFRPP313",2.4990000000000001,{"$f":"CONCATENATE(\"dividendes\",\" \",'cooperators-41'!A34)","v":"dividendes ICEA-178"},"2019/7Euros-2020/7Euros-2022/5,495Euros"]
["sepawin","2023-07-28","Hévin","FR7613106005001192948610120","AGRIFRPP831",38.99,{"$f":"CONCATENATE(\"dividendes\",\" \",'cooperators-41'!A35)","v":"dividendes ICEA-177"},"2019/7Euros-2020/7Euros-2022/5,495Euros"]
["sepawin","2023-07-28","Hilaire","FR7630056003660366009078905","CCFRFRPP",1.9495,{"$f":"CONCATENATE(\"dividendes\",\" \",'cooperators-41'!A36)","v":"dividendes ICEA-51"},"2019/7Euros-2020/14Euros-2022/10,99Euros"]
["sepawin","2023-07-28","Knödlseder","FR7617807000130131936093523","CCBPFRPPTLS",24.990000000000002,{"$f":"CONCATENATE(\"dividendes\",\" \",'cooperators-41'!A37)","v":"dividendes ICEA-140"},"2019/7Euros-2020/7Euros-2022/5,495Euros"]
["sepawin","2023-07-28","Knödlseder","FR7613135000800442773454623","CEPAFRPP313",12.495000000000001,{"$f":"CONCATENATE(\"dividendes\",\" \",'cooperators-41'!A38)","v":"dividendes ICEA-402"},"2019/7Euros-2020/7Euros-2022/5,495Euros"]
["sepawin","2023-07-28","Knödlseder","FR7617807000130131936093523","CCBPFRPPTLS",12.495000000000001,{"$f":"CONCATENATE(\"dividendes\",\" \",'cooperators-41'!A39)","v":"dividendes ICEA-369"},"2019/2,8Euros-2020/7Euros-2022/5,495Euros"]
["sepawin","2023-07-28","Lahaye","FR7613106005001803334010150","AGRIFRPP831",18.094999999999999,{"$f":"CONCATENATE(\"dividendes\",\" \",'cooperators-41'!A40)","v":"dividendes ICEA-420"},"2019/0,7Euros-2020/0,7Euros-2022/0,5495Euros"]
["sepawin","2023-07-28","Langry","FR7617807000779551973757871","CCBPFRPPTLS",1.0990000000000002,{"$f":"CONCATENATE(\"dividendes\",\" \",'cooperators-41'!A41)","v":"dividendes ICEA-365"}]
["sepawin","2023-07-28","LE BART","FR7610278022000001894154062","cmcifr2a",4.9980000000000002,{"$f":"CONCATENATE(\"dividendes\",\" \",'cooperators-41'!A42)","v":"dividendes ICEA-282"}]
["sepawin","2023-07-28","LEPINE","FR7621570000010807942001333","STFEFR21XXX",1.2495000000000001,{"$f":"CONCATENATE(\"dividendes\",\" \",'cooperators-41'!A43)","v":"dividendes ICEA-345"}]
["sepawin","2023-07-28","MARY","FR7640618803210004023777005","BOUSFRPPXXX",8.0990000000000002,{"$f":"CONCATENATE(\"dividendes\",\" \",'cooperators-41'!A44)","v":"dividendes ICEA-278"}]
["sepawin","2023-07-28","Mollereau","FR7617807000336541978439271","CCBPFRPPTLS",8.8970000000000002,{"$f":"CONCATENATE(\"dividendes\",\" \",'cooperators-41'!A45)","v":"dividendes ICEA-152"}]
["sepawin","2023-07-28","Navarra","FR7613106005001230846610127","AGRIFRPP831",12.495000000000001,{"$f":"CONCATENATE(\"dividendes\",\" \",'cooperators-41'!A46)","v":"dividendes ICEA-153"}]
["sepawin","2023-07-28","NEYROLLES","FR7630004033750000133682553","BNPAFRPPXXX",1.0990000000000002,{"$f":"CONCATENATE(\"dividendes\",\" \",'cooperators-41'!A47)","v":"dividendes ICEA-33"}]
["sepawin","2023-07-28","Noeureuil","FR7612280000030490965164702","SORMFR2NXXX",63.980000000000004,{"$f":"CONCATENATE(\"dividendes\",\" \",'cooperators-41'!A48)","v":"dividendes ICEA-167"}]
["sepawin","2023-07-28","OBERTI","FR753000100833D310000000075","BDFEFRPPCCT",47.285000000000004,{"$f":"CONCATENATE(\"dividendes\",\" \",'cooperators-41'!A49)","v":"dividendes ICEA-107"}]
["sepawin","2023-07-28","PLAGNARD","FR7613106005001082016010173","AGRIFRPP831",19.495000000000001,{"$f":"CONCATENATE(\"dividendes\",\" \",'cooperators-41'!A50)","v":"dividendes ICEA-114"}]
["sepawin","2023-07-28","Poutier","FR7614690000015400012601620","CMCIFRP1MON",16.485000000000003,{"$f":"CONCATENATE(\"dividendes\",\" \",'cooperators-41'!A51)","v":"dividendes ICEA-173"}]
["sepawin","2023-07-28","RAAD","LT803250078741053182","REVOLT21",19.495000000000001,{"$f":"CONCATENATE(\"dividendes\",\" \",'cooperators-41'!A52)","v":"dividendes ICEA-163"}]
["sepawin","2023-07-28","RAYMOND-CLERGUE","FR761315000800403920721155","CEPAFRPP313",12.495000000000001,{"$f":"CONCATENATE(\"dividendes\",\" \",'cooperators-41'!A53)","v":"dividendes ICEA-254"}]
["sepawin","2023-07-28","REQUILLART","FR7613135000800404268051868","CEPAFRPP313",17.990000000000002,{"$f":"CONCATENATE(\"dividendes\",\" \",'cooperators-41'!A54)","v":"dividendes ICEA-341"}]
["sepawin","2023-07-28","Rivière ","FR2320041010160157287F03712","PSSTFRPPTOU",19.495000000000001,{"$f":"CONCATENATE(\"dividendes\",\" \",'cooperators-41'!A55)","v":"dividendes ICEA-242"}]
["sepawin","2023-07-28","Roustan","FR7617807000121331940568476","CCBPFRPPTLS",3.899,{"$f":"CONCATENATE(\"dividendes\",\" \",'cooperators-41'!A56)","v":"dividendes ICEA-43"}]
["sepawin","2023-07-28","Rudinger","FR7617807000010551949911526","CCBPFRPPTLS",19.495000000000001,{"$f":"CONCATENATE(\"dividendes\",\" \",'cooperators-41'!A57)","v":"dividendes ICEA-78"}]
["sepawin","2023-07-28","Salin","FR7617807000333531911315858","CCBPFRPPTLS",5.5475000000000003,{"$f":"CONCATENATE(\"dividendes\",\" \",'cooperators-41'!A58)","v":"dividendes ICEA-243"}]
["sepawin","2023-07-28","Salin","FR7617807000333531911315858","CCBPFRPPTLS",21.693000000000001,{"$f":"CONCATENATE(\"dividendes\",\" \",'cooperators-41'!A59)","v":"dividendes ICEA-174"}]
["sepawin","2023-07-28","Salin","FR7617807000333531911315858","CCBPFRPPTLS",4.9980000000000002,{"$f":"CONCATENATE(\"dividendes\",\" \",'cooperators-41'!A60)","v":"dividendes ICEA-12"}]
["sepawin","2023-07-28","Salin","FR7617807000333531911315858","CCBPFRPPTLS",4.9980000000000002,{"$f":"CONCATENATE(\"dividendes\",\" \",'cooperators-41'!A61)","v":"dividendes ICEA-314"}]
["sepawin","2023-07-28","Serard","FR1220041010140237113K03558","PSSTFRPPROU",12.495000000000001,{"$f":"CONCATENATE(\"dividendes\",\" \",'cooperators-41'!A62)","v":"dividendes ICEA-312"}]
["sepawin","2023-07-28","SFEIR","FR7613106005001082016010173","AGRIFRPP831",19.495000000000001,{"$f":"CONCATENATE(\"dividendes\",\" \",'cooperators-41'!A63)","v":"dividendes ICEA-315"}]
["sepawin","2023-07-28","SFEIR","FR7613106005001082016010173","AGRIFRPP831",19.495000000000001,{"$f":"CONCATENATE(\"dividendes\",\" \",'cooperators-41'!A64)","v":"dividendes ICEA-316"}]
["sepawin","2023-07-28","Stevenet","FR7610278022180002016190171","CMCIFR2A",31.990000000000002,{"$f":"CONCATENATE(\"dividendes\",\" \",'cooperators-41'!A65)","v":"dividendes ICEA-238"}]
["sepawin","2023-07-28","TEYSSIER","FR18200410101607355340Z03796","PSSTFRPPTOU",12.495000000000001,{"$f":"CONCATENATE(\"dividendes\",\" \",'cooperators-41'!A66)","v":"dividendes ICEA-237"}]
["sepawin","2023-07-28","Thil","FR7613106005001566076410167","AGRIFRPP831",19.495000000000001,{"$f":"CONCATENATE(\"dividendes\",\" \",'cooperators-41'!A67)","v":"dividendes ICEA-359"}]
["sepawin","2023-07-28","Thil-Pulgar","FR7613106005001566076410167","AGRIFRPP831",19.495000000000001,{"$f":"CONCATENATE(\"dividendes\",\" \",'cooperators-41'!A68)","v":"dividendes ICEA-370"}]
["sepawin","2023-07-28","TROLONGE","FR7610278022180002056070169","CMCIFR2A",6.2475000000000005,{"$f":"CONCATENATE(\"dividendes\",\" \",'cooperators-41'!A69)","v":"dividendes ICEA-358"}]
["sepawin","2023-07-28","VAUCHAUSSADE de CHAUMONT","FR7613106005001272027210123","AGRIFRPP831",15.295000000000002,{"$f":"CONCATENATE(\"dividendes\",\" \",'cooperators-41'!A70)","v":"dividendes ICEA-63"}]
["sepawin","2023-07-28","Verhoog","FR18706000009750159911992","AGRIFRPP887",16.485000000000003,{"$f":"CONCATENATE(\"dividendes\",\" \",'cooperators-41'!A71)","v":"dividendes ICEA-357"}]
["sepawin","2023-07-28","VERHOOG","FR0620041010051809675H02625",null,5.495000000000001,{"$f":"CONCATENATE(\"dividendes\",\" \",'cooperators-41'!A72)","v":"dividendes ICEA-253"}]
["sepawin","2023-07-28","VERHOOG","FR7618706000007783740013068","AGRIFRPP887",16.485000000000003,{"$f":"CONCATENATE(\"dividendes\",\" \",'cooperators-41'!A73)","v":"dividendes ICEA-335"}]
["sepawin","2023-07-28","Wautelet","FR7614518292670287305624005","FTNOFRP1XXX",12.495000000000001,{"$f":"CONCATENATE(\"dividendes\",\" \",'cooperators-41'!A74)","v":"dividendes ICEA-275"}]
["sepawin","2023-07-28","Wautelet","FR7610278022120002064010194","CMCIFR2A",2.4990000000000001,{"$f":"CONCATENATE(\"dividendes\",\" \",'cooperators-41'!A75)","v":"dividendes ICEA-355"}]
["sepawin","2023-07-28","Wautelet","FR7614518292670287306164004","FTNOFRP1XXX",12.495000000000001,{"$f":"CONCATENATE(\"dividendes\",\" \",'cooperators-41'!A76)","v":"dividendes ICEA-168"}]
["sepawin","2023-07-28","Weisslinger","FR5420041010161634980U03736","PSSTFRPPTOU",1.9495,{"$f":"CONCATENATE(\"dividendes\",\" \",'cooperators-41'!A77)","v":"dividendes ICEA-367"}]
["sepawin","2023-07-28","Zaccaron","FR7613106005001192948610120","AGRIFRPP831",12.495000000000001,{"$f":"CONCATENATE(\"dividendes\",\" \",'cooperators-41'!A78)","v":"dividendes ICEA-257"}]

{"sheet":"Donnateur","index":2,"n_rows":77,"n_cols":1,"rows_kept":77,"cut":false,"hidden":false,"merged":[]}
["Donateurs"]
["Abrantes Philippe"]
["Adam Pascal"]
["Arevalo Henri"]
["Azzola Corinne"]
["Bages Annie"]
["Baldelli Paul"]
["Barde Joanne"]
["Barrere Anne-Sophie"]
["BENOIT Marilys"]
["Boscher Gabriel"]
["Bourrelle Monique"]
["Bouyssou Carole"]
["Bras Jean"]
["Bratina Maja"]
["Calba Daniel"]
["Casagrande Josephine "]
["Conjard Vincent"]
["Corberand Emma"]
["Debrusse Olivier"]
["Delheure Jeanne"]
["Desnos Sylvie"]
["Duquesnoy Bernard"]
["Emery Françoise"]
["Eynaudi Christine"]
["Fine Jeanne"]
["Fontan Guy "]
["Garcia Thérese"]
["Georget Eric"]
["Gibert Audrey"]
["Gilabert Marie-Claude"]
["Giraud Paule"]
["Hilaire Philippe"]
["Houlbert Christian"]
["Irvoas Anaëlle"]
["Irvoas Johann"]
["Irvoas Rozenn"]
["Isnard Fabien"]
["ISNARD Hélène"]
["Isnard-Richer Marine"]
["Isnard-Richer Maxence"]
["Isnard-Richer Nathalie"]
["Isnard-Richer Remi"]
["Janin Dominique"]
["Jeanpes Michelle"]
["Jover Sébastien"]
["Laborde Bertrand"]
["Laforge Aurelie"]
["lopes manuel"]
["MAITRE Marie Odile"]
["Miglos Alain"]
["Mignonat Jean-Louis"]
["Milonet Fréderique"]
["Moreau Sandrine"]
["Oberti Jacques"]
["Padiou Gérard"]
["Padiou Pierre"]
["Pascal Dominique"]
["Passade Philippe"]
["Pintard Martine"]
["Pourcher Marc"]
["Regnouf de Vains Geneviève"]
["Requillart Christine"]
["Robert Frédéric"]
["Robinet Nathalie"]
["Rosso Josiane"]
["SAINT-MACAIRE Suzy"]
["SAVES  la maire Marie-José"]
["Schmitz Christiane"]
["Segaud Danielle"]
["Serradell Jacques"]
["SERVEL EDWIGE"]
["Thil Anne-Marie"]
["Trébosc David"]
["Trébosc Florian"]
["Trébosc Marion"]
["Viez Claire"]